| Back to Multiple platform build/check report for BioC 3.10 |
|
This page was generated on 2020-04-15 12:49:48 -0400 (Wed, 15 Apr 2020).
| Package 1261/1823 | Hostname | OS / Arch | INSTALL | BUILD | CHECK | BUILD BIN | ||||||
| PhyloProfile 1.0.7 Vinh Tran
| malbec1 | Linux (Ubuntu 18.04.4 LTS) / x86_64 | OK | OK | OK | |||||||
| tokay1 | Windows Server 2012 R2 Standard / x64 | OK | OK | OK | OK | |||||||
| merida1 | OS X 10.11.6 El Capitan / x86_64 | OK | OK | OK | [ OK ] |
| Package: PhyloProfile |
| Version: 1.0.7 |
| Command: rm -rf PhyloProfile.buildbin-libdir && mkdir PhyloProfile.buildbin-libdir && /Users/biocbuild/BBS/utils/build-universal.sh PhyloProfile_1.0.7.tar.gz /Library/Frameworks/R.framework/Versions/Current/Resources/bin/R PhyloProfile.buildbin-libdir |
| StartedAt: 2020-04-15 08:20:27 -0400 (Wed, 15 Apr 2020) |
| EndedAt: 2020-04-15 08:21:26 -0400 (Wed, 15 Apr 2020) |
| EllapsedTime: 59.1 seconds |
| RetCode: 0 |
| Status: OK |
| PackageFile: PhyloProfile_1.0.7.tgz |
| PackageFileSize: 1.797 MiB |
############################################################################## ############################################################################## ### ### Running command: ### ### rm -rf PhyloProfile.buildbin-libdir && mkdir PhyloProfile.buildbin-libdir && /Users/biocbuild/BBS/utils/build-universal.sh PhyloProfile_1.0.7.tar.gz /Library/Frameworks/R.framework/Versions/Current/Resources/bin/R PhyloProfile.buildbin-libdir ### ############################################################################## ############################################################################## >>>>>>> >>>>>>> INSTALLATION WITH 'R CMD INSTALL --preclean --no-multiarch --library=PhyloProfile.buildbin-libdir PhyloProfile_1.0.7.tar.gz' >>>>>>> * installing *source* package ‘PhyloProfile’ ... ** using staged installation ** R ** data ** inst ** byte-compile and prepare package for lazy loading ** help *** installing help indices ** building package indices ** installing vignettes ** testing if installed package can be loaded from temporary location ** testing if installed package can be loaded from final location ** testing if installed package keeps a record of temporary installation path * DONE (PhyloProfile)