| Back to Multiple platform build/check report for BioC 3.10 | 
  | 
This page was generated on 2020-04-15 12:25:23 -0400 (Wed, 15 Apr 2020).
| Package 1222/1823 | Hostname | OS / Arch | INSTALL | BUILD | CHECK | BUILD BIN | ||||||
| Path2PPI 1.16.0 Oliver Philipp 
  | malbec1 | Linux (Ubuntu 18.04.4 LTS) / x86_64 | OK | OK | OK | |||||||
| tokay1 | Windows Server 2012 R2 Standard / x64 | [ OK ] | OK | OK | OK | |||||||
| merida1 | OS X 10.11.6 El Capitan / x86_64 | OK | OK | OK | OK | 
| Package: Path2PPI | 
| Version: 1.16.0 | 
| Command: C:\cygwin\bin\curl.exe -O https://malbec1.bioconductor.org/BBS/3.10/bioc/src/contrib/Path2PPI_1.16.0.tar.gz && rm -rf Path2PPI.buildbin-libdir && mkdir Path2PPI.buildbin-libdir && C:\Users\biocbuild\bbs-3.10-bioc\R\bin\R.exe CMD INSTALL --merge-multiarch --build --library=Path2PPI.buildbin-libdir Path2PPI_1.16.0.tar.gz && C:\Users\biocbuild\bbs-3.10-bioc\R\bin\R.exe CMD INSTALL Path2PPI_1.16.0.zip && rm Path2PPI_1.16.0.tar.gz Path2PPI_1.16.0.zip | 
| StartedAt: 2020-04-14 19:18:44 -0400 (Tue, 14 Apr 2020) | 
| EndedAt: 2020-04-14 19:19:03 -0400 (Tue, 14 Apr 2020) | 
| EllapsedTime: 18.7 seconds | 
| RetCode: 0 | 
| Status: OK | 
##############################################################################
##############################################################################
###
### Running command:
###
###   C:\cygwin\bin\curl.exe -O https://malbec1.bioconductor.org/BBS/3.10/bioc/src/contrib/Path2PPI_1.16.0.tar.gz && rm -rf Path2PPI.buildbin-libdir && mkdir Path2PPI.buildbin-libdir && C:\Users\biocbuild\bbs-3.10-bioc\R\bin\R.exe CMD INSTALL --merge-multiarch --build --library=Path2PPI.buildbin-libdir Path2PPI_1.16.0.tar.gz && C:\Users\biocbuild\bbs-3.10-bioc\R\bin\R.exe CMD INSTALL Path2PPI_1.16.0.zip && rm Path2PPI_1.16.0.tar.gz Path2PPI_1.16.0.zip
###
##############################################################################
##############################################################################
  % Total    % Received % Xferd  Average Speed   Time    Time     Time  Current
                                 Dload  Upload   Total   Spent    Left  Speed
  0     0    0     0    0     0      0      0 --:--:-- --:--:-- --:--:--     0
100  617k  100  617k    0     0  16.6M      0 --:--:-- --:--:-- --:--:-- 18.8M
install for i386
* installing *source* package 'Path2PPI' ...
** using staged installation
** R
** data
** inst
** byte-compile and prepare package for lazy loading
** help
*** installing help indices
  converting help for package 'Path2PPI'
    finding HTML links ... done
    Path2PPI                                html  
    addReference                            html  
    ai                                      html  
    getHybridNetwork                        html  
    getPPI                                  html  
    homologyScore                           html  
    plot.Path2PPI                           html  
    finding level-2 HTML links ... done
    predictPPI                              html  
    removeReference                         html  
    showInteraction                         html  
    showReferences                          html  
** building package indices
** installing vignettes
** testing if installed package can be loaded from temporary location
** testing if installed package can be loaded from final location
** testing if installed package keeps a record of temporary installation path
install for x64
* installing *source* package 'Path2PPI' ...
** testing if installed package can be loaded
* MD5 sums
packaged installation of 'Path2PPI' as Path2PPI_1.16.0.zip
* DONE (Path2PPI)
* installing to library 'C:/Users/biocbuild/bbs-3.10-bioc/R/library'
package 'Path2PPI' successfully unpacked and MD5 sums checked