| Back to Multiple platform build/check report for BioC 3.10 |
|
This page was generated on 2020-04-15 12:22:23 -0400 (Wed, 15 Apr 2020).
| Package 1326/1823 | Hostname | OS / Arch | INSTALL | BUILD | CHECK | BUILD BIN | ||||||
| PSICQUIC 1.24.0 Paul Shannon
| malbec1 | Linux (Ubuntu 18.04.4 LTS) / x86_64 | OK | OK | WARNINGS | |||||||
| tokay1 | Windows Server 2012 R2 Standard / x64 | OK | OK | ERROR | [ OK ] | |||||||
| merida1 | OS X 10.11.6 El Capitan / x86_64 | OK | OK | WARNINGS | OK |
| Package: PSICQUIC |
| Version: 1.24.0 |
| Command: rm -rf PSICQUIC.buildbin-libdir && mkdir PSICQUIC.buildbin-libdir && C:\Users\biocbuild\bbs-3.10-bioc\R\bin\R.exe CMD INSTALL --merge-multiarch --build --library=PSICQUIC.buildbin-libdir PSICQUIC_1.24.0.tar.gz |
| StartedAt: 2020-04-15 09:26:40 -0400 (Wed, 15 Apr 2020) |
| EndedAt: 2020-04-15 09:27:24 -0400 (Wed, 15 Apr 2020) |
| EllapsedTime: 43.9 seconds |
| RetCode: 0 |
| Status: OK |
| PackageFile: PSICQUIC_1.24.0.zip |
| PackageFileSize: 404.9 KiB |
##############################################################################
##############################################################################
###
### Running command:
###
### rm -rf PSICQUIC.buildbin-libdir && mkdir PSICQUIC.buildbin-libdir && C:\Users\biocbuild\bbs-3.10-bioc\R\bin\R.exe CMD INSTALL --merge-multiarch --build --library=PSICQUIC.buildbin-libdir PSICQUIC_1.24.0.tar.gz
###
##############################################################################
##############################################################################
install for i386
* installing *source* package 'PSICQUIC' ...
** using staged installation
** R
** inst
** byte-compile and prepare package for lazy loading
Warning: replacing previous import 'IRanges::desc' by 'plyr::desc' when loading 'PSICQUIC'
Creating a new generic function for 'count' in package 'PSICQUIC'
** help
*** installing help indices
converting help for package 'PSICQUIC'
finding HTML links ... done
IDMapper-class html
PSICQUIC-class html
PSICQUIC-package html
interactions html
providers html
rawQuery html
webBrowser-functions html
** building package indices
** installing vignettes
** testing if installed package can be loaded from temporary location
Warning: replacing previous import 'IRanges::desc' by 'plyr::desc' when loading 'PSICQUIC'
** testing if installed package can be loaded from final location
Warning: replacing previous import 'IRanges::desc' by 'plyr::desc' when loading 'PSICQUIC'
** testing if installed package keeps a record of temporary installation path
install for x64
* installing *source* package 'PSICQUIC' ...
** testing if installed package can be loaded
Warning: replacing previous import 'IRanges::desc' by 'plyr::desc' when loading 'PSICQUIC'
* MD5 sums
packaged installation of 'PSICQUIC' as PSICQUIC_1.24.0.zip
* DONE (PSICQUIC)