| Back to Multiple platform build/check report for BioC 3.10 |
|
This page was generated on 2020-04-15 12:33:20 -0400 (Wed, 15 Apr 2020).
| Package 1248/1823 | Hostname | OS / Arch | INSTALL | BUILD | CHECK | BUILD BIN | ||||||
| PERFect 1.0.0 Quy Cao
| malbec1 | Linux (Ubuntu 18.04.4 LTS) / x86_64 | OK | OK | OK | |||||||
| tokay1 | Windows Server 2012 R2 Standard / x64 | OK | OK | OK | [ OK ] | |||||||
| merida1 | OS X 10.11.6 El Capitan / x86_64 | OK | OK | OK | OK |
| Package: PERFect |
| Version: 1.0.0 |
| Command: rm -rf PERFect.buildbin-libdir && mkdir PERFect.buildbin-libdir && C:\Users\biocbuild\bbs-3.10-bioc\R\bin\R.exe CMD INSTALL --merge-multiarch --build --library=PERFect.buildbin-libdir PERFect_1.0.0.tar.gz |
| StartedAt: 2020-04-15 09:22:06 -0400 (Wed, 15 Apr 2020) |
| EndedAt: 2020-04-15 09:22:44 -0400 (Wed, 15 Apr 2020) |
| EllapsedTime: 38.2 seconds |
| RetCode: 0 |
| Status: OK |
| PackageFile: PERFect_1.0.0.zip |
| PackageFileSize: 691.2 KiB |
##############################################################################
##############################################################################
###
### Running command:
###
### rm -rf PERFect.buildbin-libdir && mkdir PERFect.buildbin-libdir && C:\Users\biocbuild\bbs-3.10-bioc\R\bin\R.exe CMD INSTALL --merge-multiarch --build --library=PERFect.buildbin-libdir PERFect_1.0.0.tar.gz
###
##############################################################################
##############################################################################
install for i386
* installing *source* package 'PERFect' ...
** using staged installation
** R
** data
** inst
** byte-compile and prepare package for lazy loading
** help
*** installing help indices
converting help for package 'PERFect'
finding HTML links ... done
DiffFiltLoss html
FL_J html
FiltLoss html
NC_Order html
NCw_Order html
NP_Order html
PERFect_perm html
PERFect_perm_reorder html
PERFect_sim html
TraditR1 html
TraditR2 html
mock2 html
pvals_Order html
pvals_Plots html
** building package indices
** installing vignettes
** testing if installed package can be loaded from temporary location
** testing if installed package can be loaded from final location
** testing if installed package keeps a record of temporary installation path
install for x64
* installing *source* package 'PERFect' ...
** testing if installed package can be loaded
* MD5 sums
packaged installation of 'PERFect' as PERFect_1.0.0.zip
* DONE (PERFect)