| Back to Multiple platform build/check report for BioC 3.10 |
|
This page was generated on 2020-04-15 12:43:17 -0400 (Wed, 15 Apr 2020).
| Package 1237/1823 | Hostname | OS / Arch | INSTALL | BUILD | CHECK | BUILD BIN | ||||||
| PCAN 1.14.0 Matthew Page
| malbec1 | Linux (Ubuntu 18.04.4 LTS) / x86_64 | OK | OK | OK | |||||||
| tokay1 | Windows Server 2012 R2 Standard / x64 | OK | OK | OK | OK | |||||||
| merida1 | OS X 10.11.6 El Capitan / x86_64 | OK | OK | OK | [ OK ] |
| Package: PCAN |
| Version: 1.14.0 |
| Command: rm -rf PCAN.buildbin-libdir && mkdir PCAN.buildbin-libdir && /Users/biocbuild/BBS/utils/build-universal.sh PCAN_1.14.0.tar.gz /Library/Frameworks/R.framework/Versions/Current/Resources/bin/R PCAN.buildbin-libdir |
| StartedAt: 2020-04-15 08:18:29 -0400 (Wed, 15 Apr 2020) |
| EndedAt: 2020-04-15 08:19:36 -0400 (Wed, 15 Apr 2020) |
| EllapsedTime: 67.4 seconds |
| RetCode: 0 |
| Status: OK |
| PackageFile: PCAN_1.14.0.tgz |
| PackageFileSize: 2.612 MiB |
############################################################################## ############################################################################## ### ### Running command: ### ### rm -rf PCAN.buildbin-libdir && mkdir PCAN.buildbin-libdir && /Users/biocbuild/BBS/utils/build-universal.sh PCAN_1.14.0.tar.gz /Library/Frameworks/R.framework/Versions/Current/Resources/bin/R PCAN.buildbin-libdir ### ############################################################################## ############################################################################## >>>>>>> >>>>>>> INSTALLATION WITH 'R CMD INSTALL --preclean --no-multiarch --library=PCAN.buildbin-libdir PCAN_1.14.0.tar.gz' >>>>>>> * installing *source* package ‘PCAN’ ... ** using staged installation ** R ** data ** inst ** byte-compile and prepare package for lazy loading ** help *** installing help indices ** building package indices ** installing vignettes ** testing if installed package can be loaded from temporary location ** testing if installed package can be loaded from final location ** testing if installed package keeps a record of temporary installation path * DONE (PCAN)