| Back to Multiple platform build/check report for BioC 3.10 | 
 | 
This page was generated on 2020-04-15 12:07:06 -0400 (Wed, 15 Apr 2020).
| Package 1210/1823 | Hostname | OS / Arch | INSTALL | BUILD | CHECK | BUILD BIN | ||||||
| PADOG 1.28.0 Adi Laurentiu Tarca 
 | malbec1 | Linux (Ubuntu 18.04.4 LTS) / x86_64 | OK | [ OK ] | OK |  | ||||||
| tokay1 | Windows Server 2012 R2 Standard / x64 | OK | OK | OK | OK |  | ||||||
| merida1 | OS X 10.11.6 El Capitan / x86_64 | OK | OK | OK | OK |  | 
| Package: PADOG | 
| Version: 1.28.0 | 
| Command: /home/biocbuild/bbs-3.10-bioc/R/bin/R CMD build --keep-empty-dirs --no-resave-data PADOG | 
| StartedAt: 2020-04-14 20:18:06 -0400 (Tue, 14 Apr 2020) | 
| EndedAt: 2020-04-14 20:20:27 -0400 (Tue, 14 Apr 2020) | 
| EllapsedTime: 140.9 seconds | 
| RetCode: 0 | 
| Status: OK | 
| PackageFile: PADOG_1.28.0.tar.gz | 
| PackageFileSize: 229.9 KiB | 
############################################################################## ############################################################################## ### ### Running command: ### ### /home/biocbuild/bbs-3.10-bioc/R/bin/R CMD build --keep-empty-dirs --no-resave-data PADOG ### ############################################################################## ############################################################################## * checking for file ‘PADOG/DESCRIPTION’ ... OK * preparing ‘PADOG’: * checking DESCRIPTION meta-information ... OK * installing the package to build vignettes * creating vignettes ... OK * checking for LF line-endings in source and make files and shell scripts * checking for empty or unneeded directories * building ‘PADOG_1.28.0.tar.gz’