| Back to Multiple platform build/check report for BioC 3.10 | 
  | 
This page was generated on 2020-04-15 12:50:17 -0400 (Wed, 15 Apr 2020).
| Package 1184/1823 | Hostname | OS / Arch | INSTALL | BUILD | CHECK | BUILD BIN | ||||||
| OmnipathR 1.0.1 Alberto Valdeolivas Urbelz 
  | malbec1 | Linux (Ubuntu 18.04.4 LTS) / x86_64 | OK | OK | OK | |||||||
| tokay1 | Windows Server 2012 R2 Standard / x64 | OK | OK | ERROR | OK | |||||||
| merida1 | OS X 10.11.6 El Capitan / x86_64 | OK | OK | OK | [ OK ] | 
| Package: OmnipathR | 
| Version: 1.0.1 | 
| Command: rm -rf OmnipathR.buildbin-libdir && mkdir OmnipathR.buildbin-libdir && /Users/biocbuild/BBS/utils/build-universal.sh OmnipathR_1.0.1.tar.gz /Library/Frameworks/R.framework/Versions/Current/Resources/bin/R OmnipathR.buildbin-libdir | 
| StartedAt: 2020-04-15 08:14:11 -0400 (Wed, 15 Apr 2020) | 
| EndedAt: 2020-04-15 08:15:02 -0400 (Wed, 15 Apr 2020) | 
| EllapsedTime: 50.1 seconds | 
| RetCode: 0 | 
| Status: OK | 
| PackageFile: OmnipathR_1.0.1.tgz | 
| PackageFileSize: 377.2 KiB | 
############################################################################## ############################################################################## ### ### Running command: ### ### rm -rf OmnipathR.buildbin-libdir && mkdir OmnipathR.buildbin-libdir && /Users/biocbuild/BBS/utils/build-universal.sh OmnipathR_1.0.1.tar.gz /Library/Frameworks/R.framework/Versions/Current/Resources/bin/R OmnipathR.buildbin-libdir ### ############################################################################## ############################################################################## >>>>>>> >>>>>>> INSTALLATION WITH 'R CMD INSTALL --preclean --no-multiarch --library=OmnipathR.buildbin-libdir OmnipathR_1.0.1.tar.gz' >>>>>>> * installing *source* package ‘OmnipathR’ ... ** using staged installation ** R ** inst ** byte-compile and prepare package for lazy loading ** help *** installing help indices ** building package indices ** installing vignettes ** testing if installed package can be loaded from temporary location ** testing if installed package can be loaded from final location ** testing if installed package keeps a record of temporary installation path * DONE (OmnipathR)