| Back to Multiple platform build/check report for BioC 3.10 | 
 | 
This page was generated on 2020-04-15 12:30:49 -0400 (Wed, 15 Apr 2020).
| Package 1207/1823 | Hostname | OS / Arch | INSTALL | BUILD | CHECK | BUILD BIN | ||||||
| OUTRIDER 1.4.2 Christian Mertes 
 | malbec1 | Linux (Ubuntu 18.04.4 LTS) / x86_64 | OK | OK | OK |  | ||||||
| tokay1 | Windows Server 2012 R2 Standard / x64 | OK | [ OK ] | OK | OK |  | ||||||
| merida1 | OS X 10.11.6 El Capitan / x86_64 | OK | OK | OK | OK |  | 
| Package: OUTRIDER | 
| Version: 1.4.2 | 
| Command: chmod a+r OUTRIDER -R && C:\Users\biocbuild\bbs-3.10-bioc\R\bin\R.exe CMD build --keep-empty-dirs --no-resave-data OUTRIDER | 
| StartedAt: 2020-04-15 00:11:34 -0400 (Wed, 15 Apr 2020) | 
| EndedAt: 2020-04-15 00:27:35 -0400 (Wed, 15 Apr 2020) | 
| EllapsedTime: 960.4 seconds | 
| RetCode: 0 | 
| Status: OK | 
| PackageFile: OUTRIDER_1.4.2.tar.gz | 
| PackageFileSize: 1.65 MiB | 
############################################################################## ############################################################################## ### ### Running command: ### ### chmod a+r OUTRIDER -R && C:\Users\biocbuild\bbs-3.10-bioc\R\bin\R.exe CMD build --keep-empty-dirs --no-resave-data OUTRIDER ### ############################################################################## ############################################################################## * checking for file 'OUTRIDER/DESCRIPTION' ... OK * preparing 'OUTRIDER': * checking DESCRIPTION meta-information ... OK * cleaning src * installing the package to build vignettes * creating vignettes ... OK * cleaning src * checking for LF line-endings in source and make files and shell scripts * checking for empty or unneeded directories * building 'OUTRIDER_1.4.2.tar.gz'