| Back to Multiple platform build/check report for BioC 3.10 |
|
This page was generated on 2020-04-15 12:14:17 -0400 (Wed, 15 Apr 2020).
| Package 1200/1823 | Hostname | OS / Arch | INSTALL | BUILD | CHECK | BUILD BIN | ||||||
| ORFik 1.6.9 Haakon Tjeldnes
| malbec1 | Linux (Ubuntu 18.04.4 LTS) / x86_64 | OK | OK | [ OK ] | |||||||
| tokay1 | Windows Server 2012 R2 Standard / x64 | OK | OK | OK | OK | |||||||
| merida1 | OS X 10.11.6 El Capitan / x86_64 | OK | OK | OK | OK |
| Package: ORFik |
| Version: 1.6.9 |
| Command: /home/biocbuild/bbs-3.10-bioc/R/bin/R CMD check --install=check:ORFik.install-out.txt --library=/home/biocbuild/bbs-3.10-bioc/R/library --no-vignettes --timings ORFik_1.6.9.tar.gz |
| StartedAt: 2020-04-15 05:46:25 -0400 (Wed, 15 Apr 2020) |
| EndedAt: 2020-04-15 05:53:32 -0400 (Wed, 15 Apr 2020) |
| EllapsedTime: 427.0 seconds |
| RetCode: 0 |
| Status: OK |
| CheckDir: ORFik.Rcheck |
| Warnings: 0 |
##############################################################################
##############################################################################
###
### Running command:
###
### /home/biocbuild/bbs-3.10-bioc/R/bin/R CMD check --install=check:ORFik.install-out.txt --library=/home/biocbuild/bbs-3.10-bioc/R/library --no-vignettes --timings ORFik_1.6.9.tar.gz
###
##############################################################################
##############################################################################
* using log directory ‘/home/biocbuild/bbs-3.10-bioc/meat/ORFik.Rcheck’
* using R version 3.6.3 (2020-02-29)
* using platform: x86_64-pc-linux-gnu (64-bit)
* using session charset: UTF-8
* using option ‘--no-vignettes’
* checking for file ‘ORFik/DESCRIPTION’ ... OK
* checking extension type ... Package
* this is package ‘ORFik’ version ‘1.6.9’
* package encoding: UTF-8
* checking package namespace information ... OK
* checking package dependencies ... OK
* checking if this is a source package ... OK
* checking if there is a namespace ... OK
* checking for hidden files and directories ... OK
* checking for portable file names ... OK
* checking for sufficient/correct file permissions ... OK
* checking whether package ‘ORFik’ can be installed ... OK
* checking installed package size ... OK
* checking package directory ... OK
* checking ‘build’ directory ... OK
* checking DESCRIPTION meta-information ... OK
* checking top-level files ... OK
* checking for left-over files ... OK
* checking index information ... OK
* checking package subdirectories ... OK
* checking R files for non-ASCII characters ... OK
* checking R files for syntax errors ... OK
* checking whether the package can be loaded ... OK
* checking whether the package can be loaded with stated dependencies ... OK
* checking whether the package can be unloaded cleanly ... OK
* checking whether the namespace can be loaded with stated dependencies ... OK
* checking whether the namespace can be unloaded cleanly ... OK
* checking dependencies in R code ... NOTE
Unexported objects imported by ':::' calls:
‘GenomicFeatures:::.merge_seqinfo_and_infer_missing_seqlengths’
‘IRanges:::regroupBySupergroup’
See the note in ?`:::` about the use of this operator.
* checking S3 generic/method consistency ... OK
* checking replacement functions ... OK
* checking foreign function calls ... OK
* checking R code for possible problems ... NOTE
ORFikQC: no visible binding for global variable ‘leaders’
ORFikQC: no visible binding for global variable ‘ratio_mrna_aligned’
ORFikQC: no visible binding for global variable ‘mRNA’
ORFikQC: no visible binding for global variable ‘ratio_cds_mrna’
ORFikQC: no visible binding for global variable ‘CDS’
ORFikQC: no visible binding for global variable ‘ratio_cds_leader’
ORFikQC: no visible binding for global variable ‘LEADERS’
ORFikQC: no visible binding for global variable ‘tx’
ORFikQC: no visible global function definition for ‘write.csv’
QCplots: no visible binding for global variable ‘leaders’
QCplots: no visible binding for global variable ‘trailers’
allFeaturesHelper: no visible binding for global variable ‘te’
allFeaturesHelper: no visible binding for global variable ‘fpkmRFP’
allFeaturesHelper: no visible binding for global variable ‘fpkmRNA’
allFeaturesHelper: no visible binding for global variable ‘countRFP’
allFeaturesHelper: no visible binding for global variable ‘entropyRFP’
allFeaturesHelper: no visible binding for global variable
‘disengagementScores’
allFeaturesHelper: no visible binding for global variable ‘RRS’
allFeaturesHelper: no visible binding for global variable ‘RSS’
allFeaturesHelper: no visible binding for global variable
‘fractionLengths’
allFeaturesHelper: no visible binding for global variable ‘ORFScores’
allFeaturesHelper: no visible binding for global variable ‘ioScore’
allFeaturesHelper: no visible binding for global variable ‘kozak’
allFeaturesHelper: no visible binding for global variable ‘distORFCDS’
allFeaturesHelper: no visible binding for global variable ‘inFrameCDS’
allFeaturesHelper: no visible binding for global variable
‘isOverlappingCds’
allFeaturesHelper: no visible binding for global variable ‘rankInTx’
convertToOneBasedRanges: no visible binding for global variable ‘size’
convertToOneBasedRanges: no visible global function definition for ‘.’
coverageHeatMap: no visible binding for global variable ‘position’
coverageHeatMap: no visible binding for global variable ‘fraction’
coveragePerTiling: no visible binding for global variable ‘ones’
coveragePerTiling: no visible binding for global variable ‘position’
coveragePerTiling: no visible binding for global variable ‘frame’
coverageScorings: no visible binding for global variable ‘count’
coverageScorings: no visible binding for global variable ‘zscore’
coverageScorings: no visible binding for global variable ‘windowMean’
coverageScorings: no visible binding for global variable ‘windowSD’
coverageScorings: no visible global function definition for ‘.’
coverageScorings: no visible binding for global variable ‘gene_sum’
create.experiment: no visible global function definition for ‘View’
detectRibosomeShifts: no visible global function definition for ‘.’
detectRibosomeShifts: no visible binding for global variable ‘fraction’
detectRibosomeShifts: no visible binding for global variable
‘offsets_start’
entropy: no visible binding for global variable ‘Hx’
entropy: no visible binding for global variable ‘codonSums’
entropy: no visible global function definition for ‘.’
filterTranscripts: no visible binding for global variable ‘utr5_len’
filterTranscripts: no visible binding for global variable ‘utr3_len’
gSort: no visible binding for global variable ‘grnames’
getNGenesCoverage: no visible global function definition for ‘.’
getNGenesCoverage: no visible binding for global variable ‘fraction’
initiationScore: no visible global function definition for ‘.’
initiationScore: no visible binding for global variable ‘dif’
initiationScore: no visible binding for global variable ‘fraction’
initiationScore: no visible binding for global variable ‘difPer’
kozakHeatmap: no visible global function definition for ‘.’
kozakHeatmap: no visible binding for global variable ‘variable’
kozakHeatmap: no visible binding for global variable ‘value’
kozakHeatmap: no visible binding for global variable
‘count_seq_pos_with_count’
kozakHeatmap: no visible binding for global variable ‘median_score’
longestORFs: no visible global function definition for ‘.’
metaWindow: no visible binding for global variable ‘position’
metaWindow: no visible binding for global variable ‘frame’
orfScore: no visible binding for global variable ‘frame’
orfScore: no visible binding for global variable ‘frame_one_RP’
orfScore: no visible binding for global variable ‘frame_two_RP’
pSitePlot: no visible binding for global variable ‘count’
pSitePlot: no visible binding for global variable ‘frame’
pSitePlot: no visible binding for global variable ‘position’
read.experiment: no visible global function definition for ‘read.table’
read.experiment: no visible global function definition for ‘read.csv2’
remakeTxdbExonIds: no visible global function definition for ‘.’
remakeTxdbExonIds: no visible binding for global variable ‘chr’
removeTxdbExons: no visible binding for global variable ‘exon_rank’
removeTxdbExons: no visible binding for global variable ‘ranks’
rnaNormalize: no visible binding for global variable ‘feature’
save.experiment: no visible global function definition for
‘write.table’
scaledWindowPositions: no visible binding for global variable
‘scalingFactor’
scaledWindowPositions: no visible binding for global variable
‘position’
scaledWindowPositions: no visible global function definition for ‘.’
scoreSummarizedExperiment: no visible global function definition for
‘rowSums2’
transcriptWindow: no visible binding for global variable ‘fractions’
windowCoveragePlot: no visible binding for global variable ‘feature’
windowCoveragePlot: no visible binding for global variable ‘fraction’
windowCoveragePlot: no visible binding for global variable
‘fraction_min’
windowCoveragePlot: no visible binding for global variable ‘position’
nrow,experiment: no visible global function definition for ‘as’
show,experiment: no visible global function definition for ‘as’
Undefined global functions or variables:
. CDS Hx LEADERS ORFScores RRS RSS View as chr codonSums count
countRFP count_seq_pos_with_count dif difPer disengagementScores
distORFCDS entropyRFP exon_rank feature fpkmRFP fpkmRNA fraction
fractionLengths fraction_min fractions frame frame_one_RP
frame_two_RP gene_sum grnames inFrameCDS ioScore isOverlappingCds
kozak leaders mRNA median_score offsets_start ones position rankInTx
ranks ratio_cds_leader ratio_cds_mrna ratio_mrna_aligned read.csv2
read.table rowSums2 scalingFactor size te trailers tx utr3_len
utr5_len value variable windowMean windowSD write.csv write.table
zscore
Consider adding
importFrom("graphics", "frame")
importFrom("methods", "as")
importFrom("utils", "View", "read.csv2", "read.table", "write.csv",
"write.table")
to your NAMESPACE file (and ensure that your DESCRIPTION Imports field
contains 'methods').
* checking Rd files ... OK
* checking Rd metadata ... OK
* checking Rd cross-references ... OK
* checking for missing documentation entries ... OK
* checking for code/documentation mismatches ... OK
* checking Rd \usage sections ... OK
* checking Rd contents ... OK
* checking for unstated dependencies in examples ... OK
* checking line endings in C/C++/Fortran sources/headers ... OK
* checking line endings in Makefiles ... OK
* checking compilation flags in Makevars ... OK
* checking for GNU extensions in Makefiles ... OK
* checking for portable use of $(BLAS_LIBS) and $(LAPACK_LIBS) ... OK
* checking compiled code ... NOTE
Note: information on .o files is not available
* checking files in ‘vignettes’ ... OK
* checking examples ... OK
Examples with CPU or elapsed time > 5s
user system elapsed
computeFeatures 13.772 0.176 9.431
* checking for unstated dependencies in ‘tests’ ... OK
* checking tests ...
Running ‘testthat.R’
OK
* checking for unstated dependencies in vignettes ... OK
* checking package vignettes in ‘inst/doc’ ... OK
* checking running R code from vignettes ... SKIPPED
* checking re-building of vignette outputs ... SKIPPED
* checking PDF version of manual ... OK
* DONE
Status: 3 NOTEs
See
‘/home/biocbuild/bbs-3.10-bioc/meat/ORFik.Rcheck/00check.log’
for details.
ORFik.Rcheck/00install.out
##############################################################################
##############################################################################
###
### Running command:
###
### /home/biocbuild/bbs-3.10-bioc/R/bin/R CMD INSTALL ORFik
###
##############################################################################
##############################################################################
* installing to library ‘/home/biocbuild/bbs-3.10-bioc/R/library’
* installing *source* package ‘ORFik’ ...
** using staged installation
** libs
g++ -std=gnu++11 -I"/home/biocbuild/bbs-3.10-bioc/R/include" -DNDEBUG -I"/home/biocbuild/bbs-3.10-bioc/R/library/Rcpp/include" -I/usr/local/include -fpic -g -O2 -Wall -c RcppExports.cpp -o RcppExports.o
g++ -std=gnu++11 -I"/home/biocbuild/bbs-3.10-bioc/R/include" -DNDEBUG -I"/home/biocbuild/bbs-3.10-bioc/R/library/Rcpp/include" -I/usr/local/include -fpic -g -O2 -Wall -c findORFsHelpers.cpp -o findORFsHelpers.o
findORFsHelpers.cpp: In function ‘void calc_z(const string&, vi&)’:
findORFsHelpers.cpp:57:7: warning: this ‘for’ clause does not guard... [-Wmisleading-indentation]
for (z[i] = r - i; r < len; ++r, ++z[i])
^~~
findORFsHelpers.cpp:60:9: note: ...this statement, but the latter is misleadingly indented as if it were guarded by the ‘for’
--r;
^~
findORFsHelpers.cpp: In function ‘Rcpp::IntegerMatrix orfs_as_matrix(std::__cxx11::string&, std::__cxx11::string, std::__cxx11::string, int)’:
findORFsHelpers.cpp:212:21: warning: comparison between signed and unsigned integer expressions [-Wsign-compare]
for (int i = 0; i < uorfSize/2; i++) {
~~^~~~~~~~~~~~
g++ -std=gnu++11 -I"/home/biocbuild/bbs-3.10-bioc/R/include" -DNDEBUG -I"/home/biocbuild/bbs-3.10-bioc/R/library/Rcpp/include" -I/usr/local/include -fpic -g -O2 -Wall -c findOrfs.cpp -o findOrfs.o
g++ -std=gnu++11 -I"/home/biocbuild/bbs-3.10-bioc/R/include" -DNDEBUG -I"/home/biocbuild/bbs-3.10-bioc/R/library/Rcpp/include" -I/usr/local/include -fpic -g -O2 -Wall -c findOrfsFasta.cpp -o findOrfsFasta.o
g++ -std=gnu++11 -I"/home/biocbuild/bbs-3.10-bioc/R/include" -DNDEBUG -I"/home/biocbuild/bbs-3.10-bioc/R/library/Rcpp/include" -I/usr/local/include -fpic -g -O2 -Wall -c pmapFromTranscripts.cpp -o pmapFromTranscripts.o
pmapFromTranscripts.cpp: In function ‘Rcpp::List pmapFromTranscriptsCPP(const std::vector<int>&, const std::vector<int>&, const std::vector<int>&, const std::vector<int>&, const std::vector<int>&, const char&, bool)’:
pmapFromTranscripts.cpp:151:20: warning: comparison between signed and unsigned integer expressions [-Wsign-compare]
for(auto i = 0;i < xSize; i++){
~~^~~~~~~
pmapFromTranscripts.cpp:155:21: warning: comparison between signed and unsigned integer expressions [-Wsign-compare]
for(auto i = 0; i < indexSize; i++){
~~^~~~~~~~~~~
pmapFromTranscripts.cpp:161:21: warning: comparison between signed and unsigned integer expressions [-Wsign-compare]
for(auto i = 1; i < indexSize; i++){
~~^~~~~~~~~~~
g++ -std=gnu++11 -shared -L/home/biocbuild/bbs-3.10-bioc/R/lib -L/usr/local/lib -o ORFik.so RcppExports.o findORFsHelpers.o findOrfs.o findOrfsFasta.o pmapFromTranscripts.o -L/home/biocbuild/bbs-3.10-bioc/R/lib -lR
installing to /home/biocbuild/bbs-3.10-bioc/R/library/00LOCK-ORFik/00new/ORFik/libs
** R
** inst
** byte-compile and prepare package for lazy loading
** help
*** installing help indices
** building package indices
** installing vignettes
** testing if installed package can be loaded from temporary location
** checking absolute paths in shared objects and dynamic libraries
** testing if installed package can be loaded from final location
** testing if installed package keeps a record of temporary installation path
* DONE (ORFik)
ORFik.Rcheck/tests/testthat.Rout
R version 3.6.3 (2020-02-29) -- "Holding the Windsock"
Copyright (C) 2020 The R Foundation for Statistical Computing
Platform: x86_64-pc-linux-gnu (64-bit)
R is free software and comes with ABSOLUTELY NO WARRANTY.
You are welcome to redistribute it under certain conditions.
Type 'license()' or 'licence()' for distribution details.
R is a collaborative project with many contributors.
Type 'contributors()' for more information and
'citation()' on how to cite R or R packages in publications.
Type 'demo()' for some demos, 'help()' for on-line help, or
'help.start()' for an HTML browser interface to help.
Type 'q()' to quit R.
> library(testthat)
> library(ORFik)
Loading required package: IRanges
Loading required package: BiocGenerics
Loading required package: parallel
Attaching package: 'BiocGenerics'
The following objects are masked from 'package:parallel':
clusterApply, clusterApplyLB, clusterCall, clusterEvalQ,
clusterExport, clusterMap, parApply, parCapply, parLapply,
parLapplyLB, parRapply, parSapply, parSapplyLB
The following objects are masked from 'package:stats':
IQR, mad, sd, var, xtabs
The following objects are masked from 'package:base':
Filter, Find, Map, Position, Reduce, anyDuplicated, append,
as.data.frame, basename, cbind, colnames, dirname, do.call,
duplicated, eval, evalq, get, grep, grepl, intersect, is.unsorted,
lapply, mapply, match, mget, order, paste, pmax, pmax.int, pmin,
pmin.int, rank, rbind, rownames, sapply, setdiff, sort, table,
tapply, union, unique, unsplit, which, which.max, which.min
Loading required package: S4Vectors
Loading required package: stats4
Attaching package: 'S4Vectors'
The following object is masked from 'package:base':
expand.grid
Loading required package: GenomicRanges
Loading required package: GenomeInfoDb
Loading required package: GenomicAlignments
Loading required package: SummarizedExperiment
Loading required package: Biobase
Welcome to Bioconductor
Vignettes contain introductory material; view with
'browseVignettes()'. To cite Bioconductor, see
'citation("Biobase")', and for packages 'citation("pkgname")'.
Loading required package: DelayedArray
Loading required package: matrixStats
Attaching package: 'matrixStats'
The following objects are masked from 'package:Biobase':
anyMissing, rowMedians
Loading required package: BiocParallel
Attaching package: 'DelayedArray'
The following objects are masked from 'package:matrixStats':
colMaxs, colMins, colRanges, rowMaxs, rowMins, rowRanges
The following objects are masked from 'package:base':
aperm, apply, rowsum
Loading required package: Biostrings
Loading required package: XVector
Attaching package: 'Biostrings'
The following object is masked from 'package:base':
strsplit
Loading required package: Rsamtools
>
> test_check("ORFik")
[1] "ORFik_cage"
[1] "ORFik_ribo-seq_fheart"
[1] "ORFik_ribo-seq"
[1] "ORFik_rna-seq"
[1] "ORFik_ribo-seq"
══ testthat results ═══════════════════════════════════════════════════════════
[ OK: 293 | SKIPPED: 0 | WARNINGS: 0 | FAILED: 0 ]
>
> proc.time()
user system elapsed
134.052 2.180 96.142
ORFik.Rcheck/ORFik-Ex.timings
| name | user | system | elapsed | |
| ORFikQC | 0.436 | 0.000 | 0.435 | |
| assignTSSByCage | 0 | 0 | 0 | |
| computeFeatures | 13.772 | 0.176 | 9.431 | |
| computeFeaturesCage | 0.000 | 0.000 | 0.001 | |
| countTable | 0.340 | 0.004 | 0.344 | |
| coverageHeatMap | 2.056 | 0.004 | 1.667 | |
| coveragePerTiling | 0.512 | 0.000 | 0.516 | |
| coverageScorings | 0.500 | 0.000 | 0.103 | |
| create.experiment | 0.264 | 0.000 | 0.258 | |
| defineTrailer | 0.148 | 0.000 | 0.150 | |
| detectRibosomeShifts | 0 | 0 | 0 | |
| disengagementScore | 0.756 | 0.000 | 0.758 | |
| distToCds | 0.384 | 0.000 | 0.385 | |
| distToTSS | 0.436 | 0.000 | 0.434 | |
| entropy | 3.192 | 0.020 | 1.514 | |
| experiment-class | 0 | 0 | 0 | |
| extendLeaders | 1.828 | 0.008 | 1.054 | |
| extendTrailers | 2.008 | 0.008 | 0.911 | |
| filterTranscripts | 2.568 | 0.004 | 1.840 | |
| fimport | 0.268 | 0.000 | 0.343 | |
| findMapORFs | 2.088 | 0.004 | 1.257 | |
| findORFs | 0.736 | 0.004 | 0.293 | |
| findORFsFasta | 0.380 | 0.000 | 0.161 | |
| findUORFs | 0 | 0 | 0 | |
| firstEndPerGroup | 0.088 | 0.000 | 0.091 | |
| firstExonPerGroup | 0.072 | 0.000 | 0.075 | |
| firstStartPerGroup | 0.068 | 0.004 | 0.074 | |
| floss | 0.292 | 0.000 | 0.291 | |
| fpkm | 0.088 | 0.000 | 0.086 | |
| fractionLength | 0.100 | 0.000 | 0.101 | |
| fread.bed | 0.044 | 0.056 | 0.125 | |
| gcContent | 1.440 | 0.060 | 0.991 | |
| groupGRangesBy | 0.104 | 0.000 | 0.105 | |
| groupings | 0.056 | 0.000 | 0.055 | |
| initiationScore | 2.188 | 0.036 | 1.715 | |
| insideOutsideORF | 1.888 | 0.000 | 1.431 | |
| isInFrame | 0.244 | 0.000 | 0.248 | |
| isOverlapping | 0.248 | 0.000 | 0.249 | |
| kozakHeatmap | 0.000 | 0.000 | 0.001 | |
| kozakSequenceScore | 1.388 | 0.008 | 1.075 | |
| lastExonEndPerGroup | 0.096 | 0.000 | 0.096 | |
| lastExonPerGroup | 0.108 | 0.004 | 0.109 | |
| lastExonStartPerGroup | 0.084 | 0.000 | 0.086 | |
| loadRegion | 0.900 | 0.004 | 0.904 | |
| loadRegions | 1.156 | 0.000 | 1.155 | |
| loadTxdb | 0.18 | 0.00 | 0.18 | |
| longestORFs | 0.412 | 0.004 | 0.308 | |
| makeORFNames | 0.084 | 0.000 | 0.082 | |
| makeSummarizedExperimentFromBam | 0.188 | 0.000 | 0.187 | |
| metaWindow | 0.644 | 0.000 | 0.306 | |
| numExonsPerGroup | 0.080 | 0.004 | 0.081 | |
| orfScore | 3.768 | 0.044 | 1.582 | |
| outputLibs | 0.320 | 0.004 | 0.326 | |
| overlapsToCoverage | 0.072 | 0.000 | 0.074 | |
| pSitePlot | 0.524 | 0.000 | 0.524 | |
| pmapFromTranscriptF | 0.188 | 0.000 | 0.188 | |
| rankOrder | 0.144 | 0.000 | 0.143 | |
| read.experiment | 0.28 | 0.00 | 0.28 | |
| readBam | 0.148 | 0.000 | 0.148 | |
| readWidths | 0.02 | 0.00 | 0.02 | |
| reassignTSSbyCage | 1.576 | 0.000 | 1.020 | |
| reassignTxDbByCage | 0 | 0 | 0 | |
| reduceKeepAttr | 0.708 | 0.000 | 0.483 | |
| remove.experiments | 0.320 | 0.000 | 0.322 | |
| ribosomeReleaseScore | 0.264 | 0.000 | 0.263 | |
| ribosomeStallingScore | 0.444 | 0.000 | 0.444 | |
| save.experiment | 0.324 | 0.000 | 0.327 | |
| scaledWindowPositions | 1.200 | 0.008 | 0.733 | |
| seqnamesPerGroup | 0.120 | 0.000 | 0.122 | |
| shiftFootprints | 0 | 0 | 0 | |
| sortPerGroup | 1.092 | 0.008 | 0.614 | |
| startCodons | 1.536 | 0.000 | 1.063 | |
| startDefinition | 0.000 | 0.000 | 0.001 | |
| startSites | 1.316 | 0.016 | 0.912 | |
| stopCodons | 1.596 | 0.008 | 1.175 | |
| stopDefinition | 0 | 0 | 0 | |
| stopSites | 1.264 | 0.004 | 0.789 | |
| strandBool | 0.008 | 0.000 | 0.008 | |
| strandPerGroup | 0.064 | 0.000 | 0.065 | |
| tile1 | 0.228 | 0.000 | 0.229 | |
| transcriptWindow | 1.252 | 0.004 | 1.269 | |
| translationalEff | 0.180 | 0.000 | 0.182 | |
| txNames | 0.068 | 0.000 | 0.067 | |
| uORFSearchSpace | 1.872 | 0.008 | 1.321 | |
| uniqueGroups | 0.260 | 0.000 | 0.262 | |
| uniqueOrder | 0.648 | 0.000 | 0.501 | |
| unlistGrl | 0.068 | 0.000 | 0.068 | |
| widthPerGroup | 0.088 | 0.000 | 0.085 | |
| windowCoveragePlot | 1.572 | 0.000 | 1.008 | |
| windowPerGroup | 0.360 | 0.000 | 0.361 | |