| Back to Multiple platform build/check report for BioC 3.10 | 
 | 
This page was generated on 2020-04-15 12:31:14 -0400 (Wed, 15 Apr 2020).
| Package 1140/1823 | Hostname | OS / Arch | INSTALL | BUILD | CHECK | BUILD BIN | ||||||
| NeighborNet 1.4.0 Sahar Ansari 
 | malbec1 | Linux (Ubuntu 18.04.4 LTS) / x86_64 | OK | OK | OK |  | ||||||
| tokay1 | Windows Server 2012 R2 Standard / x64 | OK | OK | OK | [ OK ] |  | ||||||
| merida1 | OS X 10.11.6 El Capitan / x86_64 | OK | OK | OK | OK |  | 
| Package: NeighborNet | 
| Version: 1.4.0 | 
| Command: rm -rf NeighborNet.buildbin-libdir && mkdir NeighborNet.buildbin-libdir && C:\Users\biocbuild\bbs-3.10-bioc\R\bin\R.exe CMD INSTALL --merge-multiarch --build --library=NeighborNet.buildbin-libdir NeighborNet_1.4.0.tar.gz | 
| StartedAt: 2020-04-15 09:15:51 -0400 (Wed, 15 Apr 2020) | 
| EndedAt: 2020-04-15 09:16:20 -0400 (Wed, 15 Apr 2020) | 
| EllapsedTime: 29.0 seconds | 
| RetCode: 0 | 
| Status: OK | 
| PackageFile: NeighborNet_1.4.0.zip | 
| PackageFileSize: 3.586 MiB | 
##############################################################################
##############################################################################
###
### Running command:
###
###   rm -rf NeighborNet.buildbin-libdir && mkdir NeighborNet.buildbin-libdir && C:\Users\biocbuild\bbs-3.10-bioc\R\bin\R.exe CMD INSTALL --merge-multiarch --build --library=NeighborNet.buildbin-libdir NeighborNet_1.4.0.tar.gz
###
##############################################################################
##############################################################################
install for i386
* installing *source* package 'NeighborNet' ...
** using staged installation
** R
** inst
** byte-compile and prepare package for lazy loading
** help
*** installing help indices
  converting help for package 'NeighborNet'
    finding HTML links ... done
    neighborNet                             html  
    finding level-2 HTML links ... done
** building package indices
** installing vignettes
** testing if installed package can be loaded from temporary location
** testing if installed package can be loaded from final location
** testing if installed package keeps a record of temporary installation path
install for x64
* installing *source* package 'NeighborNet' ...
** testing if installed package can be loaded
* MD5 sums
packaged installation of 'NeighborNet' as NeighborNet_1.4.0.zip
* DONE (NeighborNet)