| Back to Multiple platform build/check report for BioC 3.10 | 
  | 
This page was generated on 2020-04-15 12:21:05 -0400 (Wed, 15 Apr 2020).
| Package 1155/1823 | Hostname | OS / Arch | INSTALL | BUILD | CHECK | BUILD BIN | ||||||
| NOISeq 2.30.0 Sonia Tarazona 
  | malbec1 | Linux (Ubuntu 18.04.4 LTS) / x86_64 | OK | OK | OK | |||||||
| tokay1 | Windows Server 2012 R2 Standard / x64 | OK | OK | OK | [ OK ] | |||||||
| merida1 | OS X 10.11.6 El Capitan / x86_64 | OK | OK | OK | OK | 
| Package: NOISeq | 
| Version: 2.30.0 | 
| Command: rm -rf NOISeq.buildbin-libdir && mkdir NOISeq.buildbin-libdir && C:\Users\biocbuild\bbs-3.10-bioc\R\bin\R.exe CMD INSTALL --merge-multiarch --build --library=NOISeq.buildbin-libdir NOISeq_2.30.0.tar.gz | 
| StartedAt: 2020-04-15 09:16:41 -0400 (Wed, 15 Apr 2020) | 
| EndedAt: 2020-04-15 09:17:06 -0400 (Wed, 15 Apr 2020) | 
| EllapsedTime: 25.0 seconds | 
| RetCode: 0 | 
| Status: OK | 
| PackageFile: NOISeq_2.30.0.zip | 
| PackageFileSize: 1.706 MiB | 
##############################################################################
##############################################################################
###
### Running command:
###
###   rm -rf NOISeq.buildbin-libdir && mkdir NOISeq.buildbin-libdir && C:\Users\biocbuild\bbs-3.10-bioc\R\bin\R.exe CMD INSTALL --merge-multiarch --build --library=NOISeq.buildbin-libdir NOISeq_2.30.0.tar.gz
###
##############################################################################
##############################################################################
install for i386
* installing *source* package 'NOISeq' ...
** using staged installation
** R
** data
** inst
** byte-compile and prepare package for lazy loading
** help
*** installing help indices
  converting help for package 'NOISeq'
    finding HTML links ... done
    ARSyNSeq                                html  
    Biodetection                            html  
    CD                                      html  
    CountsBio                               html  
    DE.plot                                 html  
    GCcontentBias                           html  
    LengthBias                              html  
    Marioni                                 html  
    Output                                  html  
    PCA.GENES                               html  
    PCA                                     html  
    QCreport                                html  
    Saturation                              html  
    dat                                     html  
    dat2save                                html  
    degenes                                 html  
    example                                 html  
    explo.plot                              html  
    filter.low.counts                       html  
    myCounts                                html  
    noiseq                                  html  
    noiseqbio                               html  
    normalization                           html  
    readData                                html  
** building package indices
** installing vignettes
** testing if installed package can be loaded from temporary location
** testing if installed package can be loaded from final location
** testing if installed package keeps a record of temporary installation path
install for x64
* installing *source* package 'NOISeq' ...
** testing if installed package can be loaded
* MD5 sums
packaged installation of 'NOISeq' as NOISeq_2.30.0.zip
* DONE (NOISeq)