| Back to Multiple platform build/check report for BioC 3.10 | 
 | 
This page was generated on 2020-04-15 12:32:14 -0400 (Wed, 15 Apr 2020).
| Package 1134/1823 | Hostname | OS / Arch | INSTALL | BUILD | CHECK | BUILD BIN | ||||||
| NBAMSeq 1.2.1 Xu Ren 
 | malbec1 | Linux (Ubuntu 18.04.4 LTS) / x86_64 | OK | OK | OK |  | ||||||
| tokay1 | Windows Server 2012 R2 Standard / x64 | OK | OK | OK | [ OK ] |  | ||||||
| merida1 | OS X 10.11.6 El Capitan / x86_64 | OK | OK | OK | OK |  | 
| Package: NBAMSeq | 
| Version: 1.2.1 | 
| Command: rm -rf NBAMSeq.buildbin-libdir && mkdir NBAMSeq.buildbin-libdir && C:\Users\biocbuild\bbs-3.10-bioc\R\bin\R.exe CMD INSTALL --merge-multiarch --build --library=NBAMSeq.buildbin-libdir NBAMSeq_1.2.1.tar.gz | 
| StartedAt: 2020-04-15 09:15:34 -0400 (Wed, 15 Apr 2020) | 
| EndedAt: 2020-04-15 09:16:38 -0400 (Wed, 15 Apr 2020) | 
| EllapsedTime: 64.0 seconds | 
| RetCode: 0 | 
| Status: OK | 
| PackageFile: NBAMSeq_1.2.1.zip | 
| PackageFileSize: 305.9 KiB | 
##############################################################################
##############################################################################
###
### Running command:
###
###   rm -rf NBAMSeq.buildbin-libdir && mkdir NBAMSeq.buildbin-libdir && C:\Users\biocbuild\bbs-3.10-bioc\R\bin\R.exe CMD INSTALL --merge-multiarch --build --library=NBAMSeq.buildbin-libdir NBAMSeq_1.2.1.tar.gz
###
##############################################################################
##############################################################################
install for i386
* installing *source* package 'NBAMSeq' ...
** using staged installation
** R
** inst
** byte-compile and prepare package for lazy loading
** help
*** installing help indices
  converting help for package 'NBAMSeq'
    finding HTML links ... done
    NBAMSeq-methods                         html  
    NBAMSeq                                 html  
    finding level-2 HTML links ... done
    NBAMSeqDataSet-class                    html  
    NBAMSeqDataSet                          html  
    makeExample                             html  
    makeplot                                html  
    results                                 html  
** building package indices
** installing vignettes
** testing if installed package can be loaded from temporary location
** testing if installed package can be loaded from final location
** testing if installed package keeps a record of temporary installation path
install for x64
* installing *source* package 'NBAMSeq' ...
** testing if installed package can be loaded
* MD5 sums
packaged installation of 'NBAMSeq' as NBAMSeq_1.2.1.zip
* DONE (NBAMSeq)