| Back to Multiple platform build/check report for BioC 3.10 | 
  | 
This page was generated on 2020-04-15 12:20:17 -0400 (Wed, 15 Apr 2020).
| Package 1073/1823 | Hostname | OS / Arch | INSTALL | BUILD | CHECK | BUILD BIN | ||||||
| MmPalateMiRNA 1.36.0 Guy Brock 
  | malbec1 | Linux (Ubuntu 18.04.4 LTS) / x86_64 | OK | OK | OK | |||||||
| tokay1 | Windows Server 2012 R2 Standard / x64 | OK | OK | WARNINGS | [ OK ] | |||||||
| merida1 | OS X 10.11.6 El Capitan / x86_64 | OK | OK | OK | OK | 
| Package: MmPalateMiRNA | 
| Version: 1.36.0 | 
| Command: rm -rf MmPalateMiRNA.buildbin-libdir && mkdir MmPalateMiRNA.buildbin-libdir && C:\Users\biocbuild\bbs-3.10-bioc\R\bin\R.exe CMD INSTALL --merge-multiarch --build --library=MmPalateMiRNA.buildbin-libdir MmPalateMiRNA_1.36.0.tar.gz | 
| StartedAt: 2020-04-15 09:12:01 -0400 (Wed, 15 Apr 2020) | 
| EndedAt: 2020-04-15 09:12:46 -0400 (Wed, 15 Apr 2020) | 
| EllapsedTime: 44.9 seconds | 
| RetCode: 0 | 
| Status: OK | 
| PackageFile: MmPalateMiRNA_1.36.0.zip | 
| PackageFileSize: 1.466 MiB | 
##############################################################################
##############################################################################
###
### Running command:
###
###   rm -rf MmPalateMiRNA.buildbin-libdir && mkdir MmPalateMiRNA.buildbin-libdir && C:\Users\biocbuild\bbs-3.10-bioc\R\bin\R.exe CMD INSTALL --merge-multiarch --build --library=MmPalateMiRNA.buildbin-libdir MmPalateMiRNA_1.36.0.tar.gz
###
##############################################################################
##############################################################################
install for i386
* installing *source* package 'MmPalateMiRNA' ...
** using staged installation
** R
** data
** inst
** byte-compile and prepare package for lazy loading
** help
*** installing help indices
  converting help for package 'MmPalateMiRNA'
    finding HTML links ... done
    MADvsMedianPlot                         html  
Rd warning: C:/Users/biocbuild/bbs-3.10-bioc/tmpdir/RtmponBmTn/R.INSTALL18f038675f6e/MmPalateMiRNA/man/MADvsMedianPlot.Rd:29: file link 'MAList-class' in package 'limma' does not exist and so has been treated as a topic
Rd warning: C:/Users/biocbuild/bbs-3.10-bioc/tmpdir/RtmponBmTn/R.INSTALL18f038675f6e/MmPalateMiRNA/man/MADvsMedianPlot.Rd:30: file link 'NChannelSet-class' in package 'Biobase' does not exist and so has been treated as a topic
Rd warning: C:/Users/biocbuild/bbs-3.10-bioc/tmpdir/RtmponBmTn/R.INSTALL18f038675f6e/MmPalateMiRNA/man/MADvsMedianPlot.Rd:36: file link 'RGList-class' in package 'limma' does not exist and so has been treated as a topic
Rd warning: C:/Users/biocbuild/bbs-3.10-bioc/tmpdir/RtmponBmTn/R.INSTALL18f038675f6e/MmPalateMiRNA/man/MADvsMedianPlot.Rd:40: file link 'densityplot' in package 'lattice' does not exist and so has been treated as a topic
Rd warning: C:/Users/biocbuild/bbs-3.10-bioc/tmpdir/RtmponBmTn/R.INSTALL18f038675f6e/MmPalateMiRNA/man/MADvsMedianPlot.Rd:49: file link 'MAList-class' in package 'limma' does not exist and so has been treated as a topic
Rd warning: C:/Users/biocbuild/bbs-3.10-bioc/tmpdir/RtmponBmTn/R.INSTALL18f038675f6e/MmPalateMiRNA/man/MADvsMedianPlot.Rd:50: file link 'NChannelSet-class' in package 'Biobase' does not exist and so has been treated as a topic
    MAplot                                  html  
Rd warning: C:/Users/biocbuild/bbs-3.10-bioc/tmpdir/RtmponBmTn/R.INSTALL18f038675f6e/MmPalateMiRNA/man/MAplot.Rd:29: file link 'MAList-class' in package 'limma' does not exist and so has been treated as a topic
Rd warning: C:/Users/biocbuild/bbs-3.10-bioc/tmpdir/RtmponBmTn/R.INSTALL18f038675f6e/MmPalateMiRNA/man/MAplot.Rd:30: file link 'NChannelSet-class' in package 'Biobase' does not exist and so has been treated as a topic
    MmPalateMiRNA-package                   html  
Rd warning: C:/Users/biocbuild/bbs-3.10-bioc/tmpdir/RtmponBmTn/R.INSTALL18f038675f6e/MmPalateMiRNA/man/MmPalateMiRNA-package.Rd:29: file link 'RGList-class' in package 'limma' does not exist and so has been treated as a topic
Rd warning: C:/Users/biocbuild/bbs-3.10-bioc/tmpdir/RtmponBmTn/R.INSTALL18f038675f6e/MmPalateMiRNA/man/MmPalateMiRNA-package.Rd:33: file link 'RGList-class' in package 'limma' does not exist and so has been treated as a topic
Rd warning: C:/Users/biocbuild/bbs-3.10-bioc/tmpdir/RtmponBmTn/R.INSTALL18f038675f6e/MmPalateMiRNA/man/MmPalateMiRNA-package.Rd:34: file link 'MAList-class' in package 'limma' does not exist and so has been treated as a topic
Rd warning: C:/Users/biocbuild/bbs-3.10-bioc/tmpdir/RtmponBmTn/R.INSTALL18f038675f6e/MmPalateMiRNA/man/MmPalateMiRNA-package.Rd:35: file link 'NChannelSet-class' in package 'Biobase' does not exist and so has been treated as a topic
Rd warning: C:/Users/biocbuild/bbs-3.10-bioc/tmpdir/RtmponBmTn/R.INSTALL18f038675f6e/MmPalateMiRNA/man/MmPalateMiRNA-package.Rd:36: file link 'lattice-package' in package 'lattice' does not exist and so has been treated as a topic
    PalateData                              html  
    finding level-2 HTML links ... done
    checkMVs                                html  
Rd warning: C:/Users/biocbuild/bbs-3.10-bioc/tmpdir/RtmponBmTn/R.INSTALL18f038675f6e/MmPalateMiRNA/man/checkMVs.Rd:9: file link 'RGList-class' in package 'limma' does not exist and so has been treated as a topic
Rd warning: C:/Users/biocbuild/bbs-3.10-bioc/tmpdir/RtmponBmTn/R.INSTALL18f038675f6e/MmPalateMiRNA/man/checkMVs.Rd:13: file link 'RGList-class' in package 'limma' does not exist and so has been treated as a topic
Rd warning: C:/Users/biocbuild/bbs-3.10-bioc/tmpdir/RtmponBmTn/R.INSTALL18f038675f6e/MmPalateMiRNA/man/checkMVs.Rd:22: file link 'RGList-class' in package 'limma' does not exist and so has been treated as a topic
    checkOutliers                           html  
Rd warning: C:/Users/biocbuild/bbs-3.10-bioc/tmpdir/RtmponBmTn/R.INSTALL18f038675f6e/MmPalateMiRNA/man/checkOutliers.Rd:8: file link 'RGList-class' in package 'limma' does not exist and so has been treated as a topic
Rd warning: C:/Users/biocbuild/bbs-3.10-bioc/tmpdir/RtmponBmTn/R.INSTALL18f038675f6e/MmPalateMiRNA/man/checkOutliers.Rd:13: file link 'RGList-class' in package 'limma' does not exist and so has been treated as a topic
Rd warning: C:/Users/biocbuild/bbs-3.10-bioc/tmpdir/RtmponBmTn/R.INSTALL18f038675f6e/MmPalateMiRNA/man/checkOutliers.Rd:23: file link 'RGList-class' in package 'limma' does not exist and so has been treated as a topic
    clustPlot                               html  
    densityplot                             html  
Rd warning: C:/Users/biocbuild/bbs-3.10-bioc/tmpdir/RtmponBmTn/R.INSTALL18f038675f6e/MmPalateMiRNA/man/densityplot.Rd:32: file link 'RGList-class' in package 'limma' does not exist and so has been treated as a topic
Rd warning: C:/Users/biocbuild/bbs-3.10-bioc/tmpdir/RtmponBmTn/R.INSTALL18f038675f6e/MmPalateMiRNA/man/densityplot.Rd:33: file link 'MAList-class' in package 'limma' does not exist and so has been treated as a topic
Rd warning: C:/Users/biocbuild/bbs-3.10-bioc/tmpdir/RtmponBmTn/R.INSTALL18f038675f6e/MmPalateMiRNA/man/densityplot.Rd:34: file link 'NChannelSet-class' in package 'Biobase' does not exist and so has been treated as a topic
Rd warning: C:/Users/biocbuild/bbs-3.10-bioc/tmpdir/RtmponBmTn/R.INSTALL18f038675f6e/MmPalateMiRNA/man/densityplot.Rd:40: file link 'RGList-class' in package 'limma' does not exist and so has been treated as a topic
Rd warning: C:/Users/biocbuild/bbs-3.10-bioc/tmpdir/RtmponBmTn/R.INSTALL18f038675f6e/MmPalateMiRNA/man/densityplot.Rd:44: file link 'densityplot' in package 'lattice' does not exist and so has been treated as a topic
Rd warning: C:/Users/biocbuild/bbs-3.10-bioc/tmpdir/RtmponBmTn/R.INSTALL18f038675f6e/MmPalateMiRNA/man/densityplot.Rd:51: file link 'RGList-class' in package 'limma' does not exist and so has been treated as a topic
Rd warning: C:/Users/biocbuild/bbs-3.10-bioc/tmpdir/RtmponBmTn/R.INSTALL18f038675f6e/MmPalateMiRNA/man/densityplot.Rd:60: file link 'MAList-class' in package 'limma' does not exist and so has been treated as a topic
Rd warning: C:/Users/biocbuild/bbs-3.10-bioc/tmpdir/RtmponBmTn/R.INSTALL18f038675f6e/MmPalateMiRNA/man/densityplot.Rd:61: file link 'NChannelSet-class' in package 'Biobase' does not exist and so has been treated as a topic
    filterArray                             html  
Rd warning: C:/Users/biocbuild/bbs-3.10-bioc/tmpdir/RtmponBmTn/R.INSTALL18f038675f6e/MmPalateMiRNA/man/filterArray.Rd:8: file link 'RGList-class' in package 'limma' does not exist and so has been treated as a topic
Rd warning: C:/Users/biocbuild/bbs-3.10-bioc/tmpdir/RtmponBmTn/R.INSTALL18f038675f6e/MmPalateMiRNA/man/filterArray.Rd:12: file link 'RGList-class' in package 'limma' does not exist and so has been treated as a topic
Rd warning: C:/Users/biocbuild/bbs-3.10-bioc/tmpdir/RtmponBmTn/R.INSTALL18f038675f6e/MmPalateMiRNA/man/filterArray.Rd:26: file link 'RGList-class' in package 'limma' does not exist and so has been treated as a topic
Rd warning: C:/Users/biocbuild/bbs-3.10-bioc/tmpdir/RtmponBmTn/R.INSTALL18f038675f6e/MmPalateMiRNA/man/filterArray.Rd:57: file link 'RGList-class' in package 'limma' does not exist and so has been treated as a topic
    fixMVs                                  html  
    fixOutliers                             html  
    imputeKNN                               html  
    levelplot                               html  
Rd warning: C:/Users/biocbuild/bbs-3.10-bioc/tmpdir/RtmponBmTn/R.INSTALL18f038675f6e/MmPalateMiRNA/man/levelplot.Rd:37: file link 'RGList-class' in package 'limma' does not exist and so has been treated as a topic
Rd warning: C:/Users/biocbuild/bbs-3.10-bioc/tmpdir/RtmponBmTn/R.INSTALL18f038675f6e/MmPalateMiRNA/man/levelplot.Rd:38: file link 'MAList-class' in package 'limma' does not exist and so has been treated as a topic
Rd warning: C:/Users/biocbuild/bbs-3.10-bioc/tmpdir/RtmponBmTn/R.INSTALL18f038675f6e/MmPalateMiRNA/man/levelplot.Rd:39: file link 'NChannelSet-class' in package 'Biobase' does not exist and so has been treated as a topic
Rd warning: C:/Users/biocbuild/bbs-3.10-bioc/tmpdir/RtmponBmTn/R.INSTALL18f038675f6e/MmPalateMiRNA/man/levelplot.Rd:45: file link 'RGList-class' in package 'limma' does not exist and so has been treated as a topic
Rd warning: C:/Users/biocbuild/bbs-3.10-bioc/tmpdir/RtmponBmTn/R.INSTALL18f038675f6e/MmPalateMiRNA/man/levelplot.Rd:59: file link 'RGList-class' in package 'limma' does not exist and so has been treated as a topic
Rd warning: C:/Users/biocbuild/bbs-3.10-bioc/tmpdir/RtmponBmTn/R.INSTALL18f038675f6e/MmPalateMiRNA/man/levelplot.Rd:68: file link 'MAList-class' in package 'limma' does not exist and so has been treated as a topic
Rd warning: C:/Users/biocbuild/bbs-3.10-bioc/tmpdir/RtmponBmTn/R.INSTALL18f038675f6e/MmPalateMiRNA/man/levelplot.Rd:69: file link 'NChannelSet-class' in package 'Biobase' does not exist and so has been treated as a topic
** building package indices
** installing vignettes
** testing if installed package can be loaded from temporary location
** testing if installed package can be loaded from final location
** testing if installed package keeps a record of temporary installation path
install for x64
* installing *source* package 'MmPalateMiRNA' ...
** testing if installed package can be loaded
* MD5 sums
packaged installation of 'MmPalateMiRNA' as MmPalateMiRNA_1.36.0.zip
* DONE (MmPalateMiRNA)