| Back to Multiple platform build/check report for BioC 3.10 |
|
This page was generated on 2020-04-15 12:24:50 -0400 (Wed, 15 Apr 2020).
| Package 1017/1823 | Hostname | OS / Arch | INSTALL | BUILD | CHECK | BUILD BIN | ||||||
| MethTargetedNGS 1.18.0 Muhammad Ahmer Jamil
| malbec1 | Linux (Ubuntu 18.04.4 LTS) / x86_64 | OK | OK | OK | |||||||
| tokay1 | Windows Server 2012 R2 Standard / x64 | OK | OK | OK | [ OK ] | |||||||
| merida1 | OS X 10.11.6 El Capitan / x86_64 | OK | OK | OK | OK |
| Package: MethTargetedNGS |
| Version: 1.18.0 |
| Command: rm -rf MethTargetedNGS.buildbin-libdir && mkdir MethTargetedNGS.buildbin-libdir && C:\Users\biocbuild\bbs-3.10-bioc\R\bin\R.exe CMD INSTALL --merge-multiarch --build --library=MethTargetedNGS.buildbin-libdir MethTargetedNGS_1.18.0.tar.gz |
| StartedAt: 2020-04-15 09:08:49 -0400 (Wed, 15 Apr 2020) |
| EndedAt: 2020-04-15 09:09:21 -0400 (Wed, 15 Apr 2020) |
| EllapsedTime: 31.8 seconds |
| RetCode: 0 |
| Status: OK |
| PackageFile: MethTargetedNGS_1.18.0.zip |
| PackageFileSize: 240.8 KiB |
##############################################################################
##############################################################################
###
### Running command:
###
### rm -rf MethTargetedNGS.buildbin-libdir && mkdir MethTargetedNGS.buildbin-libdir && C:\Users\biocbuild\bbs-3.10-bioc\R\bin\R.exe CMD INSTALL --merge-multiarch --build --library=MethTargetedNGS.buildbin-libdir MethTargetedNGS_1.18.0.tar.gz
###
##############################################################################
##############################################################################
install for i386
* installing *source* package 'MethTargetedNGS' ...
** using staged installation
** R
** inst
** byte-compile and prepare package for lazy loading
** help
*** installing help indices
converting help for package 'MethTargetedNGS'
finding HTML links ... done
MethTargetedNGS-package html
bconv html
compare_samples html
fishertest_cpg html
hmmbuild html
methAlign html
methAvg html
methEntropy html
methHeatmap html
nhmmer html
odd_ratio html
** building package indices
** installing vignettes
** testing if installed package can be loaded from temporary location
** testing if installed package can be loaded from final location
** testing if installed package keeps a record of temporary installation path
install for x64
* installing *source* package 'MethTargetedNGS' ...
** testing if installed package can be loaded
* MD5 sums
packaged installation of 'MethTargetedNGS' as MethTargetedNGS_1.18.0.zip
* DONE (MethTargetedNGS)