| Back to Multiple platform build/check report for BioC 3.10 | 
 | 
This page was generated on 2020-04-15 12:32:44 -0400 (Wed, 15 Apr 2020).
| Package 1010/1823 | Hostname | OS / Arch | INSTALL | BUILD | CHECK | BUILD BIN | ||||||
| MetaVolcanoR 1.0.1 Cesar Prada 
 | malbec1 | Linux (Ubuntu 18.04.4 LTS) / x86_64 | OK | OK | OK | |||||||
| tokay1 | Windows Server 2012 R2 Standard / x64 | [ OK ] | OK | OK | OK | |||||||
| merida1 | OS X 10.11.6 El Capitan / x86_64 | OK | OK | OK | OK | 
| Package: MetaVolcanoR | 
| Version: 1.0.1 | 
| Command: C:\cygwin\bin\curl.exe -O https://malbec1.bioconductor.org/BBS/3.10/bioc/src/contrib/MetaVolcanoR_1.0.1.tar.gz && rm -rf MetaVolcanoR.buildbin-libdir && mkdir MetaVolcanoR.buildbin-libdir && C:\Users\biocbuild\bbs-3.10-bioc\R\bin\R.exe CMD INSTALL --merge-multiarch --build --library=MetaVolcanoR.buildbin-libdir MetaVolcanoR_1.0.1.tar.gz && C:\Users\biocbuild\bbs-3.10-bioc\R\bin\R.exe CMD INSTALL MetaVolcanoR_1.0.1.zip && rm MetaVolcanoR_1.0.1.tar.gz MetaVolcanoR_1.0.1.zip | 
| StartedAt: 2020-04-14 19:21:08 -0400 (Tue, 14 Apr 2020) | 
| EndedAt: 2020-04-14 19:21:39 -0400 (Tue, 14 Apr 2020) | 
| EllapsedTime: 31.1 seconds | 
| RetCode: 0 | 
| Status: OK | 
##############################################################################
##############################################################################
###
### Running command:
###
###   C:\cygwin\bin\curl.exe -O https://malbec1.bioconductor.org/BBS/3.10/bioc/src/contrib/MetaVolcanoR_1.0.1.tar.gz && rm -rf MetaVolcanoR.buildbin-libdir && mkdir MetaVolcanoR.buildbin-libdir && C:\Users\biocbuild\bbs-3.10-bioc\R\bin\R.exe CMD INSTALL --merge-multiarch --build --library=MetaVolcanoR.buildbin-libdir MetaVolcanoR_1.0.1.tar.gz && C:\Users\biocbuild\bbs-3.10-bioc\R\bin\R.exe CMD INSTALL MetaVolcanoR_1.0.1.zip && rm MetaVolcanoR_1.0.1.tar.gz MetaVolcanoR_1.0.1.zip
###
##############################################################################
##############################################################################
  % Total    % Received % Xferd  Average Speed   Time    Time     Time  Current
                                 Dload  Upload   Total   Spent    Left  Speed
  0     0    0     0    0     0      0      0 --:--:-- --:--:-- --:--:--     0
100 1158k  100 1158k    0     0  4179k      0 --:--:-- --:--:-- --:--:-- 4244k
install for i386
* installing *source* package 'MetaVolcanoR' ...
** using staged installation
** R
** data
*** moving datasets to lazyload DB
** byte-compile and prepare package for lazy loading
** help
*** installing help indices
  converting help for package 'MetaVolcanoR'
    finding HTML links ... done
    MetaVolcano-class                       html  
    calc_vi                                 html  
    collapse_deg                            html  
    combining_mv                            html  
    cum_freq_data                           html  
    deg_def                                 html  
    diffexplist                             html  
    draw_cum_freq                           html  
    draw_degbar                             html  
    draw_forest                             html  
    plot_mv                                 html  
    plot_rem                                html  
    rem_mv                                  html  
    remodel                                 html  
    rename_col                              html  
    set_degbar_data                         html  
    votecount_mv                            html  
** building package indices
** installing vignettes
** testing if installed package can be loaded from temporary location
** testing if installed package can be loaded from final location
** testing if installed package keeps a record of temporary installation path
install for x64
* installing *source* package 'MetaVolcanoR' ...
** testing if installed package can be loaded
* MD5 sums
packaged installation of 'MetaVolcanoR' as MetaVolcanoR_1.0.1.zip
* DONE (MetaVolcanoR)
* installing to library 'C:/Users/biocbuild/bbs-3.10-bioc/R/library'
package 'MetaVolcanoR' successfully unpacked and MD5 sums checked