| Back to Multiple platform build/check report for BioC 3.10 |
|
This page was generated on 2020-04-15 12:26:51 -0400 (Wed, 15 Apr 2020).
| Package 1011/1823 | Hostname | OS / Arch | INSTALL | BUILD | CHECK | BUILD BIN | ||||||
| MetCirc 1.16.0 Thomas Naake
| malbec1 | Linux (Ubuntu 18.04.4 LTS) / x86_64 | OK | OK | OK | |||||||
| tokay1 | Windows Server 2012 R2 Standard / x64 | OK | OK | OK | [ OK ] | |||||||
| merida1 | OS X 10.11.6 El Capitan / x86_64 | OK | OK | OK | OK |
| Package: MetCirc |
| Version: 1.16.0 |
| Command: rm -rf MetCirc.buildbin-libdir && mkdir MetCirc.buildbin-libdir && C:\Users\biocbuild\bbs-3.10-bioc\R\bin\R.exe CMD INSTALL --merge-multiarch --build --library=MetCirc.buildbin-libdir MetCirc_1.16.0.tar.gz |
| StartedAt: 2020-04-15 09:08:28 -0400 (Wed, 15 Apr 2020) |
| EndedAt: 2020-04-15 09:09:06 -0400 (Wed, 15 Apr 2020) |
| EllapsedTime: 38.2 seconds |
| RetCode: 0 |
| Status: OK |
| PackageFile: MetCirc_1.16.0.zip |
| PackageFileSize: 1.977 MiB |
##############################################################################
##############################################################################
###
### Running command:
###
### rm -rf MetCirc.buildbin-libdir && mkdir MetCirc.buildbin-libdir && C:\Users\biocbuild\bbs-3.10-bioc\R\bin\R.exe CMD INSTALL --merge-multiarch --build --library=MetCirc.buildbin-libdir MetCirc_1.16.0.tar.gz
###
##############################################################################
##############################################################################
install for i386
* installing *source* package 'MetCirc' ...
** using staged installation
** R
** data
** inst
** byte-compile and prepare package for lazy loading
No methods found in package 'MSnbase' for request: 'Spectra' when loading 'MetCirc'
No methods found in package 'MSnbase' for request: 'Spectrum2' when loading 'MetCirc'
** help
*** installing help indices
converting help for package 'MetCirc'
finding HTML links ... done
cart2Polar html
circosLegend html
compare_Spectra html
compartmentTissue html
convertExampleDF html
convertMsp2Spectra html
createLink0df html
createLinkDf html
cutLinkDf html
getLinkDfIndices html
highlight html
minFragCart2Polar html
msp2spectra html
neutralloss html
normalizeddotproduct html
orderSimilarityMatrix html
plotCircos html
plotSpectra html
printInformationSelect html
recordPlotFill_degreeFeatures html
recordPlotHighlight html
replayPlotAdd html
replayPlotOrder html
sd01_outputXCMS html
sd02_deconvoluted html
select html
shinyCircos html
similarityMat html
spectraCond html
spectra_tissue html
thresholdLinkDf html
tissue html
typeMatch_link0 html
** building package indices
** installing vignettes
** testing if installed package can be loaded from temporary location
No methods found in package 'MSnbase' for request: 'Spectra' when loading 'MetCirc'
No methods found in package 'MSnbase' for request: 'Spectrum2' when loading 'MetCirc'
** testing if installed package can be loaded from final location
No methods found in package 'MSnbase' for request: 'Spectra' when loading 'MetCirc'
No methods found in package 'MSnbase' for request: 'Spectrum2' when loading 'MetCirc'
** testing if installed package keeps a record of temporary installation path
install for x64
* installing *source* package 'MetCirc' ...
** testing if installed package can be loaded
No methods found in package 'MSnbase' for request: 'Spectra' when loading 'MetCirc'
No methods found in package 'MSnbase' for request: 'Spectrum2' when loading 'MetCirc'
* MD5 sums
packaged installation of 'MetCirc' as MetCirc_1.16.0.zip
* DONE (MetCirc)