| Back to Multiple platform build/check report for BioC 3.10 | 
 | 
This page was generated on 2020-04-15 12:34:07 -0400 (Wed, 15 Apr 2020).
| Package 988/1823 | Hostname | OS / Arch | INSTALL | BUILD | CHECK | BUILD BIN | ||||||
| MergeMaid 2.58.0 Xiaogang Zhong 
 | malbec1 | Linux (Ubuntu 18.04.4 LTS) / x86_64 | OK | OK | WARNINGS |  | ||||||
| tokay1 | Windows Server 2012 R2 Standard / x64 | OK | OK | WARNINGS | OK |  | ||||||
| merida1 | OS X 10.11.6 El Capitan / x86_64 | OK | OK | WARNINGS | [ OK ] |  | 
| Package: MergeMaid | 
| Version: 2.58.0 | 
| Command: rm -rf MergeMaid.buildbin-libdir && mkdir MergeMaid.buildbin-libdir && /Users/biocbuild/BBS/utils/build-universal.sh MergeMaid_2.58.0.tar.gz /Library/Frameworks/R.framework/Versions/Current/Resources/bin/R MergeMaid.buildbin-libdir | 
| StartedAt: 2020-04-15 07:59:09 -0400 (Wed, 15 Apr 2020) | 
| EndedAt: 2020-04-15 08:00:03 -0400 (Wed, 15 Apr 2020) | 
| EllapsedTime: 53.8 seconds | 
| RetCode: 0 | 
| Status: OK | 
| PackageFile: MergeMaid_2.58.0.tgz | 
| PackageFileSize: 636.9 KiB | 
############################################################################## ############################################################################## ### ### Running command: ### ### rm -rf MergeMaid.buildbin-libdir && mkdir MergeMaid.buildbin-libdir && /Users/biocbuild/BBS/utils/build-universal.sh MergeMaid_2.58.0.tar.gz /Library/Frameworks/R.framework/Versions/Current/Resources/bin/R MergeMaid.buildbin-libdir ### ############################################################################## ############################################################################## >>>>>>> >>>>>>> INSTALLATION WITH 'R CMD INSTALL --preclean --no-multiarch --library=MergeMaid.buildbin-libdir MergeMaid_2.58.0.tar.gz' >>>>>>> * installing *source* package ‘MergeMaid’ ... ** using staged installation ** R ** data ** inst ** byte-compile and prepare package for lazy loading ** help *** installing help indices ** building package indices ** installing vignettes ** testing if installed package can be loaded from temporary location ** testing if installed package can be loaded from final location ** testing if installed package keeps a record of temporary installation path * DONE (MergeMaid)