| Back to Multiple platform build/check report for BioC 3.10 | 
 | 
This page was generated on 2020-04-15 12:16:47 -0400 (Wed, 15 Apr 2020).
| Package 982/1823 | Hostname | OS / Arch | INSTALL | BUILD | CHECK | BUILD BIN | ||||||
| MeasurementError.cor 1.58.0 Beiying Ding 
 | malbec1 | Linux (Ubuntu 18.04.4 LTS) / x86_64 | OK | OK | OK |  | ||||||
| tokay1 | Windows Server 2012 R2 Standard / x64 | [ OK ] | OK | OK | OK |  | ||||||
| merida1 | OS X 10.11.6 El Capitan / x86_64 | OK | OK | OK | OK |  | 
| Package: MeasurementError.cor | 
| Version: 1.58.0 | 
| Command: C:\cygwin\bin\curl.exe -O https://malbec1.bioconductor.org/BBS/3.10/bioc/src/contrib/MeasurementError.cor_1.58.0.tar.gz && rm -rf MeasurementError.cor.buildbin-libdir && mkdir MeasurementError.cor.buildbin-libdir && C:\Users\biocbuild\bbs-3.10-bioc\R\bin\R.exe CMD INSTALL --merge-multiarch --build --library=MeasurementError.cor.buildbin-libdir MeasurementError.cor_1.58.0.tar.gz && C:\Users\biocbuild\bbs-3.10-bioc\R\bin\R.exe CMD INSTALL MeasurementError.cor_1.58.0.zip && rm MeasurementError.cor_1.58.0.tar.gz MeasurementError.cor_1.58.0.zip | 
| StartedAt: 2020-04-14 18:29:58 -0400 (Tue, 14 Apr 2020) | 
| EndedAt: 2020-04-14 18:30:17 -0400 (Tue, 14 Apr 2020) | 
| EllapsedTime: 19.1 seconds | 
| RetCode: 0 | 
| Status: OK | 
##############################################################################
##############################################################################
###
### Running command:
###
###   C:\cygwin\bin\curl.exe -O https://malbec1.bioconductor.org/BBS/3.10/bioc/src/contrib/MeasurementError.cor_1.58.0.tar.gz && rm -rf MeasurementError.cor.buildbin-libdir && mkdir MeasurementError.cor.buildbin-libdir && C:\Users\biocbuild\bbs-3.10-bioc\R\bin\R.exe CMD INSTALL --merge-multiarch --build --library=MeasurementError.cor.buildbin-libdir MeasurementError.cor_1.58.0.tar.gz && C:\Users\biocbuild\bbs-3.10-bioc\R\bin\R.exe CMD INSTALL MeasurementError.cor_1.58.0.zip && rm MeasurementError.cor_1.58.0.tar.gz MeasurementError.cor_1.58.0.zip
###
##############################################################################
##############################################################################
  % Total    % Received % Xferd  Average Speed   Time    Time     Time  Current
                                 Dload  Upload   Total   Spent    Left  Speed
  0     0    0     0    0     0      0      0 --:--:-- --:--:-- --:--:--     0
100  5740  100  5740    0     0  24259      0 --:--:-- --:--:-- --:--:-- 24635
install for i386
* installing *source* package 'MeasurementError.cor' ...
** using staged installation
** R
** byte-compile and prepare package for lazy loading
** help
*** installing help indices
  converting help for package 'MeasurementError.cor'
    finding HTML links ... done
    cor.me.matrix                           html  
    cor.me.vector                           html  
** building package indices
** installing vignettes
** testing if installed package can be loaded from temporary location
** testing if installed package can be loaded from final location
** testing if installed package keeps a record of temporary installation path
install for x64
* installing *source* package 'MeasurementError.cor' ...
** testing if installed package can be loaded
* MD5 sums
packaged installation of 'MeasurementError.cor' as MeasurementError.cor_1.58.0.zip
* DONE (MeasurementError.cor)
* installing to library 'C:/Users/biocbuild/bbs-3.10-bioc/R/library'
package 'MeasurementError.cor' successfully unpacked and MD5 sums checked