| Back to Multiple platform build/check report for BioC 3.10 | 
 | 
This page was generated on 2020-04-15 12:22:58 -0400 (Wed, 15 Apr 2020).
| Package 990/1823 | Hostname | OS / Arch | INSTALL | BUILD | CHECK | BUILD BIN | ||||||
| MeSHDbi 1.22.0 Koki Tsuyuzaki 
 | malbec1 | Linux (Ubuntu 18.04.4 LTS) / x86_64 | OK | OK | OK |  | ||||||
| tokay1 | Windows Server 2012 R2 Standard / x64 | OK | OK | OK | [ OK ] |  | ||||||
| merida1 | OS X 10.11.6 El Capitan / x86_64 | OK | OK | OK | OK |  | 
| Package: MeSHDbi | 
| Version: 1.22.0 | 
| Command: rm -rf MeSHDbi.buildbin-libdir && mkdir MeSHDbi.buildbin-libdir && C:\Users\biocbuild\bbs-3.10-bioc\R\bin\R.exe CMD INSTALL --merge-multiarch --build --library=MeSHDbi.buildbin-libdir MeSHDbi_1.22.0.tar.gz | 
| StartedAt: 2020-04-15 09:07:17 -0400 (Wed, 15 Apr 2020) | 
| EndedAt: 2020-04-15 09:08:08 -0400 (Wed, 15 Apr 2020) | 
| EllapsedTime: 50.5 seconds | 
| RetCode: 0 | 
| Status: OK | 
| PackageFile: MeSHDbi_1.22.0.zip | 
| PackageFileSize: 275.2 KiB | 
##############################################################################
##############################################################################
###
### Running command:
###
###   rm -rf MeSHDbi.buildbin-libdir && mkdir MeSHDbi.buildbin-libdir && C:\Users\biocbuild\bbs-3.10-bioc\R\bin\R.exe CMD INSTALL --merge-multiarch --build --library=MeSHDbi.buildbin-libdir MeSHDbi_1.22.0.tar.gz
###
##############################################################################
##############################################################################
install for i386
* installing *source* package 'MeSHDbi' ...
** using staged installation
** R
** data
** inst
** byte-compile and prepare package for lazy loading
Creating a new generic function for 'packageName' in package 'MeSHDbi'
** help
*** installing help indices
  converting help for package 'MeSHDbi'
    finding HTML links ... done
    MeSHDb                                  html  
    PAO1                                    html  
    listDatabases                           html  
    makeMeSHPackage                         html  
    meshVersion                             html  
    metaPAO1                                html  
    nomenclature                            html  
    packageName                             html  
** building package indices
** installing vignettes
** testing if installed package can be loaded from temporary location
** testing if installed package can be loaded from final location
** testing if installed package keeps a record of temporary installation path
install for x64
* installing *source* package 'MeSHDbi' ...
** testing if installed package can be loaded
* MD5 sums
packaged installation of 'MeSHDbi' as MeSHDbi_1.22.0.zip
* DONE (MeSHDbi)