| Back to Multiple platform build/check report for BioC 3.10 | 
 | 
This page was generated on 2020-04-15 12:28:07 -0400 (Wed, 15 Apr 2020).
| Package 965/1823 | Hostname | OS / Arch | INSTALL | BUILD | CHECK | BUILD BIN | ||||||
| MaxContrastProjection 1.10.0 Jan Sauer 
 | malbec1 | Linux (Ubuntu 18.04.4 LTS) / x86_64 | OK | OK | OK |  | ||||||
| tokay1 | Windows Server 2012 R2 Standard / x64 | [ OK ] | OK | OK | OK |  | ||||||
| merida1 | OS X 10.11.6 El Capitan / x86_64 | OK | OK | OK | OK |  | 
| Package: MaxContrastProjection | 
| Version: 1.10.0 | 
| Command: C:\cygwin\bin\curl.exe -O https://malbec1.bioconductor.org/BBS/3.10/bioc/src/contrib/MaxContrastProjection_1.10.0.tar.gz && rm -rf MaxContrastProjection.buildbin-libdir && mkdir MaxContrastProjection.buildbin-libdir && C:\Users\biocbuild\bbs-3.10-bioc\R\bin\R.exe CMD INSTALL --merge-multiarch --build --library=MaxContrastProjection.buildbin-libdir MaxContrastProjection_1.10.0.tar.gz && C:\Users\biocbuild\bbs-3.10-bioc\R\bin\R.exe CMD INSTALL MaxContrastProjection_1.10.0.zip && rm MaxContrastProjection_1.10.0.tar.gz MaxContrastProjection_1.10.0.zip | 
| StartedAt: 2020-04-14 18:48:50 -0400 (Tue, 14 Apr 2020) | 
| EndedAt: 2020-04-14 18:49:09 -0400 (Tue, 14 Apr 2020) | 
| EllapsedTime: 19.3 seconds | 
| RetCode: 0 | 
| Status: OK | 
##############################################################################
##############################################################################
###
### Running command:
###
###   C:\cygwin\bin\curl.exe -O https://malbec1.bioconductor.org/BBS/3.10/bioc/src/contrib/MaxContrastProjection_1.10.0.tar.gz && rm -rf MaxContrastProjection.buildbin-libdir && mkdir MaxContrastProjection.buildbin-libdir && C:\Users\biocbuild\bbs-3.10-bioc\R\bin\R.exe CMD INSTALL --merge-multiarch --build --library=MaxContrastProjection.buildbin-libdir MaxContrastProjection_1.10.0.tar.gz && C:\Users\biocbuild\bbs-3.10-bioc\R\bin\R.exe CMD INSTALL MaxContrastProjection_1.10.0.zip && rm MaxContrastProjection_1.10.0.tar.gz MaxContrastProjection_1.10.0.zip
###
##############################################################################
##############################################################################
  % Total    % Received % Xferd  Average Speed   Time    Time     Time  Current
                                 Dload  Upload   Total   Spent    Left  Speed
  0     0    0     0    0     0      0      0 --:--:-- --:--:-- --:--:--     0
100 1431k  100 1431k    0     0  26.7M      0 --:--:-- --:--:-- --:--:-- 28.5M
install for i386
* installing *source* package 'MaxContrastProjection' ...
** using staged installation
** R
** data
** inst
** byte-compile and prepare package for lazy loading
** help
*** installing help indices
  converting help for package 'MaxContrastProjection'
    finding HTML links ... done
    MaxContrastProjection                   html  
    calcContrast                            html  
    cells                                   html  
    contrastProjection                      html  
    fixGaussianBlur                         html  
    intensityProjection                     html  
    validateVariables                       html  
** building package indices
** installing vignettes
** testing if installed package can be loaded from temporary location
** testing if installed package can be loaded from final location
** testing if installed package keeps a record of temporary installation path
install for x64
* installing *source* package 'MaxContrastProjection' ...
** testing if installed package can be loaded
* MD5 sums
packaged installation of 'MaxContrastProjection' as MaxContrastProjection_1.10.0.zip
* DONE (MaxContrastProjection)
* installing to library 'C:/Users/biocbuild/bbs-3.10-bioc/R/library'
package 'MaxContrastProjection' successfully unpacked and MD5 sums checked