Back to Multiple platform build/check report for BioC 3.10 |
|
This page was generated on 2020-04-15 12:24:34 -0400 (Wed, 15 Apr 2020).
Package 963/1823 | Hostname | OS / Arch | INSTALL | BUILD | CHECK | BUILD BIN | ||||||
MatrixRider 1.18.0 Elena Grassi
| malbec1 | Linux (Ubuntu 18.04.4 LTS) / x86_64 | OK | OK | OK | ![]() | ||||||
tokay1 | Windows Server 2012 R2 Standard / x64 | OK | OK | OK | [ OK ] | ![]() | ||||||
merida1 | OS X 10.11.6 El Capitan / x86_64 | OK | OK | OK | OK | ![]() |
Package: MatrixRider |
Version: 1.18.0 |
Command: rm -rf MatrixRider.buildbin-libdir && mkdir MatrixRider.buildbin-libdir && C:\Users\biocbuild\bbs-3.10-bioc\R\bin\R.exe CMD INSTALL --merge-multiarch --build --library=MatrixRider.buildbin-libdir MatrixRider_1.18.0.tar.gz |
StartedAt: 2020-04-15 09:05:50 -0400 (Wed, 15 Apr 2020) |
EndedAt: 2020-04-15 09:07:14 -0400 (Wed, 15 Apr 2020) |
EllapsedTime: 84.4 seconds |
RetCode: 0 |
Status: OK |
PackageFile: MatrixRider_1.18.0.zip |
PackageFileSize: 301.4 KiB |
############################################################################## ############################################################################## ### ### Running command: ### ### rm -rf MatrixRider.buildbin-libdir && mkdir MatrixRider.buildbin-libdir && C:\Users\biocbuild\bbs-3.10-bioc\R\bin\R.exe CMD INSTALL --merge-multiarch --build --library=MatrixRider.buildbin-libdir MatrixRider_1.18.0.tar.gz ### ############################################################################## ############################################################################## install for i386 * installing *source* package 'MatrixRider' ... ** using staged installation ** libs C:/Rtools/mingw_32/bin/gcc -I"C:/Users/BIOCBU~1/BBS-3~1.10-/R/include" -DNDEBUG -I"C:/Users/biocbuild/bbs-3.10-bioc/R/library/IRanges/include" -I"C:/Users/biocbuild/bbs-3.10-bioc/R/library/XVector/include" -I"C:/Users/biocbuild/bbs-3.10-bioc/R/library/Biostrings/include" -I"C:/Users/biocbuild/bbs-3.10-bioc/R/library/S4Vectors/include" -I"C:/extsoft/include" -O3 -Wall -std=gnu99 -mtune=core2 -c Biostring_stubs.c -o Biostring_stubs.o C:/Rtools/mingw_32/bin/gcc -I"C:/Users/BIOCBU~1/BBS-3~1.10-/R/include" -DNDEBUG -I"C:/Users/biocbuild/bbs-3.10-bioc/R/library/IRanges/include" -I"C:/Users/biocbuild/bbs-3.10-bioc/R/library/XVector/include" -I"C:/Users/biocbuild/bbs-3.10-bioc/R/library/Biostrings/include" -I"C:/Users/biocbuild/bbs-3.10-bioc/R/library/S4Vectors/include" -I"C:/extsoft/include" -O3 -Wall -std=gnu99 -mtune=core2 -c CuTest.c -o CuTest.o C:/Rtools/mingw_32/bin/gcc -I"C:/Users/BIOCBU~1/BBS-3~1.10-/R/include" -DNDEBUG -I"C:/Users/biocbuild/bbs-3.10-bioc/R/library/IRanges/include" -I"C:/Users/biocbuild/bbs-3.10-bioc/R/library/XVector/include" -I"C:/Users/biocbuild/bbs-3.10-bioc/R/library/Biostrings/include" -I"C:/Users/biocbuild/bbs-3.10-bioc/R/library/S4Vectors/include" -I"C:/extsoft/include" -O3 -Wall -std=gnu99 -mtune=core2 -c R_init_MatrixRider.c -o R_init_MatrixRider.o C:/Rtools/mingw_32/bin/gcc -I"C:/Users/BIOCBU~1/BBS-3~1.10-/R/include" -DNDEBUG -I"C:/Users/biocbuild/bbs-3.10-bioc/R/library/IRanges/include" -I"C:/Users/biocbuild/bbs-3.10-bioc/R/library/XVector/include" -I"C:/Users/biocbuild/bbs-3.10-bioc/R/library/Biostrings/include" -I"C:/Users/biocbuild/bbs-3.10-bioc/R/library/S4Vectors/include" -I"C:/extsoft/include" -O3 -Wall -std=gnu99 -mtune=core2 -c RunCuTest.c -o RunCuTest.o C:/Rtools/mingw_32/bin/gcc -I"C:/Users/BIOCBU~1/BBS-3~1.10-/R/include" -DNDEBUG -I"C:/Users/biocbuild/bbs-3.10-bioc/R/library/IRanges/include" -I"C:/Users/biocbuild/bbs-3.10-bioc/R/library/XVector/include" -I"C:/Users/biocbuild/bbs-3.10-bioc/R/library/Biostrings/include" -I"C:/Users/biocbuild/bbs-3.10-bioc/R/library/S4Vectors/include" -I"C:/extsoft/include" -O3 -Wall -std=gnu99 -mtune=core2 -c XVector_stubs.c -o XVector_stubs.o C:/Rtools/mingw_32/bin/gcc -I"C:/Users/BIOCBU~1/BBS-3~1.10-/R/include" -DNDEBUG -I"C:/Users/biocbuild/bbs-3.10-bioc/R/library/IRanges/include" -I"C:/Users/biocbuild/bbs-3.10-bioc/R/library/XVector/include" -I"C:/Users/biocbuild/bbs-3.10-bioc/R/library/Biostrings/include" -I"C:/Users/biocbuild/bbs-3.10-bioc/R/library/S4Vectors/include" -I"C:/extsoft/include" -O3 -Wall -std=gnu99 -mtune=core2 -c matrix_rider.c -o matrix_rider.o C:/Rtools/mingw_32/bin/gcc -shared -s -static-libgcc -o MatrixRider.dll tmp.def Biostring_stubs.o CuTest.o R_init_MatrixRider.o RunCuTest.o XVector_stubs.o matrix_rider.o -LC:/extsoft/lib/i386 -LC:/extsoft/lib -LC:/Users/BIOCBU~1/BBS-3~1.10-/R/bin/i386 -lR installing to C:/Users/biocbuild/bbs-3.10-bioc/meat/MatrixRider.buildbin-libdir/00LOCK-MatrixRider/00new/MatrixRider/libs/i386 ** R ** inst ** byte-compile and prepare package for lazy loading No methods found in package 'IRanges' for request: 'score' when loading 'TFBSTools' ** help *** installing help indices converting help for package 'MatrixRider' finding HTML links ... done MatrixRider-package html getSeqOccupancy-method html finding level-2 HTML links ... done ** building package indices ** installing vignettes ** testing if installed package can be loaded from temporary location No methods found in package 'IRanges' for request: 'score' when loading 'TFBSTools' ** testing if installed package can be loaded from final location No methods found in package 'IRanges' for request: 'score' when loading 'TFBSTools' ** testing if installed package keeps a record of temporary installation path install for x64 * installing *source* package 'MatrixRider' ... ** libs C:/Rtools/mingw_64/bin/gcc -I"C:/Users/BIOCBU~1/BBS-3~1.10-/R/include" -DNDEBUG -I"C:/Users/biocbuild/bbs-3.10-bioc/R/library/IRanges/include" -I"C:/Users/biocbuild/bbs-3.10-bioc/R/library/XVector/include" -I"C:/Users/biocbuild/bbs-3.10-bioc/R/library/Biostrings/include" -I"C:/Users/biocbuild/bbs-3.10-bioc/R/library/S4Vectors/include" -I"C:/extsoft/include" -O2 -Wall -std=gnu99 -mtune=core2 -c Biostring_stubs.c -o Biostring_stubs.o C:/Rtools/mingw_64/bin/gcc -I"C:/Users/BIOCBU~1/BBS-3~1.10-/R/include" -DNDEBUG -I"C:/Users/biocbuild/bbs-3.10-bioc/R/library/IRanges/include" -I"C:/Users/biocbuild/bbs-3.10-bioc/R/library/XVector/include" -I"C:/Users/biocbuild/bbs-3.10-bioc/R/library/Biostrings/include" -I"C:/Users/biocbuild/bbs-3.10-bioc/R/library/S4Vectors/include" -I"C:/extsoft/include" -O2 -Wall -std=gnu99 -mtune=core2 -c CuTest.c -o CuTest.o C:/Rtools/mingw_64/bin/gcc -I"C:/Users/BIOCBU~1/BBS-3~1.10-/R/include" -DNDEBUG -I"C:/Users/biocbuild/bbs-3.10-bioc/R/library/IRanges/include" -I"C:/Users/biocbuild/bbs-3.10-bioc/R/library/XVector/include" -I"C:/Users/biocbuild/bbs-3.10-bioc/R/library/Biostrings/include" -I"C:/Users/biocbuild/bbs-3.10-bioc/R/library/S4Vectors/include" -I"C:/extsoft/include" -O2 -Wall -std=gnu99 -mtune=core2 -c R_init_MatrixRider.c -o R_init_MatrixRider.o C:/Rtools/mingw_64/bin/gcc -I"C:/Users/BIOCBU~1/BBS-3~1.10-/R/include" -DNDEBUG -I"C:/Users/biocbuild/bbs-3.10-bioc/R/library/IRanges/include" -I"C:/Users/biocbuild/bbs-3.10-bioc/R/library/XVector/include" -I"C:/Users/biocbuild/bbs-3.10-bioc/R/library/Biostrings/include" -I"C:/Users/biocbuild/bbs-3.10-bioc/R/library/S4Vectors/include" -I"C:/extsoft/include" -O2 -Wall -std=gnu99 -mtune=core2 -c RunCuTest.c -o RunCuTest.o C:/Rtools/mingw_64/bin/gcc -I"C:/Users/BIOCBU~1/BBS-3~1.10-/R/include" -DNDEBUG -I"C:/Users/biocbuild/bbs-3.10-bioc/R/library/IRanges/include" -I"C:/Users/biocbuild/bbs-3.10-bioc/R/library/XVector/include" -I"C:/Users/biocbuild/bbs-3.10-bioc/R/library/Biostrings/include" -I"C:/Users/biocbuild/bbs-3.10-bioc/R/library/S4Vectors/include" -I"C:/extsoft/include" -O2 -Wall -std=gnu99 -mtune=core2 -c XVector_stubs.c -o XVector_stubs.o C:/Rtools/mingw_64/bin/gcc -I"C:/Users/BIOCBU~1/BBS-3~1.10-/R/include" -DNDEBUG -I"C:/Users/biocbuild/bbs-3.10-bioc/R/library/IRanges/include" -I"C:/Users/biocbuild/bbs-3.10-bioc/R/library/XVector/include" -I"C:/Users/biocbuild/bbs-3.10-bioc/R/library/Biostrings/include" -I"C:/Users/biocbuild/bbs-3.10-bioc/R/library/S4Vectors/include" -I"C:/extsoft/include" -O2 -Wall -std=gnu99 -mtune=core2 -c matrix_rider.c -o matrix_rider.o C:/Rtools/mingw_64/bin/gcc -shared -s -static-libgcc -o MatrixRider.dll tmp.def Biostring_stubs.o CuTest.o R_init_MatrixRider.o RunCuTest.o XVector_stubs.o matrix_rider.o -LC:/extsoft/lib/x64 -LC:/extsoft/lib -LC:/Users/BIOCBU~1/BBS-3~1.10-/R/bin/x64 -lR installing to C:/Users/biocbuild/bbs-3.10-bioc/meat/MatrixRider.buildbin-libdir/MatrixRider/libs/x64 ** testing if installed package can be loaded No methods found in package 'IRanges' for request: 'score' when loading 'TFBSTools' * MD5 sums packaged installation of 'MatrixRider' as MatrixRider_1.18.0.zip * DONE (MatrixRider)