| Back to Multiple platform build/check report for BioC 3.10 | 
 | 
This page was generated on 2020-04-15 12:19:08 -0400 (Wed, 15 Apr 2020).
| Package 958/1823 | Hostname | OS / Arch | INSTALL | BUILD | CHECK | BUILD BIN | ||||||
| MassArray 1.38.0 Reid F. Thompson 
 | malbec1 | Linux (Ubuntu 18.04.4 LTS) / x86_64 | OK | OK | OK |  | ||||||
| tokay1 | Windows Server 2012 R2 Standard / x64 | [ OK ] | OK | OK | OK |  | ||||||
| merida1 | OS X 10.11.6 El Capitan / x86_64 | OK | OK | OK | OK |  | 
| Package: MassArray | 
| Version: 1.38.0 | 
| Command: C:\cygwin\bin\curl.exe -O https://malbec1.bioconductor.org/BBS/3.10/bioc/src/contrib/MassArray_1.38.0.tar.gz && rm -rf MassArray.buildbin-libdir && mkdir MassArray.buildbin-libdir && C:\Users\biocbuild\bbs-3.10-bioc\R\bin\R.exe CMD INSTALL --merge-multiarch --build --library=MassArray.buildbin-libdir MassArray_1.38.0.tar.gz && C:\Users\biocbuild\bbs-3.10-bioc\R\bin\R.exe CMD INSTALL MassArray_1.38.0.zip && rm MassArray_1.38.0.tar.gz MassArray_1.38.0.zip | 
| StartedAt: 2020-04-14 18:32:17 -0400 (Tue, 14 Apr 2020) | 
| EndedAt: 2020-04-14 18:32:54 -0400 (Tue, 14 Apr 2020) | 
| EllapsedTime: 37.2 seconds | 
| RetCode: 0 | 
| Status: OK | 
##############################################################################
##############################################################################
###
### Running command:
###
###   C:\cygwin\bin\curl.exe -O https://malbec1.bioconductor.org/BBS/3.10/bioc/src/contrib/MassArray_1.38.0.tar.gz && rm -rf MassArray.buildbin-libdir && mkdir MassArray.buildbin-libdir && C:\Users\biocbuild\bbs-3.10-bioc\R\bin\R.exe CMD INSTALL --merge-multiarch --build --library=MassArray.buildbin-libdir MassArray_1.38.0.tar.gz && C:\Users\biocbuild\bbs-3.10-bioc\R\bin\R.exe CMD INSTALL MassArray_1.38.0.zip && rm MassArray_1.38.0.tar.gz MassArray_1.38.0.zip
###
##############################################################################
##############################################################################
  % Total    % Received % Xferd  Average Speed   Time    Time     Time  Current
                                 Dload  Upload   Total   Spent    Left  Speed
  0     0    0     0    0     0      0      0 --:--:-- --:--:-- --:--:--     0
100  117k  100  117k    0     0  1752k      0 --:--:-- --:--:-- --:--:-- 1868k
install for i386
* installing *source* package 'MassArray' ...
** using staged installation
** R
** data
*** moving datasets to lazyload DB
** inst
** byte-compile and prepare package for lazy loading
** help
*** installing help indices
  converting help for package 'MassArray'
    finding HTML links ... done
    MassArray.example.data                  html  
    MassArrayData-class                     html  
    MassArrayFragment-class                 html  
    MassArrayPeak-class                     html  
    MassArraySpectrum-class                 html  
    ampliconPrediction                      html  
    analyzeCpGs                             html  
    bisConvert                              html  
    calcMW                                  html  
    calcMeth                                html  
    calcPercentAdduct                       html  
    calcPercentConversion                   html  
    combine-methods                         html  
    combine                                 html  
    convControl                             html  
    countCGs                                html  
    createWiggle                            html  
    estimatePrimerDimer                     html  
    evaluateSNPs                            html  
    expandSequence                          html  
    findCollisions                          html  
    findFragments                           html  
    findPeaks                               html  
    identifySNPs                            html  
    importEpiTyperData                      html  
    importEpiTyperData.new                  html  
    inSilicoFragmentation                   html  
    isAssayable                             html  
    numCollisions                           html  
    plot.MassArrayData                      html  
    position-methods                        html  
    position                                html  
    revComplement-methods                   html  
    revComplement                           html  
    rnaDigest                               html  
    samples-methods                         html  
    samples                                 html  
    sum.MassArraySpectrum                   html  
** building package indices
** installing vignettes
** testing if installed package can be loaded from temporary location
** testing if installed package can be loaded from final location
** testing if installed package keeps a record of temporary installation path
install for x64
* installing *source* package 'MassArray' ...
** testing if installed package can be loaded
* MD5 sums
packaged installation of 'MassArray' as MassArray_1.38.0.zip
* DONE (MassArray)
* installing to library 'C:/Users/biocbuild/bbs-3.10-bioc/R/library'
package 'MassArray' successfully unpacked and MD5 sums checked