| Back to Multiple platform build/check report for BioC 3.10 | 
 | 
This page was generated on 2020-04-15 12:22:15 -0400 (Wed, 15 Apr 2020).
| Package 1104/1823 | Hostname | OS / Arch | INSTALL | BUILD | CHECK | BUILD BIN | ||||||
| MSstats 3.18.5 Meena Choi 
 | malbec1 | Linux (Ubuntu 18.04.4 LTS) / x86_64 | OK | OK | OK |  | ||||||
| tokay1 | Windows Server 2012 R2 Standard / x64 | OK | OK | OK | [ OK ] |  | ||||||
| merida1 | OS X 10.11.6 El Capitan / x86_64 | OK | OK | OK | OK |  | 
| Package: MSstats | 
| Version: 3.18.5 | 
| Command: rm -rf MSstats.buildbin-libdir && mkdir MSstats.buildbin-libdir && C:\Users\biocbuild\bbs-3.10-bioc\R\bin\R.exe CMD INSTALL --merge-multiarch --build --library=MSstats.buildbin-libdir MSstats_3.18.5.tar.gz | 
| StartedAt: 2020-04-15 09:13:49 -0400 (Wed, 15 Apr 2020) | 
| EndedAt: 2020-04-15 09:14:27 -0400 (Wed, 15 Apr 2020) | 
| EllapsedTime: 38.2 seconds | 
| RetCode: 0 | 
| Status: OK | 
| PackageFile: MSstats_3.18.5.zip | 
| PackageFileSize: 693.5 KiB | 
##############################################################################
##############################################################################
###
### Running command:
###
###   rm -rf MSstats.buildbin-libdir && mkdir MSstats.buildbin-libdir && C:\Users\biocbuild\bbs-3.10-bioc\R\bin\R.exe CMD INSTALL --merge-multiarch --build --library=MSstats.buildbin-libdir MSstats_3.18.5.tar.gz
###
##############################################################################
##############################################################################
install for i386
* installing *source* package 'MSstats' ...
** using staged installation
** R
** data
*** moving datasets to lazyload DB
** inst
** byte-compile and prepare package for lazy loading
** help
*** installing help indices
  converting help for package 'MSstats'
    finding HTML links ... done
    DDARawData                              html  
    DDARawData.Skyline                      html  
    DIARawData                              html  
    DIAUmpiretoMSstatsFormat                html  
    MSstats-package                         html  
    MaxQtoMSstatsFormat                     html  
    OpenMStoMSstatsFormat                   html  
    OpenSWATHtoMSstatsFormat                html  
    PDtoMSstatsFormat                       html  
    ProgenesistoMSstatsFormat               html  
    SRMRawData                              html  
    SkylinetoMSstatsFormat                  html  
    SpectronauttoMSstatsFormat              html  
    SpikeInDataLinear                       html  
    SpikeInDataNonLinear                    html  
    dataProcess                             html  
    dataProcessPlots                        html  
    designSampleSize                        html  
    designSampleSizePlots                   html  
    groupComparison                         html  
    groupComparisonPlots                    html  
    linear_quantlim                         html  
    modelBasedQCPlots                       html  
    nonlinear_quantlim                      html  
    plot_quantlim                           html  
    quantification                          html  
** building package indices
** installing vignettes
** testing if installed package can be loaded from temporary location
** testing if installed package can be loaded from final location
** testing if installed package keeps a record of temporary installation path
install for x64
* installing *source* package 'MSstats' ...
** testing if installed package can be loaded
* MD5 sums
packaged installation of 'MSstats' as MSstats_3.18.5.zip
* DONE (MSstats)