| Back to Multiple platform build/check report for BioC 3.10 |
|
This page was generated on 2020-04-15 12:17:02 -0400 (Wed, 15 Apr 2020).
| Package 1067/1823 | Hostname | OS / Arch | INSTALL | BUILD | CHECK | BUILD BIN | ||||||
| MLInterfaces 1.66.5 V. Carey
| malbec1 | Linux (Ubuntu 18.04.4 LTS) / x86_64 | OK | OK | OK | |||||||
| tokay1 | Windows Server 2012 R2 Standard / x64 | OK | OK | WARNINGS | [ OK ] | |||||||
| merida1 | OS X 10.11.6 El Capitan / x86_64 | OK | OK | OK | OK |
| Package: MLInterfaces |
| Version: 1.66.5 |
| Command: rm -rf MLInterfaces.buildbin-libdir && mkdir MLInterfaces.buildbin-libdir && C:\Users\biocbuild\bbs-3.10-bioc\R\bin\R.exe CMD INSTALL --merge-multiarch --build --library=MLInterfaces.buildbin-libdir MLInterfaces_1.66.5.tar.gz |
| StartedAt: 2020-04-15 09:11:44 -0400 (Wed, 15 Apr 2020) |
| EndedAt: 2020-04-15 09:12:26 -0400 (Wed, 15 Apr 2020) |
| EllapsedTime: 41.5 seconds |
| RetCode: 0 |
| Status: OK |
| PackageFile: MLInterfaces_1.66.5.zip |
| PackageFileSize: 1.476 MiB |
##############################################################################
##############################################################################
###
### Running command:
###
### rm -rf MLInterfaces.buildbin-libdir && mkdir MLInterfaces.buildbin-libdir && C:\Users\biocbuild\bbs-3.10-bioc\R\bin\R.exe CMD INSTALL --merge-multiarch --build --library=MLInterfaces.buildbin-libdir MLInterfaces_1.66.5.tar.gz
###
##############################################################################
##############################################################################
install for i386
* installing *source* package 'MLInterfaces' ...
** using staged installation
** R
** inst
** byte-compile and prepare package for lazy loading
** help
*** installing help indices
converting help for package 'MLInterfaces'
finding HTML links ... done
MLIntInternals html
MLearn-new html
Rd warning: C:/Users/biocbuild/bbs-3.10-bioc/tmpdir/Rtmp0W4dIl/R.INSTALL2c1cbb115d6/MLInterfaces/man/MLearn-new.Rd:163: file link 'mclapply' in package 'parallel' does not exist and so has been treated as a topic
RAB html
balKfold.xvspec html
classifierOutput-class html
clusteringOutput-class html
confuMat-methods html
confuTab html
fs.absT html
fsHistory html
hclustWidget html
Rd warning: C:/Users/biocbuild/bbs-3.10-bioc/tmpdir/Rtmp0W4dIl/R.INSTALL2c1cbb115d6/MLInterfaces/man/hclustWidget.Rd:35: file link 'ExpressionSet-class' in package 'Biobase' does not exist and so has been treated as a topic
learnerSchema-class html
performance-analytics html
planarPlot-methods html
plspinHcube html
predict.classifierOutput html
projectLearnerToGrid html
projectedLearner-class html
raboostCont-class html
varImpStruct-class html
xvalLoop html
xvalSpec html
Rd warning: C:/Users/biocbuild/bbs-3.10-bioc/tmpdir/Rtmp0W4dIl/R.INSTALL2c1cbb115d6/MLInterfaces/man/xvalSpec.Rd:43: file link 'mclapply' in package 'parallel' does not exist and so has been treated as a topic
** building package indices
** installing vignettes
** testing if installed package can be loaded from temporary location
** testing if installed package can be loaded from final location
** testing if installed package keeps a record of temporary installation path
install for x64
* installing *source* package 'MLInterfaces' ...
** testing if installed package can be loaded
* MD5 sums
packaged installation of 'MLInterfaces' as MLInterfaces_1.66.5.zip
* DONE (MLInterfaces)