| Back to Multiple platform build/check report for BioC 3.10 | 
  | 
This page was generated on 2020-04-15 12:46:08 -0400 (Wed, 15 Apr 2020).
| Package 1050/1823 | Hostname | OS / Arch | INSTALL | BUILD | CHECK | BUILD BIN | ||||||
| MIRA 1.8.0 John Lawson 
  | malbec1 | Linux (Ubuntu 18.04.4 LTS) / x86_64 | OK | OK | OK | |||||||
| tokay1 | Windows Server 2012 R2 Standard / x64 | OK | OK | OK | OK | |||||||
| merida1 | OS X 10.11.6 El Capitan / x86_64 | OK | OK | OK | [ OK ] | 
| Package: MIRA | 
| Version: 1.8.0 | 
| Command: rm -rf MIRA.buildbin-libdir && mkdir MIRA.buildbin-libdir && /Users/biocbuild/BBS/utils/build-universal.sh MIRA_1.8.0.tar.gz /Library/Frameworks/R.framework/Versions/Current/Resources/bin/R MIRA.buildbin-libdir | 
| StartedAt: 2020-04-15 08:04:14 -0400 (Wed, 15 Apr 2020) | 
| EndedAt: 2020-04-15 08:05:11 -0400 (Wed, 15 Apr 2020) | 
| EllapsedTime: 56.6 seconds | 
| RetCode: 0 | 
| Status: OK | 
| PackageFile: MIRA_1.8.0.tgz | 
| PackageFileSize: 2.598 MiB | 
############################################################################## ############################################################################## ### ### Running command: ### ### rm -rf MIRA.buildbin-libdir && mkdir MIRA.buildbin-libdir && /Users/biocbuild/BBS/utils/build-universal.sh MIRA_1.8.0.tar.gz /Library/Frameworks/R.framework/Versions/Current/Resources/bin/R MIRA.buildbin-libdir ### ############################################################################## ############################################################################## >>>>>>> >>>>>>> INSTALLATION WITH 'R CMD INSTALL --preclean --no-multiarch --library=MIRA.buildbin-libdir MIRA_1.8.0.tar.gz' >>>>>>> * installing *source* package ‘MIRA’ ... ** using staged installation ** R ** data ** inst ** byte-compile and prepare package for lazy loading ** help *** installing help indices ** building package indices ** installing vignettes ** testing if installed package can be loaded from temporary location ** testing if installed package can be loaded from final location ** testing if installed package keeps a record of temporary installation path * DONE (MIRA)