| Back to Multiple platform build/check report for BioC 3.10 | 
 | 
This page was generated on 2020-04-15 12:05:21 -0400 (Wed, 15 Apr 2020).
| Package 985/1823 | Hostname | OS / Arch | INSTALL | BUILD | CHECK | BUILD BIN | ||||||
| MEDME 1.46.0 Mattia Pelizzola 
 | malbec1 | Linux (Ubuntu 18.04.4 LTS) / x86_64 | OK | [ OK ] | WARNINGS |  | ||||||
| tokay1 | Windows Server 2012 R2 Standard / x64 | OK | OK | WARNINGS | OK |  | ||||||
| merida1 | OS X 10.11.6 El Capitan / x86_64 | OK | OK | WARNINGS | OK |  | 
| Package: MEDME | 
| Version: 1.46.0 | 
| Command: /home/biocbuild/bbs-3.10-bioc/R/bin/R CMD build --keep-empty-dirs --no-resave-data MEDME | 
| StartedAt: 2020-04-14 19:37:38 -0400 (Tue, 14 Apr 2020) | 
| EndedAt: 2020-04-14 19:38:12 -0400 (Tue, 14 Apr 2020) | 
| EllapsedTime: 34.1 seconds | 
| RetCode: 0 | 
| Status: OK | 
| PackageFile: MEDME_1.46.0.tar.gz | 
| PackageFileSize: 393.8 KiB | 
############################################################################## ############################################################################## ### ### Running command: ### ### /home/biocbuild/bbs-3.10-bioc/R/bin/R CMD build --keep-empty-dirs --no-resave-data MEDME ### ############################################################################## ############################################################################## * checking for file ‘MEDME/DESCRIPTION’ ... OK * preparing ‘MEDME’: * checking DESCRIPTION meta-information ... OK * cleaning src * installing the package to build vignettes * creating vignettes ... OK * cleaning src * checking for LF line-endings in source and make files and shell scripts * checking for empty or unneeded directories * looking to see if a ‘data/datalist’ file should be added * building ‘MEDME_1.46.0.tar.gz’