| Back to Multiple platform build/check report for BioC 3.10 |
|
This page was generated on 2020-04-15 12:19:20 -0400 (Wed, 15 Apr 2020).
| Package 968/1823 | Hostname | OS / Arch | INSTALL | BUILD | CHECK | BUILD BIN | ||||||
| MBCB 1.40.0 Jeff Allen
| malbec1 | Linux (Ubuntu 18.04.4 LTS) / x86_64 | OK | OK | OK | |||||||
| tokay1 | Windows Server 2012 R2 Standard / x64 | OK | OK | OK | [ OK ] | |||||||
| merida1 | OS X 10.11.6 El Capitan / x86_64 | OK | OK | OK | OK |
| Package: MBCB |
| Version: 1.40.0 |
| Command: rm -rf MBCB.buildbin-libdir && mkdir MBCB.buildbin-libdir && C:\Users\biocbuild\bbs-3.10-bioc\R\bin\R.exe CMD INSTALL --merge-multiarch --build --library=MBCB.buildbin-libdir MBCB_1.40.0.tar.gz |
| StartedAt: 2020-04-15 09:06:06 -0400 (Wed, 15 Apr 2020) |
| EndedAt: 2020-04-15 09:06:44 -0400 (Wed, 15 Apr 2020) |
| EllapsedTime: 37.4 seconds |
| RetCode: 0 |
| Status: OK |
| PackageFile: MBCB_1.40.0.zip |
| PackageFileSize: 261.7 KiB |
##############################################################################
##############################################################################
###
### Running command:
###
### rm -rf MBCB.buildbin-libdir && mkdir MBCB.buildbin-libdir && C:\Users\biocbuild\bbs-3.10-bioc\R\bin\R.exe CMD INSTALL --merge-multiarch --build --library=MBCB.buildbin-libdir MBCB_1.40.0.tar.gz
###
##############################################################################
##############################################################################
install for i386
* installing *source* package 'MBCB' ...
** using staged installation
** R
** data
** inst
** byte-compile and prepare package for lazy loading
** help
*** installing help indices
converting help for package 'MBCB'
finding HTML links ... done
MBCBExpressionData html
bg.mcmc html
bg.rma html
mbcb.correct html
mbcb.gui html
mbcb.main html
mbcb.parseFile html
printMBCBOutput html
** building package indices
** installing vignettes
** testing if installed package can be loaded from temporary location
** testing if installed package can be loaded from final location
** testing if installed package keeps a record of temporary installation path
install for x64
* installing *source* package 'MBCB' ...
** testing if installed package can be loaded
* MD5 sums
packaged installation of 'MBCB' as MBCB_1.40.0.zip
* DONE (MBCB)