| Back to Multiple platform build/check report for BioC 3.10 |
|
This page was generated on 2020-04-15 12:33:33 -0400 (Wed, 15 Apr 2020).
| Package 939/1823 | Hostname | OS / Arch | INSTALL | BUILD | CHECK | BUILD BIN | ||||||
| MACSQuantifyR 1.0.1 Raphaƫl Bonnet
| malbec1 | Linux (Ubuntu 18.04.4 LTS) / x86_64 | OK | OK | OK | |||||||
| tokay1 | Windows Server 2012 R2 Standard / x64 | [ OK ] | OK | OK | OK | |||||||
| merida1 | OS X 10.11.6 El Capitan / x86_64 | OK | OK | OK | OK |
| Package: MACSQuantifyR |
| Version: 1.0.1 |
| Command: C:\cygwin\bin\curl.exe -O https://malbec1.bioconductor.org/BBS/3.10/bioc/src/contrib/MACSQuantifyR_1.0.1.tar.gz && rm -rf MACSQuantifyR.buildbin-libdir && mkdir MACSQuantifyR.buildbin-libdir && C:\Users\biocbuild\bbs-3.10-bioc\R\bin\R.exe CMD INSTALL --merge-multiarch --build --library=MACSQuantifyR.buildbin-libdir MACSQuantifyR_1.0.1.tar.gz && C:\Users\biocbuild\bbs-3.10-bioc\R\bin\R.exe CMD INSTALL MACSQuantifyR_1.0.1.zip && rm MACSQuantifyR_1.0.1.tar.gz MACSQuantifyR_1.0.1.zip |
| StartedAt: 2020-04-14 20:20:19 -0400 (Tue, 14 Apr 2020) |
| EndedAt: 2020-04-14 20:20:43 -0400 (Tue, 14 Apr 2020) |
| EllapsedTime: 23.4 seconds |
| RetCode: 0 |
| Status: OK |
##############################################################################
##############################################################################
###
### Running command:
###
### C:\cygwin\bin\curl.exe -O https://malbec1.bioconductor.org/BBS/3.10/bioc/src/contrib/MACSQuantifyR_1.0.1.tar.gz && rm -rf MACSQuantifyR.buildbin-libdir && mkdir MACSQuantifyR.buildbin-libdir && C:\Users\biocbuild\bbs-3.10-bioc\R\bin\R.exe CMD INSTALL --merge-multiarch --build --library=MACSQuantifyR.buildbin-libdir MACSQuantifyR_1.0.1.tar.gz && C:\Users\biocbuild\bbs-3.10-bioc\R\bin\R.exe CMD INSTALL MACSQuantifyR_1.0.1.zip && rm MACSQuantifyR_1.0.1.tar.gz MACSQuantifyR_1.0.1.zip
###
##############################################################################
##############################################################################
% Total % Received % Xferd Average Speed Time Time Time Current
Dload Upload Total Spent Left Speed
0 0 0 0 0 0 0 0 --:--:-- --:--:-- --:--:-- 0
100 1464k 100 1464k 0 0 5647k 0 --:--:-- --:--:-- --:--:-- 5720k
install for i386
* installing *source* package 'MACSQuantifyR' ...
** using staged installation
** R
** inst
** byte-compile and prepare package for lazy loading
** help
*** installing help indices
converting help for package 'MACSQuantifyR'
finding HTML links ... done
MACSQuant html
barplot_data html
combination_index html
generate_report html
load_MACSQuant html
new_class_MQ html
on_plate_selection html
pipeline html
rData html
setPath html
sorted html
** building package indices
** installing vignettes
** testing if installed package can be loaded from temporary location
** testing if installed package can be loaded from final location
** testing if installed package keeps a record of temporary installation path
install for x64
* installing *source* package 'MACSQuantifyR' ...
** testing if installed package can be loaded
* MD5 sums
packaged installation of 'MACSQuantifyR' as MACSQuantifyR_1.0.1.zip
* DONE (MACSQuantifyR)
* installing to library 'C:/Users/biocbuild/bbs-3.10-bioc/R/library'
package 'MACSQuantifyR' successfully unpacked and MD5 sums checked