| Back to Multiple platform build/check report for BioC 3.10 | 
 | 
This page was generated on 2020-04-15 12:31:30 -0400 (Wed, 15 Apr 2020).
| Package 921/1823 | Hostname | OS / Arch | INSTALL | BUILD | CHECK | BUILD BIN | ||||||
| LoomExperiment 1.4.0 Bioconductor Package Maintainer 
 | malbec1 | Linux (Ubuntu 18.04.4 LTS) / x86_64 | OK | OK | OK |  | ||||||
| tokay1 | Windows Server 2012 R2 Standard / x64 | OK | [ OK ] | OK | OK |  | ||||||
| merida1 | OS X 10.11.6 El Capitan / x86_64 | OK | OK | OK | OK |  | 
| Package: LoomExperiment | 
| Version: 1.4.0 | 
| Command: chmod a+r LoomExperiment -R && C:\Users\biocbuild\bbs-3.10-bioc\R\bin\R.exe CMD build --keep-empty-dirs --no-resave-data LoomExperiment | 
| StartedAt: 2020-04-15 00:25:27 -0400 (Wed, 15 Apr 2020) | 
| EndedAt: 2020-04-15 00:26:18 -0400 (Wed, 15 Apr 2020) | 
| EllapsedTime: 51.5 seconds | 
| RetCode: 0 | 
| Status: OK | 
| PackageFile: LoomExperiment_1.4.0.tar.gz | 
| PackageFileSize: 252.4 KiB | 
############################################################################## ############################################################################## ### ### Running command: ### ### chmod a+r LoomExperiment -R && C:\Users\biocbuild\bbs-3.10-bioc\R\bin\R.exe CMD build --keep-empty-dirs --no-resave-data LoomExperiment ### ############################################################################## ############################################################################## * checking for file 'LoomExperiment/DESCRIPTION' ... OK * preparing 'LoomExperiment': * checking DESCRIPTION meta-information ... OK * installing the package to build vignettes * creating vignettes ... OK * checking for LF line-endings in source and make files and shell scripts * checking for empty or unneeded directories * building 'LoomExperiment_1.4.0.tar.gz'