Back to Multiple platform build/check report for BioC 3.10 |
|
This page was generated on 2020-04-15 12:33:25 -0400 (Wed, 15 Apr 2020).
Package 907/1823 | Hostname | OS / Arch | INSTALL | BUILD | CHECK | BUILD BIN | ||||||
LinkHD 1.0.0 "Laura M Zingaretti"
| malbec1 | Linux (Ubuntu 18.04.4 LTS) / x86_64 | OK | OK | OK | ![]() | ||||||
tokay1 | Windows Server 2012 R2 Standard / x64 | [ OK ] | OK | OK | OK | ![]() | ||||||
merida1 | OS X 10.11.6 El Capitan / x86_64 | OK | OK | OK | OK | ![]() |
Package: LinkHD |
Version: 1.0.0 |
Command: C:\cygwin\bin\curl.exe -O https://malbec1.bioconductor.org/BBS/3.10/bioc/src/contrib/LinkHD_1.0.0.tar.gz && rm -rf LinkHD.buildbin-libdir && mkdir LinkHD.buildbin-libdir && C:\Users\biocbuild\bbs-3.10-bioc\R\bin\R.exe CMD INSTALL --merge-multiarch --build --library=LinkHD.buildbin-libdir LinkHD_1.0.0.tar.gz && C:\Users\biocbuild\bbs-3.10-bioc\R\bin\R.exe CMD INSTALL LinkHD_1.0.0.zip && rm LinkHD_1.0.0.tar.gz LinkHD_1.0.0.zip |
StartedAt: 2020-04-14 20:18:47 -0400 (Tue, 14 Apr 2020) |
EndedAt: 2020-04-14 20:20:36 -0400 (Tue, 14 Apr 2020) |
EllapsedTime: 108.9 seconds |
RetCode: 0 |
Status: OK |
############################################################################## ############################################################################## ### ### Running command: ### ### C:\cygwin\bin\curl.exe -O https://malbec1.bioconductor.org/BBS/3.10/bioc/src/contrib/LinkHD_1.0.0.tar.gz && rm -rf LinkHD.buildbin-libdir && mkdir LinkHD.buildbin-libdir && C:\Users\biocbuild\bbs-3.10-bioc\R\bin\R.exe CMD INSTALL --merge-multiarch --build --library=LinkHD.buildbin-libdir LinkHD_1.0.0.tar.gz && C:\Users\biocbuild\bbs-3.10-bioc\R\bin\R.exe CMD INSTALL LinkHD_1.0.0.zip && rm LinkHD_1.0.0.tar.gz LinkHD_1.0.0.zip ### ############################################################################## ############################################################################## % Total % Received % Xferd Average Speed Time Time Time Current Dload Upload Total Spent Left Speed 0 0 0 0 0 0 0 0 --:--:-- --:--:-- --:--:-- 0 100 872k 100 872k 0 0 6251k 0 --:--:-- --:--:-- --:--:-- 6417k install for i386 * installing *source* package 'LinkHD' ... ** using staged installation ** R ** data *** moving datasets to lazyload DB ** byte-compile and prepare package for lazy loading ** help *** installing help indices converting help for package 'LinkHD' finding HTML links ... done Compromise_matrix-methods html DataProcessing html DistStatis-Class html DistStatis-CompromisePlot html DistStatis-CorrelationPlot html DistStatis-GlobalPlot html Euclid_Im-methods html Inertia_RV-methods html Inertia_comp-methods html LinkData-LinkData html OTU2Taxa-OTU2Taxa html RQO-methods html Read_Data html Ruminotypes html Taraoceans html Trajectories-methods html VarSelection-Class html VarSelection html VarTable-methods html Var_coordinates-methods html Variables-methods html compromise_coords-methods html correl-methods html dAB-dAB html sign_values-methods html ** building package indices ** installing vignettes ** testing if installed package can be loaded from temporary location ** testing if installed package can be loaded from final location ** testing if installed package keeps a record of temporary installation path install for x64 * installing *source* package 'LinkHD' ... ** testing if installed package can be loaded * MD5 sums packaged installation of 'LinkHD' as LinkHD_1.0.0.zip * DONE (LinkHD) * installing to library 'C:/Users/biocbuild/bbs-3.10-bioc/R/library' package 'LinkHD' successfully unpacked and MD5 sums checked