| Back to Multiple platform build/check report for BioC 3.10 | 
 | 
This page was generated on 2020-04-15 12:25:16 -0400 (Wed, 15 Apr 2020).
| Package 899/1823 | Hostname | OS / Arch | INSTALL | BUILD | CHECK | BUILD BIN | ||||||
| LedPred 1.20.0 Aitor Gonzalez 
 | malbec1 | Linux (Ubuntu 18.04.4 LTS) / x86_64 | OK | OK | OK |  | ||||||
| tokay1 | Windows Server 2012 R2 Standard / x64 | OK | OK | OK | [ OK ] |  | ||||||
| merida1 | OS X 10.11.6 El Capitan / x86_64 | OK | OK | OK | OK |  | 
| Package: LedPred | 
| Version: 1.20.0 | 
| Command: rm -rf LedPred.buildbin-libdir && mkdir LedPred.buildbin-libdir && C:\Users\biocbuild\bbs-3.10-bioc\R\bin\R.exe CMD INSTALL --merge-multiarch --build --library=LedPred.buildbin-libdir LedPred_1.20.0.tar.gz | 
| StartedAt: 2020-04-15 09:02:12 -0400 (Wed, 15 Apr 2020) | 
| EndedAt: 2020-04-15 09:02:50 -0400 (Wed, 15 Apr 2020) | 
| EllapsedTime: 37.8 seconds | 
| RetCode: 0 | 
| Status: OK | 
| PackageFile: LedPred_1.20.0.zip | 
| PackageFileSize: 1.615 MiB | 
##############################################################################
##############################################################################
###
### Running command:
###
###   rm -rf LedPred.buildbin-libdir && mkdir LedPred.buildbin-libdir && C:\Users\biocbuild\bbs-3.10-bioc\R\bin\R.exe CMD INSTALL --merge-multiarch --build --library=LedPred.buildbin-libdir LedPred_1.20.0.tar.gz
###
##############################################################################
##############################################################################
install for i386
* installing *source* package 'LedPred' ...
** using staged installation
** R
** data
*** moving datasets to lazyload DB
** inst
** byte-compile and prepare package for lazy loading
** help
*** installing help indices
  converting help for package 'LedPred'
    finding HTML links ... done
    LedPred                                 html  
    createModel                             html  
    crm.features                            html  
    evaluateModelPerformance                html  
    feature.ranking                         html  
    mapFeaturesToCRMs                       html  
    mcTune                                  html  
    rankFeatures                            html  
    scoreData                               html  
    tuneFeatureNb                           html  
** building package indices
** installing vignettes
** testing if installed package can be loaded from temporary location
** testing if installed package can be loaded from final location
** testing if installed package keeps a record of temporary installation path
install for x64
* installing *source* package 'LedPred' ...
** testing if installed package can be loaded
* MD5 sums
packaged installation of 'LedPred' as LedPred_1.20.0.zip
* DONE (LedPred)