| Back to Multiple platform build/check report for BioC 3.10 |
|
This page was generated on 2020-04-15 12:05:15 -0400 (Wed, 15 Apr 2020).
| Package 924/1823 | Hostname | OS / Arch | INSTALL | BUILD | CHECK | BUILD BIN | ||||||
| LPEadj 1.46.0 Carl Murie
| malbec1 | Linux (Ubuntu 18.04.4 LTS) / x86_64 | OK | [ OK ] | OK | |||||||
| tokay1 | Windows Server 2012 R2 Standard / x64 | OK | OK | OK | OK | |||||||
| merida1 | OS X 10.11.6 El Capitan / x86_64 | OK | OK | OK | OK |
| Package: LPEadj |
| Version: 1.46.0 |
| Command: /home/biocbuild/bbs-3.10-bioc/R/bin/R CMD build --keep-empty-dirs --no-resave-data LPEadj |
| StartedAt: 2020-04-14 19:36:53 -0400 (Tue, 14 Apr 2020) |
| EndedAt: 2020-04-14 19:36:58 -0400 (Tue, 14 Apr 2020) |
| EllapsedTime: 4.9 seconds |
| RetCode: 0 |
| Status: OK |
| PackageFile: LPEadj_1.46.0.tar.gz |
| PackageFileSize: 1.41 MiB |
############################################################################## ############################################################################## ### ### Running command: ### ### /home/biocbuild/bbs-3.10-bioc/R/bin/R CMD build --keep-empty-dirs --no-resave-data LPEadj ### ############################################################################## ############################################################################## * checking for file ‘LPEadj/DESCRIPTION’ ... OK * preparing ‘LPEadj’: * checking DESCRIPTION meta-information ... OK * installing the package to build vignettes * creating vignettes ... OK * checking for LF line-endings in source and make files and shell scripts * checking for empty or unneeded directories * building ‘LPEadj_1.46.0.tar.gz’