| Back to Multiple platform build/check report for BioC 3.10 |
|
This page was generated on 2020-04-15 12:44:12 -0400 (Wed, 15 Apr 2020).
| Package 905/1823 | Hostname | OS / Arch | INSTALL | BUILD | CHECK | BUILD BIN | ||||||
| LINC 1.14.0 Manuel Goepferich
| malbec1 | Linux (Ubuntu 18.04.4 LTS) / x86_64 | OK | OK | OK | |||||||
| tokay1 | Windows Server 2012 R2 Standard / x64 | OK | OK | OK | OK | |||||||
| merida1 | OS X 10.11.6 El Capitan / x86_64 | OK | OK | OK | [ OK ] |
| Package: LINC |
| Version: 1.14.0 |
| Command: rm -rf LINC.buildbin-libdir && mkdir LINC.buildbin-libdir && /Users/biocbuild/BBS/utils/build-universal.sh LINC_1.14.0.tar.gz /Library/Frameworks/R.framework/Versions/Current/Resources/bin/R LINC.buildbin-libdir |
| StartedAt: 2020-04-15 07:52:40 -0400 (Wed, 15 Apr 2020) |
| EndedAt: 2020-04-15 07:53:37 -0400 (Wed, 15 Apr 2020) |
| EllapsedTime: 57.0 seconds |
| RetCode: 0 |
| Status: OK |
| PackageFile: LINC_1.14.0.tgz |
| PackageFileSize: 4.929 MiB |
##############################################################################
##############################################################################
###
### Running command:
###
### rm -rf LINC.buildbin-libdir && mkdir LINC.buildbin-libdir && /Users/biocbuild/BBS/utils/build-universal.sh LINC_1.14.0.tar.gz /Library/Frameworks/R.framework/Versions/Current/Resources/bin/R LINC.buildbin-libdir
###
##############################################################################
##############################################################################
>>>>>>>
>>>>>>> INSTALLATION WITH 'R CMD INSTALL --preclean --no-multiarch --library=LINC.buildbin-libdir LINC_1.14.0.tar.gz'
>>>>>>>
* installing *source* package ‘LINC’ ...
** using staged installation
** libs
clang++ -std=gnu++11 -I"/Library/Frameworks/R.framework/Resources/include" -DNDEBUG -I"/Library/Frameworks/R.framework/Versions/3.6/Resources/library/Rcpp/include" -isysroot /Library/Developer/CommandLineTools/SDKs/MacOSX.sdk -I/usr/local/include -fPIC -Wall -g -O2 -c Cppspear.cpp -o Cppspear.o
Cppspear.cpp:78:14: warning: unused variable 'qspear' [-Wunused-variable]
double qspear;double nfraction;
^
1 warning generated.
clang -I"/Library/Frameworks/R.framework/Resources/include" -DNDEBUG -I"/Library/Frameworks/R.framework/Versions/3.6/Resources/library/Rcpp/include" -isysroot /Library/Developer/CommandLineTools/SDKs/MacOSX.sdk -I/usr/local/include -fPIC -Wall -g -O2 -c LINC_init.c -o LINC_init.o
clang++ -std=gnu++11 -I"/Library/Frameworks/R.framework/Resources/include" -DNDEBUG -I"/Library/Frameworks/R.framework/Versions/3.6/Resources/library/Rcpp/include" -isysroot /Library/Developer/CommandLineTools/SDKs/MacOSX.sdk -I/usr/local/include -fPIC -Wall -g -O2 -c RcppExports.cpp -o RcppExports.o
clang++ -std=gnu++11 -I"/Library/Frameworks/R.framework/Resources/include" -DNDEBUG -I"/Library/Frameworks/R.framework/Versions/3.6/Resources/library/Rcpp/include" -isysroot /Library/Developer/CommandLineTools/SDKs/MacOSX.sdk -I/usr/local/include -fPIC -Wall -g -O2 -c docdd.cpp -o docdd.o
clang++ -std=gnu++11 -I"/Library/Frameworks/R.framework/Resources/include" -DNDEBUG -I"/Library/Frameworks/R.framework/Versions/3.6/Resources/library/Rcpp/include" -isysroot /Library/Developer/CommandLineTools/SDKs/MacOSX.sdk -I/usr/local/include -fPIC -Wall -g -O2 -c doesd.cpp -o doesd.o
clang++ -std=gnu++11 -dynamiclib -Wl,-headerpad_max_install_names -undefined dynamic_lookup -single_module -multiply_defined suppress -L/Library/Frameworks/R.framework/Resources/lib -L/usr/local/lib -o LINC.so Cppspear.o LINC_init.o RcppExports.o docdd.o doesd.o -F/Library/Frameworks/R.framework/.. -framework R -Wl,-framework -Wl,CoreFoundation
installing to /Users/biocbuild/bbs-3.10-bioc/meat/LINC.buildbin-libdir/00LOCK-LINC/00new/LINC/libs
** R
** data
** inst
** byte-compile and prepare package for lazy loading
Creating a new generic function for ‘history’ in package ‘LINC’
** help
*** installing help indices
** building package indices
** installing vignettes
** testing if installed package can be loaded from temporary location
** checking absolute paths in shared objects and dynamic libraries
** testing if installed package can be loaded from final location
** testing if installed package keeps a record of temporary installation path
* DONE (LINC)
>>>>>>>
>>>>>>> FIXING LINKS FOR LINC.buildbin-libdir/LINC/libs//LINC.so
>>>>>>>
install_name_tool -change "/usr/local/lib/libgcc_s.1.dylib" "/Library/Frameworks/R.framework/Versions/3.6/Resources/lib/libgcc_s.1.dylib" "LINC.buildbin-libdir/LINC/libs//LINC.so"
install_name_tool -change "/usr/local/lib/libgfortran.3.dylib" "/Library/Frameworks/R.framework/Versions/3.6/Resources/lib/libgfortran.3.dylib" "LINC.buildbin-libdir/LINC/libs//LINC.so"
install_name_tool -change "/usr/local/lib/libreadline.5.2.dylib" "/Library/Frameworks/R.framework/Versions/3.6/Resources/lib/libreadline.5.2.dylib" "LINC.buildbin-libdir/LINC/libs//LINC.so"
install_name_tool -change "/usr/local/lib/libreadline.dylib" "/Library/Frameworks/R.framework/Versions/3.6/Resources/lib/libreadline.dylib" "LINC.buildbin-libdir/LINC/libs//LINC.so"
install_name_tool -change "/usr/local/lib/libquadmath.0.dylib" "/Library/Frameworks/R.framework/Versions/3.6/Resources/lib/libquadmath.0.dylib" "LINC.buildbin-libdir/LINC/libs//LINC.so"