| Back to Multiple platform build/check report for BioC 3.10 | 
 | 
This page was generated on 2020-04-15 12:25:58 -0400 (Wed, 15 Apr 2020).
| Package 882/1823 | Hostname | OS / Arch | INSTALL | BUILD | CHECK | BUILD BIN | ||||||
| JunctionSeq 1.16.0 Stephen Hartley 
 | malbec1 | Linux (Ubuntu 18.04.4 LTS) / x86_64 | OK | OK | WARNINGS |  | ||||||
| tokay1 | Windows Server 2012 R2 Standard / x64 | [ OK ] | OK | WARNINGS | OK |  | ||||||
| merida1 | OS X 10.11.6 El Capitan / x86_64 | OK | OK | WARNINGS | OK |  | 
| Package: JunctionSeq | 
| Version: 1.16.0 | 
| Command: C:\cygwin\bin\curl.exe -O https://malbec1.bioconductor.org/BBS/3.10/bioc/src/contrib/JunctionSeq_1.16.0.tar.gz && rm -rf JunctionSeq.buildbin-libdir && mkdir JunctionSeq.buildbin-libdir && C:\Users\biocbuild\bbs-3.10-bioc\R\bin\R.exe CMD INSTALL --merge-multiarch --build --library=JunctionSeq.buildbin-libdir JunctionSeq_1.16.0.tar.gz && C:\Users\biocbuild\bbs-3.10-bioc\R\bin\R.exe CMD INSTALL JunctionSeq_1.16.0.zip && rm JunctionSeq_1.16.0.tar.gz JunctionSeq_1.16.0.zip | 
| StartedAt: 2020-04-14 19:40:00 -0400 (Tue, 14 Apr 2020) | 
| EndedAt: 2020-04-14 19:41:44 -0400 (Tue, 14 Apr 2020) | 
| EllapsedTime: 104.2 seconds | 
| RetCode: 0 | 
| Status: OK | 
##############################################################################
##############################################################################
###
### Running command:
###
###   C:\cygwin\bin\curl.exe -O https://malbec1.bioconductor.org/BBS/3.10/bioc/src/contrib/JunctionSeq_1.16.0.tar.gz && rm -rf JunctionSeq.buildbin-libdir && mkdir JunctionSeq.buildbin-libdir && C:\Users\biocbuild\bbs-3.10-bioc\R\bin\R.exe CMD INSTALL --merge-multiarch --build --library=JunctionSeq.buildbin-libdir JunctionSeq_1.16.0.tar.gz && C:\Users\biocbuild\bbs-3.10-bioc\R\bin\R.exe CMD INSTALL JunctionSeq_1.16.0.zip && rm JunctionSeq_1.16.0.tar.gz JunctionSeq_1.16.0.zip
###
##############################################################################
##############################################################################
  % Total    % Received % Xferd  Average Speed   Time    Time     Time  Current
                                 Dload  Upload   Total   Spent    Left  Speed
  0     0    0     0    0     0      0      0 --:--:-- --:--:-- --:--:--     0
  0     0    0     0    0     0      0      0 --:--:-- --:--:-- --:--:--     0
100  232k  100  232k    0     0  5962k      0 --:--:-- --:--:-- --:--:-- 6452k
install for i386
* installing *source* package 'JunctionSeq' ...
** using staged installation
** libs
C:/Rtools/mingw_32/bin/g++ -std=gnu++11  -I"C:/Users/BIOCBU~1/BBS-3~1.10-/R/include" -DNDEBUG  -I"C:/Users/biocbuild/bbs-3.10-bioc/R/library/Rcpp/include" -I"C:/Users/biocbuild/bbs-3.10-bioc/R/library/RcppArmadillo/include"   -I"C:/extsoft/include"     -O2 -Wall  -mtune=core2 -c DESeq2.cpp -o DESeq2.o
C:/Rtools/mingw_32/bin/g++ -std=gnu++11  -I"C:/Users/BIOCBU~1/BBS-3~1.10-/R/include" -DNDEBUG  -I"C:/Users/biocbuild/bbs-3.10-bioc/R/library/Rcpp/include" -I"C:/Users/biocbuild/bbs-3.10-bioc/R/library/RcppArmadillo/include"   -I"C:/extsoft/include"     -O2 -Wall  -mtune=core2 -c RcppExports.cpp -o RcppExports.o
C:/Rtools/mingw_32/bin/g++ -std=gnu++11 -shared -s -static-libgcc -o JunctionSeq.dll tmp.def DESeq2.o RcppExports.o -LC:/Users/BIOCBU~1/BBS-3~1.10-/R/bin/i386 -lRlapack -LC:/Users/BIOCBU~1/BBS-3~1.10-/R/bin/i386 -lRblas -lgfortran -lm -lquadmath -LC:/extsoft/lib/i386 -LC:/extsoft/lib -LC:/Users/BIOCBU~1/BBS-3~1.10-/R/bin/i386 -lR
installing to C:/Users/biocbuild/bbs-3.10-bioc/meat/JunctionSeq.buildbin-libdir/00LOCK-JunctionSeq/00new/JunctionSeq/libs/i386
** R
** inst
** byte-compile and prepare package for lazy loading
** help
*** installing help indices
  converting help for package 'JunctionSeq'
    finding HTML links ... done
    JunctionSeqCountSet-class               html  
    finding level-2 HTML links ... done
    buildAllPlots                           html  
    buildAllPlotsForGene                    html  
    defaultColorList                        html  
    estimateEffectSizes                     html  
    estimateJunctionSeqDispersions          html  
    estimateJunctionSeqSizeFactors          html  
    fitJunctionSeqDispersionFunction        html  
    plotDispEsts                            html  
    plotJunctionSeqResultsForGene           html  
    plotMA                                  html  
    readAnnotationData                      html  
    readJunctionSeqCounts                   html  
    runJunctionSeqAnalyses                  html  
    setJunctionSeqCompiledSourcePackage     html  
    testForDiffUsage                        html  
    writeBedTrack                           html  
    writeCompleteResults                    html  
** building package indices
** installing vignettes
   'JunctionSeq.Rnw' 
** testing if installed package can be loaded from temporary location
** testing if installed package can be loaded from final location
** testing if installed package keeps a record of temporary installation path
install for x64
* installing *source* package 'JunctionSeq' ...
** libs
C:/Rtools/mingw_64/bin/g++ -std=gnu++11  -I"C:/Users/BIOCBU~1/BBS-3~1.10-/R/include" -DNDEBUG  -I"C:/Users/biocbuild/bbs-3.10-bioc/R/library/Rcpp/include" -I"C:/Users/biocbuild/bbs-3.10-bioc/R/library/RcppArmadillo/include"   -I"C:/extsoft/include"     -O2 -Wall  -mtune=core2 -c DESeq2.cpp -o DESeq2.o
C:/Rtools/mingw_64/bin/g++ -std=gnu++11  -I"C:/Users/BIOCBU~1/BBS-3~1.10-/R/include" -DNDEBUG  -I"C:/Users/biocbuild/bbs-3.10-bioc/R/library/Rcpp/include" -I"C:/Users/biocbuild/bbs-3.10-bioc/R/library/RcppArmadillo/include"   -I"C:/extsoft/include"     -O2 -Wall  -mtune=core2 -c RcppExports.cpp -o RcppExports.o
C:/Rtools/mingw_64/bin/g++ -std=gnu++11 -shared -s -static-libgcc -o JunctionSeq.dll tmp.def DESeq2.o RcppExports.o -LC:/Users/BIOCBU~1/BBS-3~1.10-/R/bin/x64 -lRlapack -LC:/Users/BIOCBU~1/BBS-3~1.10-/R/bin/x64 -lRblas -lgfortran -lm -lquadmath -LC:/extsoft/lib/x64 -LC:/extsoft/lib -LC:/Users/BIOCBU~1/BBS-3~1.10-/R/bin/x64 -lR
installing to C:/Users/biocbuild/bbs-3.10-bioc/meat/JunctionSeq.buildbin-libdir/JunctionSeq/libs/x64
** testing if installed package can be loaded
* MD5 sums
packaged installation of 'JunctionSeq' as JunctionSeq_1.16.0.zip
* DONE (JunctionSeq)
* installing to library 'C:/Users/biocbuild/bbs-3.10-bioc/R/library'
package 'JunctionSeq' successfully unpacked and MD5 sums checked