| Back to Multiple platform build/check report for BioC 3.10 |
|
This page was generated on 2020-04-15 12:30:18 -0400 (Wed, 15 Apr 2020).
| Package 849/1823 | Hostname | OS / Arch | INSTALL | BUILD | CHECK | BUILD BIN | ||||||
| InTAD 1.6.0 Konstantin Okonechnikov
| malbec1 | Linux (Ubuntu 18.04.4 LTS) / x86_64 | OK | OK | OK | |||||||
| tokay1 | Windows Server 2012 R2 Standard / x64 | OK | OK | OK | [ OK ] | |||||||
| merida1 | OS X 10.11.6 El Capitan / x86_64 | OK | OK | OK | OK |
| Package: InTAD |
| Version: 1.6.0 |
| Command: rm -rf InTAD.buildbin-libdir && mkdir InTAD.buildbin-libdir && C:\Users\biocbuild\bbs-3.10-bioc\R\bin\R.exe CMD INSTALL --merge-multiarch --build --library=InTAD.buildbin-libdir InTAD_1.6.0.tar.gz |
| StartedAt: 2020-04-15 08:59:20 -0400 (Wed, 15 Apr 2020) |
| EndedAt: 2020-04-15 09:00:04 -0400 (Wed, 15 Apr 2020) |
| EllapsedTime: 44.2 seconds |
| RetCode: 0 |
| Status: OK |
| PackageFile: InTAD_1.6.0.zip |
| PackageFileSize: 964.8 KiB |
##############################################################################
##############################################################################
###
### Running command:
###
### rm -rf InTAD.buildbin-libdir && mkdir InTAD.buildbin-libdir && C:\Users\biocbuild\bbs-3.10-bioc\R\bin\R.exe CMD INSTALL --merge-multiarch --build --library=InTAD.buildbin-libdir InTAD_1.6.0.tar.gz
###
##############################################################################
##############################################################################
install for i386
* installing *source* package 'InTAD' ...
** using staged installation
** R
** data
*** moving datasets to lazyload DB
** inst
** byte-compile and prepare package for lazy loading
** help
*** installing help indices
converting help for package 'InTAD'
finding HTML links ... done
InTADSig html
combineInTAD html
enhSel html
enhSelGR html
exprs html
filterGeneExpr html
findCorrelation html
fnSE html
geneCoords html
get.enr.bg.normfit html
loadSigInTAD html
mbAnnData html
newSigInTAD html
plotCorAcrossRef html
plotCorrelation html
rpkmCountsSel html
sigCoords html
signals html
tadGR html
txsSel html
** building package indices
** installing vignettes
** testing if installed package can be loaded from temporary location
** testing if installed package can be loaded from final location
** testing if installed package keeps a record of temporary installation path
install for x64
* installing *source* package 'InTAD' ...
** testing if installed package can be loaded
* MD5 sums
packaged installation of 'InTAD' as InTAD_1.6.0.zip
* DONE (InTAD)