| Back to Multiple platform build/check report for BioC 3.10 |
|
This page was generated on 2020-04-15 12:37:37 -0400 (Wed, 15 Apr 2020).
| Package 826/1823 | Hostname | OS / Arch | INSTALL | BUILD | CHECK | BUILD BIN | ||||||
| IdMappingAnalysis 1.30.0 Alex Lisovich
| malbec1 | Linux (Ubuntu 18.04.4 LTS) / x86_64 | OK | OK | OK | |||||||
| tokay1 | Windows Server 2012 R2 Standard / x64 | OK | OK | OK | OK | |||||||
| merida1 | OS X 10.11.6 El Capitan / x86_64 | OK | [ OK ] | OK | OK |
| Package: IdMappingAnalysis |
| Version: 1.30.0 |
| Command: /Library/Frameworks/R.framework/Versions/Current/Resources/bin/R CMD build --keep-empty-dirs --no-resave-data IdMappingAnalysis |
| StartedAt: 2020-04-14 20:32:05 -0400 (Tue, 14 Apr 2020) |
| EndedAt: 2020-04-14 20:32:39 -0400 (Tue, 14 Apr 2020) |
| EllapsedTime: 33.5 seconds |
| RetCode: 0 |
| Status: OK |
| PackageFile: IdMappingAnalysis_1.30.0.tar.gz |
| PackageFileSize: 1.938 MiB |
##############################################################################
##############################################################################
###
### Running command:
###
### /Library/Frameworks/R.framework/Versions/Current/Resources/bin/R CMD build --keep-empty-dirs --no-resave-data IdMappingAnalysis
###
##############################################################################
##############################################################################
* checking for file ‘IdMappingAnalysis/DESCRIPTION’ ... OK
* preparing ‘IdMappingAnalysis’:
* checking DESCRIPTION meta-information ... OK
* installing the package to build vignettes
* creating vignettes ... OK
Warning: ‘inst/doc’ file
‘IdMappingAnalysis.Rnw’
ignored as vignettes have been rebuilt.
Run R CMD build with --no-build-vignettes to prevent rebuilding.
* checking for LF line-endings in source and make files and shell scripts
* checking for empty or unneeded directories
* looking to see if a ‘data/datalist’ file should be added
* building ‘IdMappingAnalysis_1.30.0.tar.gz’