| Back to Multiple platform build/check report for BioC 3.10 | 
 | 
This page was generated on 2020-04-15 12:36:38 -0400 (Wed, 15 Apr 2020).
| Package 862/1823 | Hostname | OS / Arch | INSTALL | BUILD | CHECK | BUILD BIN | ||||||
| IPPD 1.34.0 Martin Slawski 
 | malbec1 | Linux (Ubuntu 18.04.4 LTS) / x86_64 | OK | OK | OK |  | ||||||
| tokay1 | Windows Server 2012 R2 Standard / x64 | OK | OK | OK | OK |  | ||||||
| merida1 | OS X 10.11.6 El Capitan / x86_64 | OK | OK | OK | [ OK ] |  | 
| Package: IPPD | 
| Version: 1.34.0 | 
| Command: rm -rf IPPD.buildbin-libdir && mkdir IPPD.buildbin-libdir && /Users/biocbuild/BBS/utils/build-universal.sh IPPD_1.34.0.tar.gz /Library/Frameworks/R.framework/Versions/Current/Resources/bin/R IPPD.buildbin-libdir | 
| StartedAt: 2020-04-15 07:49:18 -0400 (Wed, 15 Apr 2020) | 
| EndedAt: 2020-04-15 07:50:05 -0400 (Wed, 15 Apr 2020) | 
| EllapsedTime: 47.6 seconds | 
| RetCode: 0 | 
| Status: OK | 
| PackageFile: IPPD_1.34.0.tgz | 
| PackageFileSize: 1.673 MiB | 
##############################################################################
##############################################################################
###
### Running command:
###
###   rm -rf IPPD.buildbin-libdir && mkdir IPPD.buildbin-libdir && /Users/biocbuild/BBS/utils/build-universal.sh IPPD_1.34.0.tar.gz /Library/Frameworks/R.framework/Versions/Current/Resources/bin/R IPPD.buildbin-libdir
###
##############################################################################
##############################################################################
>>>>>>> 
>>>>>>> INSTALLATION WITH 'R CMD INSTALL --preclean --no-multiarch --library=IPPD.buildbin-libdir IPPD_1.34.0.tar.gz'
>>>>>>> 
* installing *source* package ‘IPPD’ ...
** using staged installation
** libs
clang -I"/Library/Frameworks/R.framework/Resources/include" -DNDEBUG   -isysroot /Library/Developer/CommandLineTools/SDKs/MacOSX.sdk -I/usr/local/include  -fPIC  -Wall -g -O2  -c R_init_IPPD.c -o R_init_IPPD.o
R_init_IPPD.c:28:3: warning: suggest braces around initialization of subobject [-Wmissing-braces]
  NULL
  ^~~~
  {   }
/usr/local/clang7/lib/clang/7.0.0/include/stddef.h:105:16: note: expanded from macro 'NULL'
#  define NULL ((void*)0)
               ^~~~~~~~~~
1 warning generated.
clang -dynamiclib -Wl,-headerpad_max_install_names -undefined dynamic_lookup -single_module -multiply_defined suppress -L/Library/Frameworks/R.framework/Resources/lib -L/usr/local/lib -o IPPD.so R_init_IPPD.o -F/Library/Frameworks/R.framework/.. -framework R -Wl,-framework -Wl,CoreFoundation
installing to /Users/biocbuild/bbs-3.10-bioc/meat/IPPD.buildbin-libdir/00LOCK-IPPD/00new/IPPD/libs
** R
** data
** inst
** byte-compile and prepare package for lazy loading
** help
*** installing help indices
** building package indices
** installing vignettes
** testing if installed package can be loaded from temporary location
** checking absolute paths in shared objects and dynamic libraries
** testing if installed package can be loaded from final location
** testing if installed package keeps a record of temporary installation path
* DONE (IPPD)
>>>>>>> 
>>>>>>> FIXING LINKS FOR IPPD.buildbin-libdir/IPPD/libs//IPPD.so
>>>>>>> 
install_name_tool -change "/usr/local/lib/libgcc_s.1.dylib" "/Library/Frameworks/R.framework/Versions/3.6/Resources/lib/libgcc_s.1.dylib" "IPPD.buildbin-libdir/IPPD/libs//IPPD.so"
install_name_tool -change "/usr/local/lib/libgfortran.3.dylib" "/Library/Frameworks/R.framework/Versions/3.6/Resources/lib/libgfortran.3.dylib" "IPPD.buildbin-libdir/IPPD/libs//IPPD.so"
install_name_tool -change "/usr/local/lib/libreadline.5.2.dylib" "/Library/Frameworks/R.framework/Versions/3.6/Resources/lib/libreadline.5.2.dylib" "IPPD.buildbin-libdir/IPPD/libs//IPPD.so"
install_name_tool -change "/usr/local/lib/libreadline.dylib" "/Library/Frameworks/R.framework/Versions/3.6/Resources/lib/libreadline.dylib" "IPPD.buildbin-libdir/IPPD/libs//IPPD.so"
install_name_tool -change "/usr/local/lib/libquadmath.0.dylib" "/Library/Frameworks/R.framework/Versions/3.6/Resources/lib/libquadmath.0.dylib" "IPPD.buildbin-libdir/IPPD/libs//IPPD.so"