| Back to Multiple platform build/check report for BioC 3.10 | 
  | 
This page was generated on 2020-04-15 12:23:59 -0400 (Wed, 15 Apr 2020).
| Package 840/1823 | Hostname | OS / Arch | INSTALL | BUILD | CHECK | BUILD BIN | ||||||
| IMPCdata 1.22.0 Jeremy Mason 
  | malbec1 | Linux (Ubuntu 18.04.4 LTS) / x86_64 | OK | OK | OK | |||||||
| tokay1 | Windows Server 2012 R2 Standard / x64 | OK | OK | OK | [ OK ] | |||||||
| merida1 | OS X 10.11.6 El Capitan / x86_64 | OK | OK | OK | OK | 
| Package: IMPCdata | 
| Version: 1.22.0 | 
| Command: rm -rf IMPCdata.buildbin-libdir && mkdir IMPCdata.buildbin-libdir && C:\Users\biocbuild\bbs-3.10-bioc\R\bin\R.exe CMD INSTALL --merge-multiarch --build --library=IMPCdata.buildbin-libdir IMPCdata_1.22.0.tar.gz | 
| StartedAt: 2020-04-15 08:58:50 -0400 (Wed, 15 Apr 2020) | 
| EndedAt: 2020-04-15 08:59:31 -0400 (Wed, 15 Apr 2020) | 
| EllapsedTime: 41.0 seconds | 
| RetCode: 0 | 
| Status: OK | 
| PackageFile: IMPCdata_1.22.0.zip | 
| PackageFileSize: 226.3 KiB | 
##############################################################################
##############################################################################
###
### Running command:
###
###   rm -rf IMPCdata.buildbin-libdir && mkdir IMPCdata.buildbin-libdir && C:\Users\biocbuild\bbs-3.10-bioc\R\bin\R.exe CMD INSTALL --merge-multiarch --build --library=IMPCdata.buildbin-libdir IMPCdata_1.22.0.tar.gz
###
##############################################################################
##############################################################################
install for i386
* installing *source* package 'IMPCdata' ...
** using staged installation
** R
** inst
** byte-compile and prepare package for lazy loading
** help
*** installing help indices
  converting help for package 'IMPCdata'
    finding HTML links ... done
    getAlleles                              html  
    getGenes                                html  
    getIMPCDataset                          html  
    getIMPCTable                            html  
    getName                                 html  
    getParameters                           html  
    getPhenCenters                          html  
    getPipelines                            html  
    getProcedures                           html  
    getStrains                              html  
    getZygosities                           html  
    printAlleles                            html  
    printGenes                              html  
    printParameters                         html  
    printPhenCenters                        html  
    printPipelines                          html  
    printProcedures                         html  
    printStrains                            html  
** building package indices
** installing vignettes
** testing if installed package can be loaded from temporary location
** testing if installed package can be loaded from final location
** testing if installed package keeps a record of temporary installation path
install for x64
* installing *source* package 'IMPCdata' ...
** testing if installed package can be loaded
* MD5 sums
packaged installation of 'IMPCdata' as IMPCdata_1.22.0.zip
* DONE (IMPCdata)