| Back to Multiple platform build/check report for BioC 3.10 | 
 | 
This page was generated on 2020-04-15 12:19:00 -0400 (Wed, 15 Apr 2020).
| Package 801/1823 | Hostname | OS / Arch | INSTALL | BUILD | CHECK | BUILD BIN | ||||||
| HTqPCR 1.40.0 Heidi Dvinge 
 | malbec1 | Linux (Ubuntu 18.04.4 LTS) / x86_64 | OK | OK | OK |  | ||||||
| tokay1 | Windows Server 2012 R2 Standard / x64 | OK | OK | WARNINGS | [ OK ] |  | ||||||
| merida1 | OS X 10.11.6 El Capitan / x86_64 | OK | OK | OK | OK |  | 
| Package: HTqPCR | 
| Version: 1.40.0 | 
| Command: rm -rf HTqPCR.buildbin-libdir && mkdir HTqPCR.buildbin-libdir && C:\Users\biocbuild\bbs-3.10-bioc\R\bin\R.exe CMD INSTALL --merge-multiarch --build --library=HTqPCR.buildbin-libdir HTqPCR_1.40.0.tar.gz | 
| StartedAt: 2020-04-15 08:56:45 -0400 (Wed, 15 Apr 2020) | 
| EndedAt: 2020-04-15 08:57:31 -0400 (Wed, 15 Apr 2020) | 
| EllapsedTime: 46.5 seconds | 
| RetCode: 0 | 
| Status: OK | 
| PackageFile: HTqPCR_1.40.0.zip | 
| PackageFileSize: 1.604 MiB | 
##############################################################################
##############################################################################
###
### Running command:
###
###   rm -rf HTqPCR.buildbin-libdir && mkdir HTqPCR.buildbin-libdir && C:\Users\biocbuild\bbs-3.10-bioc\R\bin\R.exe CMD INSTALL --merge-multiarch --build --library=HTqPCR.buildbin-libdir HTqPCR_1.40.0.tar.gz
###
##############################################################################
##############################################################################
install for i386
* installing *source* package 'HTqPCR' ...
** using staged installation
** R
** data
** inst
** byte-compile and prepare package for lazy loading
** help
*** installing help indices
  converting help for package 'HTqPCR'
    finding HTML links ... done
    HTqPCR-package                          html  
    cbind                                   html  
    changeCtLayout                          html  
    clusterCt                               html  
    filterCategory                          html  
    filterCtData                            html  
    heatmapSig                              html  
    limmaCtData                             html  
Rd warning: C:/Users/biocbuild/bbs-3.10-bioc/tmpdir/RtmpwNCXgl/R.INSTALL31306c826a6c/HTqPCR/man/limmaCtData.Rd:29: file link 'duplicateCorrelation' in package 'limma' does not exist and so has been treated as a topic
    mannwhitneyCtData                       html  
    normalizeCtData                         html  
    plotCVBoxes                             html  
    plotCtArray                             html  
    plotCtBoxes                             html  
    plotCtCard                              html  
    plotCtCategory                          html  
    plotCtCor                               html  
    plotCtDensity                           html  
    plotCtHeatmap                           html  
    plotCtHistogram                         html  
    plotCtOverview                          html  
    plotCtPCA                               html  
    plotCtPairs                             html  
    plotCtRQ                                html  
    plotCtReps                              html  
    plotCtScatter                           html  
    plotCtSignificance                      html  
    plotCtVariation                         html  
    plotGenes                               html  
    qPCRpros                                html  
    qPCRraw                                 html  
    qPCRset-class                           html  
    finding level-2 HTML links ... done
    readCtData                              html  
    setCategory                             html  
    ttestCtData                             html  
** building package indices
** installing vignettes
** testing if installed package can be loaded from temporary location
** testing if installed package can be loaded from final location
** testing if installed package keeps a record of temporary installation path
install for x64
* installing *source* package 'HTqPCR' ...
** testing if installed package can be loaded
* MD5 sums
packaged installation of 'HTqPCR' as HTqPCR_1.40.0.zip
* DONE (HTqPCR)