| Back to Multiple platform build/check report for BioC 3.10 | 
 | 
This page was generated on 2020-04-15 12:14:37 -0400 (Wed, 15 Apr 2020).
| Package 799/1823 | Hostname | OS / Arch | INSTALL | BUILD | CHECK | BUILD BIN | ||||||
| HPAanalyze 1.4.3 Anh Nhat Tran 
 | malbec1 | Linux (Ubuntu 18.04.4 LTS) / x86_64 | OK | [ OK ] | OK |  | ||||||
| tokay1 | Windows Server 2012 R2 Standard / x64 | OK | OK | OK | OK |  | ||||||
| merida1 | OS X 10.11.6 El Capitan / x86_64 | OK | OK | OK | OK |  | 
| Package: HPAanalyze | 
| Version: 1.4.3 | 
| Command: /home/biocbuild/bbs-3.10-bioc/R/bin/R CMD build --keep-empty-dirs --no-resave-data HPAanalyze | 
| StartedAt: 2020-04-14 23:13:03 -0400 (Tue, 14 Apr 2020) | 
| EndedAt: 2020-04-14 23:15:06 -0400 (Tue, 14 Apr 2020) | 
| EllapsedTime: 123.2 seconds | 
| RetCode: 0 | 
| Status: OK | 
| PackageFile: HPAanalyze_1.4.3.tar.gz | 
| PackageFileSize: 10.31 MiB | 
############################################################################## ############################################################################## ### ### Running command: ### ### /home/biocbuild/bbs-3.10-bioc/R/bin/R CMD build --keep-empty-dirs --no-resave-data HPAanalyze ### ############################################################################## ############################################################################## * checking for file ‘HPAanalyze/DESCRIPTION’ ... OK * preparing ‘HPAanalyze’: * checking DESCRIPTION meta-information ... OK * installing the package to build vignettes * creating vignettes ... OK * checking for LF line-endings in source and make files and shell scripts * checking for empty or unneeded directories * looking to see if a ‘data/datalist’ file should be added * building ‘HPAanalyze_1.4.3.tar.gz’ Warning in utils::tar(filepath, pkgname, compression = compression, compression_level = 9L, : storing paths of more than 100 bytes is not portable: ‘HPAanalyze/docs/articles/a_HPAanalyze_quick_start_files/elevate-section-attrs-2.0/elevate-section-attrs.js’ Warning in utils::tar(filepath, pkgname, compression = compression, compression_level = 9L, : storing paths of more than 100 bytes is not portable: ‘HPAanalyze/docs/articles/b_HPAanalyze_indepth_files/elevate-section-attrs-2.0/elevate-section-attrs.js’ Warning in utils::tar(filepath, pkgname, compression = compression, compression_level = 9L, : storing paths of more than 100 bytes is not portable: ‘HPAanalyze/docs/articles/c_HPAanalyze_case_query_files/elevate-section-attrs-2.0/elevate-section-attrs.js’ Warning in utils::tar(filepath, pkgname, compression = compression, compression_level = 9L, : storing paths of more than 100 bytes is not portable: ‘HPAanalyze/docs/articles/d_HPAanalyze_case_offline_xml_files/elevate-section-attrs-2.0/elevate-section-attrs.js’ Warning in utils::tar(filepath, pkgname, compression = compression, compression_level = 9L, : storing paths of more than 100 bytes is not portable: ‘HPAanalyze/docs/articles/e_HPAanalyze_case_json_files/elevate-section-attrs-2.0/elevate-section-attrs.js’ Warning in utils::tar(filepath, pkgname, compression = compression, compression_level = 9L, : storing paths of more than 100 bytes is not portable: ‘HPAanalyze/docs/articles/f_HPAanalyze_case_images_files/elevate-section-attrs-2.0/elevate-section-attrs.js’ Warning in utils::tar(filepath, pkgname, compression = compression, compression_level = 9L, : storing paths of more than 100 bytes is not portable: ‘HPAanalyze/docs/articles/z_HPAanalyze_paper_figures_files/elevate-section-attrs-2.0/elevate-section-attrs.js’