| Back to Multiple platform build/check report for BioC 3.10 | 
 | 
This page was generated on 2020-04-15 12:33:16 -0400 (Wed, 15 Apr 2020).
| Package 716/1823 | Hostname | OS / Arch | INSTALL | BUILD | CHECK | BUILD BIN | ||||||
| GmicR 1.0.6 Richard Virgen-Slane 
 | malbec1 | Linux (Ubuntu 18.04.4 LTS) / x86_64 | OK | OK | OK |  | ||||||
| tokay1 | Windows Server 2012 R2 Standard / x64 | OK | OK | OK | [ OK ] |  | ||||||
| merida1 | OS X 10.11.6 El Capitan / x86_64 | OK | OK | OK | OK |  | 
| Package: GmicR | 
| Version: 1.0.6 | 
| Command: rm -rf GmicR.buildbin-libdir && mkdir GmicR.buildbin-libdir && C:\Users\biocbuild\bbs-3.10-bioc\R\bin\R.exe CMD INSTALL --merge-multiarch --build --library=GmicR.buildbin-libdir GmicR_1.0.6.tar.gz | 
| StartedAt: 2020-04-15 08:51:37 -0400 (Wed, 15 Apr 2020) | 
| EndedAt: 2020-04-15 08:52:46 -0400 (Wed, 15 Apr 2020) | 
| EllapsedTime: 68.4 seconds | 
| RetCode: 0 | 
| Status: OK | 
| PackageFile: GmicR_1.0.6.zip | 
| PackageFileSize: 3.458 MiB | 
##############################################################################
##############################################################################
###
### Running command:
###
###   rm -rf GmicR.buildbin-libdir && mkdir GmicR.buildbin-libdir && C:\Users\biocbuild\bbs-3.10-bioc\R\bin\R.exe CMD INSTALL --merge-multiarch --build --library=GmicR.buildbin-libdir GmicR_1.0.6.tar.gz
###
##############################################################################
##############################################################################
install for i386
* installing *source* package 'GmicR' ...
** using staged installation
** R
** inst
** byte-compile and prepare package for lazy loading
** help
*** installing help indices
  converting help for package 'GmicR'
    finding HTML links ... done
    Auto_WGCNA                              html  
    Batch_Net                               html  
    Data_Prep                               html  
    GO_Module_NameR                         html  
    GSEAGO_Builder                          html  
    Gmic_viz                                html  
    InverseARCs                             html  
    Query_Prep                              html  
    bn_tabu_gen                             html  
    xCell_loader                            html  
** building package indices
** installing vignettes
** testing if installed package can be loaded from temporary location
** testing if installed package can be loaded from final location
** testing if installed package keeps a record of temporary installation path
install for x64
* installing *source* package 'GmicR' ...
not using staged install with --libs-only
** testing if installed package can be loaded
* MD5 sums
packaged installation of 'GmicR' as GmicR_1.0.6.zip
* DONE (GmicR)