| Back to Multiple platform build/check report for BioC 3.10 |
|
This page was generated on 2020-04-15 12:22:58 -0400 (Wed, 15 Apr 2020).
| Package 682/1823 | Hostname | OS / Arch | INSTALL | BUILD | CHECK | BUILD BIN | ||||||
| GenomicFiles 1.22.0 Bioconductor Package Maintainer
| malbec1 | Linux (Ubuntu 18.04.4 LTS) / x86_64 | OK | OK | OK | |||||||
| tokay1 | Windows Server 2012 R2 Standard / x64 | OK | OK | WARNINGS | [ OK ] | |||||||
| merida1 | OS X 10.11.6 El Capitan / x86_64 | OK | OK | OK | OK |
| Package: GenomicFiles |
| Version: 1.22.0 |
| Command: rm -rf GenomicFiles.buildbin-libdir && mkdir GenomicFiles.buildbin-libdir && C:\Users\biocbuild\bbs-3.10-bioc\R\bin\R.exe CMD INSTALL --merge-multiarch --build --library=GenomicFiles.buildbin-libdir GenomicFiles_1.22.0.tar.gz |
| StartedAt: 2020-04-15 08:48:52 -0400 (Wed, 15 Apr 2020) |
| EndedAt: 2020-04-15 08:50:10 -0400 (Wed, 15 Apr 2020) |
| EllapsedTime: 77.7 seconds |
| RetCode: 0 |
| Status: OK |
| PackageFile: GenomicFiles_1.22.0.zip |
| PackageFileSize: 930.2 KiB |
##############################################################################
##############################################################################
###
### Running command:
###
### rm -rf GenomicFiles.buildbin-libdir && mkdir GenomicFiles.buildbin-libdir && C:\Users\biocbuild\bbs-3.10-bioc\R\bin\R.exe CMD INSTALL --merge-multiarch --build --library=GenomicFiles.buildbin-libdir GenomicFiles_1.22.0.tar.gz
###
##############################################################################
##############################################################################
install for i386
* installing *source* package 'GenomicFiles' ...
** using staged installation
** R
** inst
** byte-compile and prepare package for lazy loading
** help
*** installing help indices
converting help for package 'GenomicFiles'
finding HTML links ... done
GenomicFiles-class html
Rd warning: C:/Users/biocbuild/bbs-3.10-bioc/tmpdir/RtmpSYp8ir/R.INSTALL21843cd87253/GenomicFiles/man/GenomicFiles-class.Rd:111: file link 'SummarizedExperiment' in package 'SummarizedExperiment' does not exist and so has been treated as a topic
GenomicFiles-deprecated html
VcfStack-class html
Rd warning: C:/Users/biocbuild/bbs-3.10-bioc/tmpdir/RtmpSYp8ir/R.INSTALL21843cd87253/GenomicFiles/man/VcfStack-class.Rd:78: file link 'DataFrame' in package 'S4Vectors' does not exist and so has been treated as a topic
Rd warning: C:/Users/biocbuild/bbs-3.10-bioc/tmpdir/RtmpSYp8ir/R.INSTALL21843cd87253/GenomicFiles/man/VcfStack-class.Rd:98: file link 'GRanges' in package 'GenomicRanges' does not exist and so has been treated as a topic
Rd warning: C:/Users/biocbuild/bbs-3.10-bioc/tmpdir/RtmpSYp8ir/R.INSTALL21843cd87253/GenomicFiles/man/VcfStack-class.Rd:129: file link 'VcfFileList' in package 'VariantAnnotation' does not exist and so has been treated as a topic
Rd warning: C:/Users/biocbuild/bbs-3.10-bioc/tmpdir/RtmpSYp8ir/R.INSTALL21843cd87253/GenomicFiles/man/VcfStack-class.Rd:130: file link 'VcfFileList' in package 'VariantAnnotation' does not exist and so has been treated as a topic
Rd warning: C:/Users/biocbuild/bbs-3.10-bioc/tmpdir/RtmpSYp8ir/R.INSTALL21843cd87253/GenomicFiles/man/VcfStack-class.Rd:133: file link 'seqinfo<-' in package 'GenomeInfoDb' does not exist and so has been treated as a topic
Rd warning: C:/Users/biocbuild/bbs-3.10-bioc/tmpdir/RtmpSYp8ir/R.INSTALL21843cd87253/GenomicFiles/man/VcfStack-class.Rd:139: file link 'seqlevelsStyle<-' in package 'GenomeInfoDb' does not exist and so has been treated as a topic
Rd warning: C:/Users/biocbuild/bbs-3.10-bioc/tmpdir/RtmpSYp8ir/R.INSTALL21843cd87253/GenomicFiles/man/VcfStack-class.Rd:143: file link 'DataFrame' in package 'S4Vectors' does not exist and so has been treated as a topic
Rd warning: C:/Users/biocbuild/bbs-3.10-bioc/tmpdir/RtmpSYp8ir/R.INSTALL21843cd87253/GenomicFiles/man/VcfStack-class.Rd:148: file link 'GRanges' in package 'GenomicRanges' does not exist and so has been treated as a topic
Rd warning: C:/Users/biocbuild/bbs-3.10-bioc/tmpdir/RtmpSYp8ir/R.INSTALL21843cd87253/GenomicFiles/man/VcfStack-class.Rd:155: file link 'GRanges' in package 'GenomicRanges' does not exist and so has been treated as a topic
Rd warning: C:/Users/biocbuild/bbs-3.10-bioc/tmpdir/RtmpSYp8ir/R.INSTALL21843cd87253/GenomicFiles/man/VcfStack-class.Rd:162: file link 'CharacterList' in package 'IRanges' does not exist and so has been treated as a topic
Rd warning: C:/Users/biocbuild/bbs-3.10-bioc/tmpdir/RtmpSYp8ir/R.INSTALL21843cd87253/GenomicFiles/man/VcfStack-class.Rd:170: file link 'genotypeToSnpMatrix' in package 'VariantAnnotation' does not exist and so has been treated as a topic
Rd warning: C:/Users/biocbuild/bbs-3.10-bioc/tmpdir/RtmpSYp8ir/R.INSTALL21843cd87253/GenomicFiles/man/VcfStack-class.Rd:180: file link 'ScanVcfParam' in package 'VariantAnnotation' does not exist and so has been treated as a topic
Rd warning: C:/Users/biocbuild/bbs-3.10-bioc/tmpdir/RtmpSYp8ir/R.INSTALL21843cd87253/GenomicFiles/man/VcfStack-class.Rd:227: file link 'VcfFile' in package 'VariantAnnotation' does not exist and so has been treated as a topic
Rd warning: C:/Users/biocbuild/bbs-3.10-bioc/tmpdir/RtmpSYp8ir/R.INSTALL21843cd87253/GenomicFiles/man/VcfStack-class.Rd:227: file link 'VcfFileList' in package 'VariantAnnotation' does not exist and so has been treated as a topic
pack-methods html
reduceByFile-methods html
reduceByRange-methods html
reduceByYield html
Rd warning: C:/Users/biocbuild/bbs-3.10-bioc/tmpdir/RtmpSYp8ir/R.INSTALL21843cd87253/GenomicFiles/man/reduceByYield.Rd:12: file link 'BamFile' in package 'Rsamtools' does not exist and so has been treated as a topic
Rd warning: C:/Users/biocbuild/bbs-3.10-bioc/tmpdir/RtmpSYp8ir/R.INSTALL21843cd87253/GenomicFiles/man/reduceByYield.Rd:29: file link 'BamFile' in package 'Rsamtools' does not exist and so has been treated as a topic
Rd warning: C:/Users/biocbuild/bbs-3.10-bioc/tmpdir/RtmpSYp8ir/R.INSTALL21843cd87253/GenomicFiles/man/reduceByYield.Rd:121: file link 'BamFile' in package 'Rsamtools' does not exist and so has been treated as a topic
Rd warning: C:/Users/biocbuild/bbs-3.10-bioc/tmpdir/RtmpSYp8ir/R.INSTALL21843cd87253/GenomicFiles/man/reduceByYield.Rd:122: file link 'TabixFile' in package 'Rsamtools' does not exist and so has been treated as a topic
registry-utils html
unpack-methods html
** building package indices
** installing vignettes
** testing if installed package can be loaded from temporary location
** testing if installed package can be loaded from final location
** testing if installed package keeps a record of temporary installation path
install for x64
* installing *source* package 'GenomicFiles' ...
** testing if installed package can be loaded
* MD5 sums
packaged installation of 'GenomicFiles' as GenomicFiles_1.22.0.zip
* DONE (GenomicFiles)