| Back to Multiple platform build/check report for BioC 3.10 | 
 | 
This page was generated on 2020-04-15 12:30:01 -0400 (Wed, 15 Apr 2020).
| Package 666/1823 | Hostname | OS / Arch | INSTALL | BUILD | CHECK | BUILD BIN | ||||||
| GeneStructureTools 1.6.0 Beth Signal 
 | malbec1 | Linux (Ubuntu 18.04.4 LTS) / x86_64 | OK | OK | OK |  | ||||||
| tokay1 | Windows Server 2012 R2 Standard / x64 | OK | OK | [ OK ] | OK |  | ||||||
| merida1 | OS X 10.11.6 El Capitan / x86_64 | OK | OK | OK | OK |  | 
| Package: GeneStructureTools | 
| Version: 1.6.0 | 
| Command: C:\Users\biocbuild\bbs-3.10-bioc\R\bin\R.exe CMD check --force-multiarch --install=check:GeneStructureTools.install-out.txt --library=C:\Users\biocbuild\bbs-3.10-bioc\R\library --no-vignettes --timings GeneStructureTools_1.6.0.tar.gz | 
| StartedAt: 2020-04-15 03:25:02 -0400 (Wed, 15 Apr 2020) | 
| EndedAt: 2020-04-15 03:35:18 -0400 (Wed, 15 Apr 2020) | 
| EllapsedTime: 615.4 seconds | 
| RetCode: 0 | 
| Status: OK | 
| CheckDir: GeneStructureTools.Rcheck | 
| Warnings: 0 | 
##############################################################################
##############################################################################
###
### Running command:
###
###   C:\Users\biocbuild\bbs-3.10-bioc\R\bin\R.exe CMD check --force-multiarch --install=check:GeneStructureTools.install-out.txt --library=C:\Users\biocbuild\bbs-3.10-bioc\R\library --no-vignettes --timings GeneStructureTools_1.6.0.tar.gz
###
##############################################################################
##############################################################################
* using log directory 'C:/Users/biocbuild/bbs-3.10-bioc/meat/GeneStructureTools.Rcheck'
* using R version 3.6.3 (2020-02-29)
* using platform: x86_64-w64-mingw32 (64-bit)
* using session charset: ISO8859-1
* using option '--no-vignettes'
* checking for file 'GeneStructureTools/DESCRIPTION' ... OK
* checking extension type ... Package
* this is package 'GeneStructureTools' version '1.6.0'
* package encoding: UTF-8
* checking package namespace information ... OK
* checking package dependencies ... OK
* checking if this is a source package ... OK
* checking if there is a namespace ... OK
* checking for hidden files and directories ... OK
* checking for portable file names ... OK
* checking whether package 'GeneStructureTools' can be installed ... OK
* checking installed package size ... OK
* checking package directory ... OK
* checking 'build' directory ... OK
* checking DESCRIPTION meta-information ... OK
* checking top-level files ... OK
* checking for left-over files ... OK
* checking index information ... OK
* checking package subdirectories ... OK
* checking R files for non-ASCII characters ... OK
* checking R files for syntax errors ... OK
* loading checks for arch 'i386'
** checking whether the package can be loaded ... OK
** checking whether the package can be loaded with stated dependencies ... OK
** checking whether the package can be unloaded cleanly ... OK
** checking whether the namespace can be loaded with stated dependencies ... OK
** checking whether the namespace can be unloaded cleanly ... OK
* loading checks for arch 'x64'
** checking whether the package can be loaded ... OK
** checking whether the package can be loaded with stated dependencies ... OK
** checking whether the package can be unloaded cleanly ... OK
** checking whether the namespace can be loaded with stated dependencies ... OK
** checking whether the namespace can be unloaded cleanly ... OK
* checking dependencies in R code ... OK
* checking S3 generic/method consistency ... OK
* checking replacement functions ... OK
* checking foreign function calls ... OK
* checking R code for possible problems ... OK
* checking Rd files ... OK
* checking Rd metadata ... OK
* checking Rd cross-references ... OK
* checking for missing documentation entries ... OK
* checking for code/documentation mismatches ... OK
* checking Rd \usage sections ... OK
* checking Rd contents ... OK
* checking for unstated dependencies in examples ... OK
* checking files in 'vignettes' ... OK
* checking examples ...
** running examples for arch 'i386' ... OK
Examples with CPU or elapsed time > 5s
                                   user system elapsed
leafcutterTranscriptChangeSummary 28.49   1.01   29.50
whippetTranscriptChangeSummary    13.06   0.00   13.66
replaceJunction                    5.00   0.05    5.63
UTR2UTR53                          4.38   0.64    5.36
addIntronInTranscript              3.03   0.23    5.64
orfDiff                            2.31   0.07    9.47
** running examples for arch 'x64' ... OK
Examples with CPU or elapsed time > 5s
                                   user system elapsed
leafcutterTranscriptChangeSummary 30.93   0.74   31.89
whippetTranscriptChangeSummary    15.69   0.04   16.56
replaceJunction                    4.64   0.00    7.03
junctions-methods                  0.01   0.01   10.65
* checking for unstated dependencies in vignettes ... OK
* checking package vignettes in 'inst/doc' ... OK
* checking running R code from vignettes ... SKIPPED
* checking re-building of vignette outputs ... SKIPPED
* checking PDF version of manual ... OK
* DONE
Status: OK
GeneStructureTools.Rcheck/00install.out
##############################################################################
##############################################################################
###
### Running command:
###
###   C:\cygwin\bin\curl.exe -O https://malbec1.bioconductor.org/BBS/3.10/bioc/src/contrib/GeneStructureTools_1.6.0.tar.gz && rm -rf GeneStructureTools.buildbin-libdir && mkdir GeneStructureTools.buildbin-libdir && C:\Users\biocbuild\bbs-3.10-bioc\R\bin\R.exe CMD INSTALL --merge-multiarch --build --library=GeneStructureTools.buildbin-libdir GeneStructureTools_1.6.0.tar.gz && C:\Users\biocbuild\bbs-3.10-bioc\R\bin\R.exe CMD INSTALL GeneStructureTools_1.6.0.zip && rm GeneStructureTools_1.6.0.tar.gz GeneStructureTools_1.6.0.zip
###
##############################################################################
##############################################################################
  % Total    % Received % Xferd  Average Speed   Time    Time     Time  Current
                                 Dload  Upload   Total   Spent    Left  Speed
  0     0    0     0    0     0      0      0 --:--:-- --:--:-- --:--:--     0
 64  987k   64  640k    0     0  2344k      0 --:--:-- --:--:-- --:--:-- 2370k
100  987k  100  987k    0     0  2625k      0 --:--:-- --:--:-- --:--:-- 2646k
install for i386
* installing *source* package 'GeneStructureTools' ...
** using staged installation
** R
** inst
** byte-compile and prepare package for lazy loading
** help
*** installing help indices
  converting help for package 'GeneStructureTools'
    finding HTML links ... done
    DEXSeqIdsToGeneIds                      html  
    UTR2UTR53                               html  
    addBroadTypes                           html  
    addIntronInTranscript                   html  
    addSets                                 html  
    alternativeIntronUsage                  html  
    annotateGeneModel                       html  
    attrChangeAltSpliced                    html  
    coordinates-methods                     html  
    cumsumANDpad                            html  
    diffSplicingResults-methods             html  
    exonsToTranscripts                      html  
    filterGtfOverlap                        html  
    filterWhippetEvents                     html  
    findDEXexonType                         html  
    findExonContainingTranscripts           html  
    findIntronContainingTranscripts         html  
    findJunctionPairs                       html  
    formatWhippetEvents                     html  
    getOrfs                                 html  
    getUOrfs                                html  
    junctions-methods                       html  
    leafcutterTranscriptChangeSummary       html  
    makeGeneModel                           html  
    maxLocation                             html  
    orfDiff                                 html  
    orfSimilarity                           html  
    overlapTypes                            html  
    readCounts-methods                      html  
    readWhippetDIFFfiles                    html  
    readWhippetDataSet                      html  
    readWhippetJNCfiles                     html  
    readWhippetPSIfiles                     html  
    removeDuplicateTranscripts              html  
    removeSameExon                          html  
    removeVersion                           html  
    reorderExonNumbers                      html  
    replaceJunction                         html  
    skipExonInTranscript                    html  
    summariseExonTypes                      html  
    transcriptChangeSummary                 html  
    whippetDataSet-class                    html  
    whippetTranscriptChangeSummary          html  
** building package indices
** installing vignettes
** testing if installed package can be loaded from temporary location
** testing if installed package can be loaded from final location
** testing if installed package keeps a record of temporary installation path
install for x64
* installing *source* package 'GeneStructureTools' ...
** testing if installed package can be loaded
* MD5 sums
packaged installation of 'GeneStructureTools' as GeneStructureTools_1.6.0.zip
* DONE (GeneStructureTools)
* installing to library 'C:/Users/biocbuild/bbs-3.10-bioc/R/library'
package 'GeneStructureTools' successfully unpacked and MD5 sums checked
| GeneStructureTools.Rcheck/examples_i386/GeneStructureTools-Ex.timings 
 | GeneStructureTools.Rcheck/examples_x64/GeneStructureTools-Ex.timings 
 |