| Back to Multiple platform build/check report for BioC 3.10 |
|
This page was generated on 2020-04-15 12:18:48 -0400 (Wed, 15 Apr 2020).
| Package 662/1823 | Hostname | OS / Arch | INSTALL | BUILD | CHECK | BUILD BIN | ||||||
| GeneRegionScan 1.42.0 Lasse Folkersen
| malbec1 | Linux (Ubuntu 18.04.4 LTS) / x86_64 | OK | OK | OK | |||||||
| tokay1 | Windows Server 2012 R2 Standard / x64 | OK | OK | WARNINGS | [ OK ] | |||||||
| merida1 | OS X 10.11.6 El Capitan / x86_64 | OK | OK | OK | OK |
| Package: GeneRegionScan |
| Version: 1.42.0 |
| Command: rm -rf GeneRegionScan.buildbin-libdir && mkdir GeneRegionScan.buildbin-libdir && C:\Users\biocbuild\bbs-3.10-bioc\R\bin\R.exe CMD INSTALL --merge-multiarch --build --library=GeneRegionScan.buildbin-libdir GeneRegionScan_1.42.0.tar.gz |
| StartedAt: 2020-04-15 08:47:42 -0400 (Wed, 15 Apr 2020) |
| EndedAt: 2020-04-15 08:48:38 -0400 (Wed, 15 Apr 2020) |
| EllapsedTime: 56.4 seconds |
| RetCode: 0 |
| Status: OK |
| PackageFile: GeneRegionScan_1.42.0.zip |
| PackageFileSize: 7.584 MiB |
##############################################################################
##############################################################################
###
### Running command:
###
### rm -rf GeneRegionScan.buildbin-libdir && mkdir GeneRegionScan.buildbin-libdir && C:\Users\biocbuild\bbs-3.10-bioc\R\bin\R.exe CMD INSTALL --merge-multiarch --build --library=GeneRegionScan.buildbin-libdir GeneRegionScan_1.42.0.tar.gz
###
##############################################################################
##############################################################################
install for i386
* installing *source* package 'GeneRegionScan' ...
** using staged installation
** R
** data
** exec
** inst
** byte-compile and prepare package for lazy loading
** help
*** installing help indices
converting help for package 'GeneRegionScan'
finding HTML links ... done
Nondocumented-objects html
ProbeLevelSet-class html
addSnpPdata html
checkForFileInPath html
doProbeLinear html
doProbeTTest html
exampleProbeLevelSet html
excludeDoubleMatchingProbes html
exonStructure html
Rd warning: C:/Users/biocbuild/bbs-3.10-bioc/tmpdir/RtmpqghGDH/R.INSTALL37906f216003/GeneRegionScan/man/exonStructure.rd:21: file link 'DNAString' in package 'Biostrings' does not exist and so has been treated as a topic
findProbePositions html
findSequenceInGenome html
geneRegionScan html
genomic html
Rd warning: C:/Users/biocbuild/bbs-3.10-bioc/tmpdir/RtmpqghGDH/R.INSTALL37906f216003/GeneRegionScan/man/genomic.Rd:13: file link 'readDNAStringSet' in package 'Biostrings' does not exist and so has been treated as a topic
getLocalMetaprobeIntensities html
getLocalProbeIntensities html
getMetaprobesetsFromRegionOfInterest html
getProbeLevelAnnotationForExonArrays html
getProbesetsFromMetaprobeset html
getProbesetsFromRegionOfInterest html
getSequence html
getServerProbeIntensities html
mrna html
Rd warning: C:/Users/biocbuild/bbs-3.10-bioc/tmpdir/RtmpqghGDH/R.INSTALL37906f216003/GeneRegionScan/man/mrna.Rd:12: file link 'readDNAStringSet' in package 'Biostrings' does not exist and so has been treated as a topic
plotCoexpression html
plotOnGene html
plotStatistics html
readGeneInput html
translateSampleNames html
** building package indices
** installing vignettes
** testing if installed package can be loaded from temporary location
** testing if installed package can be loaded from final location
** testing if installed package keeps a record of temporary installation path
install for x64
* installing *source* package 'GeneRegionScan' ...
** testing if installed package can be loaded
* MD5 sums
packaged installation of 'GeneRegionScan' as GeneRegionScan_1.42.0.zip
* DONE (GeneRegionScan)