| Back to Multiple platform build/check report for BioC 3.10 | 
 | 
This page was generated on 2020-04-15 12:17:29 -0400 (Wed, 15 Apr 2020).
| Package 695/1823 | Hostname | OS / Arch | INSTALL | BUILD | CHECK | BUILD BIN | ||||||
| GEOquery 2.54.1 Sean Davis 
 | malbec1 | Linux (Ubuntu 18.04.4 LTS) / x86_64 | OK | OK | OK |  | ||||||
| tokay1 | Windows Server 2012 R2 Standard / x64 | OK | OK | OK | [ OK ] |  | ||||||
| merida1 | OS X 10.11.6 El Capitan / x86_64 | OK | OK | OK | OK |  | 
| Package: GEOquery | 
| Version: 2.54.1 | 
| Command: rm -rf GEOquery.buildbin-libdir && mkdir GEOquery.buildbin-libdir && C:\Users\biocbuild\bbs-3.10-bioc\R\bin\R.exe CMD INSTALL --merge-multiarch --build --library=GEOquery.buildbin-libdir GEOquery_2.54.1.tar.gz | 
| StartedAt: 2020-04-15 08:50:13 -0400 (Wed, 15 Apr 2020) | 
| EndedAt: 2020-04-15 08:51:09 -0400 (Wed, 15 Apr 2020) | 
| EllapsedTime: 55.5 seconds | 
| RetCode: 0 | 
| Status: OK | 
| PackageFile: GEOquery_2.54.1.zip | 
| PackageFileSize: 13.21 MiB | 
##############################################################################
##############################################################################
###
### Running command:
###
###   rm -rf GEOquery.buildbin-libdir && mkdir GEOquery.buildbin-libdir && C:\Users\biocbuild\bbs-3.10-bioc\R\bin\R.exe CMD INSTALL --merge-multiarch --build --library=GEOquery.buildbin-libdir GEOquery_2.54.1.tar.gz
###
##############################################################################
##############################################################################
install for i386
* installing *source* package 'GEOquery' ...
** using staged installation
** R
** inst
** byte-compile and prepare package for lazy loading
** help
*** installing help indices
  converting help for package 'GEOquery'
    finding HTML links ... done
    GDS-class                               html  
    GEOData-accessors                       html  
    GEOData-class                           html  
    GEODataTable-class                      html  
    GPL-class                               html  
    GSE-class                               html  
    GSM-class                               html  
    coercion                                html  
    getDirListing                           html  
    getGEO                                  html  
    getGEOSuppFiles                         html  
    getGEOfile                              html  
    getGSEDataTables                        html  
    gunzip                                  html  
    parseGEO                                html  
    parseGSEMatrix                          html  
** building package indices
** installing vignettes
** testing if installed package can be loaded from temporary location
** testing if installed package can be loaded from final location
** testing if installed package keeps a record of temporary installation path
install for x64
* installing *source* package 'GEOquery' ...
** testing if installed package can be loaded
* MD5 sums
packaged installation of 'GEOquery' as GEOquery_2.54.1.zip
* DONE (GEOquery)