| Back to Multiple platform build/check report for BioC 3.10 | 
 | 
This page was generated on 2020-04-15 12:45:00 -0400 (Wed, 15 Apr 2020).
| Package 544/1823 | Hostname | OS / Arch | INSTALL | BUILD | CHECK | BUILD BIN | ||||||
| EventPointer 2.4.0 Juan Pablo Romero 
 | malbec1 | Linux (Ubuntu 18.04.4 LTS) / x86_64 | OK | OK | OK |  | ||||||
| tokay1 | Windows Server 2012 R2 Standard / x64 | OK | OK | OK | OK |  | ||||||
| merida1 | OS X 10.11.6 El Capitan / x86_64 | OK | OK | [ OK ] | OK |  | 
| Package: EventPointer | 
| Version: 2.4.0 | 
| Command: /Library/Frameworks/R.framework/Versions/Current/Resources/bin/R CMD check --install=check:EventPointer.install-out.txt --library=/Library/Frameworks/R.framework/Versions/Current/Resources/library --no-vignettes --timings EventPointer_2.4.0.tar.gz | 
| StartedAt: 2020-04-15 02:12:52 -0400 (Wed, 15 Apr 2020) | 
| EndedAt: 2020-04-15 02:19:31 -0400 (Wed, 15 Apr 2020) | 
| EllapsedTime: 398.5 seconds | 
| RetCode: 0 | 
| Status: OK | 
| CheckDir: EventPointer.Rcheck | 
| Warnings: 0 | 
##############################################################################
##############################################################################
###
### Running command:
###
###   /Library/Frameworks/R.framework/Versions/Current/Resources/bin/R CMD check --install=check:EventPointer.install-out.txt --library=/Library/Frameworks/R.framework/Versions/Current/Resources/library --no-vignettes --timings EventPointer_2.4.0.tar.gz
###
##############################################################################
##############################################################################
* using log directory ‘/Users/biocbuild/bbs-3.10-bioc/meat/EventPointer.Rcheck’
* using R version 3.6.3 (2020-02-29)
* using platform: x86_64-apple-darwin15.6.0 (64-bit)
* using session charset: UTF-8
* using option ‘--no-vignettes’
* checking for file ‘EventPointer/DESCRIPTION’ ... OK
* checking extension type ... Package
* this is package ‘EventPointer’ version ‘2.4.0’
* checking package namespace information ... OK
* checking package dependencies ... OK
* checking if this is a source package ... OK
* checking if there is a namespace ... OK
* checking for hidden files and directories ... OK
* checking for portable file names ... OK
* checking for sufficient/correct file permissions ... OK
* checking whether package ‘EventPointer’ can be installed ... OK
* checking installed package size ... OK
* checking package directory ... OK
* checking ‘build’ directory ... OK
* checking DESCRIPTION meta-information ... OK
* checking top-level files ... OK
* checking for left-over files ... OK
* checking index information ... OK
* checking package subdirectories ... OK
* checking R files for non-ASCII characters ... OK
* checking R files for syntax errors ... OK
* checking whether the package can be loaded ... OK
* checking whether the package can be loaded with stated dependencies ... OK
* checking whether the package can be unloaded cleanly ... OK
* checking whether the namespace can be loaded with stated dependencies ... OK
* checking whether the namespace can be unloaded cleanly ... OK
* checking dependencies in R code ... NOTE
Unexported objects imported by ':::' calls:
  ‘SGSeq:::addFeatureID’ ‘SGSeq:::addGeneID’ ‘SGSeq:::edges’
  ‘SGSeq:::exonGraph’ ‘SGSeq:::feature2name’ ‘SGSeq:::matchSGFeatures’
  ‘SGSeq:::nodes’ ‘SGSeq:::propagateAnnotation’
  ‘SGSeq:::splitCharacterList’
  See the note in ?`:::` about the use of this operator.
* checking S3 generic/method consistency ... OK
* checking replacement functions ... OK
* checking foreign function calls ... OK
* checking R code for possible problems ... NOTE
annotate2: no visible global function definition for
  ‘addDummySpliceSites’
annotate2: no visible global function definition for ‘annotatePaths’
annotateFeatures2: no visible global function definition for
  ‘matchTxFeatures’
Undefined global functions or variables:
  addDummySpliceSites annotatePaths matchTxFeatures
* checking Rd files ... OK
* checking Rd metadata ... OK
* checking Rd cross-references ... OK
* checking for missing documentation entries ... OK
* checking for code/documentation mismatches ... OK
* checking Rd \usage sections ... OK
* checking Rd contents ... OK
* checking for unstated dependencies in examples ... OK
* checking contents of ‘data’ directory ... OK
* checking data for non-ASCII characters ... OK
* checking data for ASCII and uncompressed saves ... OK
* checking files in ‘vignettes’ ... OK
* checking examples ... OK
Examples with CPU or elapsed time > 5s
                              user system elapsed
CDFfromGTF                   7.755  0.135   7.953
EventsGTFfromTrancriptomeGTF 6.452  0.019   6.507
CDFfromGTF_Multipath         6.389  0.039   6.475
EventPointer_RNASeq_IGV      5.974  0.031   6.072
* checking for unstated dependencies in ‘tests’ ... OK
* checking tests ...
  Running ‘runTests.R’
 OK
* checking for unstated dependencies in vignettes ... OK
* checking package vignettes in ‘inst/doc’ ... OK
* checking running R code from vignettes ... SKIPPED
* checking re-building of vignette outputs ... SKIPPED
* checking PDF version of manual ... OK
* DONE
Status: 2 NOTEs
See
  ‘/Users/biocbuild/bbs-3.10-bioc/meat/EventPointer.Rcheck/00check.log’
for details.
EventPointer.Rcheck/00install.out
############################################################################## ############################################################################## ### ### Running command: ### ### /Library/Frameworks/R.framework/Versions/Current/Resources/bin/R CMD INSTALL EventPointer ### ############################################################################## ############################################################################## * installing to library ‘/Library/Frameworks/R.framework/Versions/3.6/Resources/library’ * installing *source* package ‘EventPointer’ ... ** using staged installation ** R ** data *** moving datasets to lazyload DB ** inst ** byte-compile and prepare package for lazy loading ** help *** installing help indices ** building package indices ** installing vignettes ** testing if installed package can be loaded from temporary location ** testing if installed package can be loaded from final location ** testing if installed package keeps a record of temporary installation path * DONE (EventPointer)
EventPointer.Rcheck/tests/runTests.Rout
R version 3.6.3 (2020-02-29) -- "Holding the Windsock"
Copyright (C) 2020 The R Foundation for Statistical Computing
Platform: x86_64-apple-darwin15.6.0 (64-bit)
R is free software and comes with ABSOLUTELY NO WARRANTY.
You are welcome to redistribute it under certain conditions.
Type 'license()' or 'licence()' for distribution details.
R is a collaborative project with many contributors.
Type 'contributors()' for more information and
'citation()' on how to cite R or R packages in publications.
Type 'demo()' for some demos, 'help()' for on-line help, or
'help.start()' for an HTML browser interface to help.
Type 'q()' to quit R.
> BiocGenerics:::testPackage("EventPointer")
Attaching package: 'BiocGenerics'
The following objects are masked from 'package:parallel':
    clusterApply, clusterApplyLB, clusterCall, clusterEvalQ,
    clusterExport, clusterMap, parApply, parCapply, parLapply,
    parLapplyLB, parRapply, parSapply, parSapplyLB
The following objects are masked from 'package:stats':
    IQR, mad, sd, var, xtabs
The following objects are masked from 'package:base':
    Filter, Find, Map, Position, Reduce, anyDuplicated, append,
    as.data.frame, basename, cbind, colnames, dirname, do.call,
    duplicated, eval, evalq, get, grep, grepl, intersect, is.unsorted,
    lapply, mapply, match, mget, order, paste, pmax, pmax.int, pmin,
    pmin.int, rank, rbind, rownames, sapply, setdiff, sort, table,
    tapply, union, unique, unsplit, which, which.max, which.min
Attaching package: 'S4Vectors'
The following object is masked from 'package:base':
    expand.grid
Attaching package: 'Biostrings'
The following object is masked from 'package:base':
    strsplit
Welcome to Bioconductor
    Vignettes contain introductory material; view with
    'browseVignettes()'. To cite Bioconductor, see
    'citation("Biobase")', and for packages 'citation("pkgname")'.
Attaching package: 'matrixStats'
The following objects are masked from 'package:Biobase':
    anyMissing, rowMedians
Attaching package: 'DelayedArray'
The following objects are masked from 'package:matrixStats':
    colMaxs, colMins, colRanges, rowMaxs, rowMins, rowRanges
The following objects are masked from 'package:base':
    aperm, apply, rowsum
Attaching package: 'Matrix'
The following object is masked from 'package:S4Vectors':
    expand
Creating SG Information...Creating SG Information...
 Obtaining Events
  |                                                                            
  |                                                                      |   0%
  |                                                                            
  |============                                                          |  17%
  |                                                                            
  |=======================                                               |  33%
  |                                                                            
  |===================================                                   |  50%
  |                                                                            
  |===============================================                       |  67%
  |                                                                            
  |==========================================================            |  83%
  |                                                                            
  |======================================================================| 100%
 Obtaining Events
  |                                                                            
  |                                                                      |   0%
  |                                                                            
  |============                                                          |  17%
  |                                                                            
  |=======================                                               |  33%
  |                                                                            
  |===================================                                   |  50%
  |                                                                            
  |===============================================                       |  67%
  |                                                                            
  |==========================================================            |  83%
  |                                                                            
  |======================================================================| 100%
Creating SG Information...Creating SG Information...Creating SG Information...Creating SG Information...Creating SG Information...Import genomic features from the file as a GRanges object ... OK
Prepare the 'metadata' data frame ... OK
Make the TxDb object ... OK
  |                                                                            
  |                                                                      |   0%
  |                                                                            
  |===================================                                   |  50%
  |                                                                            
  |======================================================================| 100%
Creating .txt ...
.txt created
Creating .GTF ...
  |                                                                            
  |                                                                      |   0%
  |                                                                            
  |========                                                              |  11%
  |                                                                            
  |================                                                      |  22%
  |                                                                            
  |=======================                                               |  33%
  |                                                                            
  |===============================                                       |  44%
  |                                                                            
  |=======================================                               |  56%
  |                                                                            
  |===============================================                       |  67%
  |                                                                            
  |======================================================                |  78%
  |                                                                            
  |==============================================================        |  89%
  |                                                                            
  |======================================================================| 100%
.txt created
Creating the sparseMatrix of paths x transcripts...
	******FINISHED******
RUNIT TEST PROTOCOL -- Wed Apr 15 02:19:18 2020 
*********************************************** 
Number of test functions: 13 
Number of errors: 0 
Number of failures: 0 
 
1 Test Suite : 
EventPointer RUnit Tests - 13 test functions, 0 errors, 0 failures
Number of test functions: 13 
Number of errors: 0 
Number of failures: 0 
> 
> proc.time()
   user  system elapsed 
 29.785   0.959  31.096 
EventPointer.Rcheck/EventPointer-Ex.timings
| name | user | system | elapsed | |
| CDFfromGTF | 7.755 | 0.135 | 7.953 | |
| CDFfromGTF_Multipath | 6.389 | 0.039 | 6.475 | |
| EventDetection | 2.716 | 0.039 | 2.789 | |
| EventDetectionMultipath | 1.500 | 0.019 | 1.535 | |
| EventPointer | 0.058 | 0.003 | 0.063 | |
| EventPointer_IGV | 4.550 | 0.018 | 4.602 | |
| EventPointer_RNASeq | 0.152 | 0.002 | 0.157 | |
| EventPointer_RNASeq_IGV | 5.974 | 0.031 | 6.072 | |
| EventPointer_RNASeq_TranRef | 0.023 | 0.003 | 0.026 | |
| EventsGTFfromTrancriptomeGTF | 6.452 | 0.019 | 6.507 | |
| FindPrimers | 0.001 | 0.001 | 0.001 | |
| GetPSI_FromTranRef | 0.020 | 0.002 | 0.023 | |
| PSI_Statistic | 0.126 | 0.003 | 0.131 | |
| PrepareBam_EP | 0.000 | 0.000 | 0.001 | |
| getbootstrapkallisto | 0.294 | 0.027 | 0.369 | |