| Back to Multiple platform build/check report for BioC 3.10 |
|
This page was generated on 2020-04-15 12:09:09 -0400 (Wed, 15 Apr 2020).
| Package 522/1823 | Hostname | OS / Arch | INSTALL | BUILD | CHECK | BUILD BIN | ||||||
| EnrichmentBrowser 2.16.1 Ludwig Geistlinger
| malbec1 | Linux (Ubuntu 18.04.4 LTS) / x86_64 | OK | OK | [ OK ] | |||||||
| tokay1 | Windows Server 2012 R2 Standard / x64 | OK | OK | OK | OK | |||||||
| merida1 | OS X 10.11.6 El Capitan / x86_64 | OK | OK | OK | OK |
| Package: EnrichmentBrowser |
| Version: 2.16.1 |
| Command: /home/biocbuild/bbs-3.10-bioc/R/bin/R CMD check --install=check:EnrichmentBrowser.install-out.txt --library=/home/biocbuild/bbs-3.10-bioc/R/library --no-vignettes --timings EnrichmentBrowser_2.16.1.tar.gz |
| StartedAt: 2020-04-15 02:29:32 -0400 (Wed, 15 Apr 2020) |
| EndedAt: 2020-04-15 02:36:12 -0400 (Wed, 15 Apr 2020) |
| EllapsedTime: 399.8 seconds |
| RetCode: 0 |
| Status: OK |
| CheckDir: EnrichmentBrowser.Rcheck |
| Warnings: 0 |
##############################################################################
##############################################################################
###
### Running command:
###
### /home/biocbuild/bbs-3.10-bioc/R/bin/R CMD check --install=check:EnrichmentBrowser.install-out.txt --library=/home/biocbuild/bbs-3.10-bioc/R/library --no-vignettes --timings EnrichmentBrowser_2.16.1.tar.gz
###
##############################################################################
##############################################################################
* using log directory ‘/home/biocbuild/bbs-3.10-bioc/meat/EnrichmentBrowser.Rcheck’
* using R version 3.6.3 (2020-02-29)
* using platform: x86_64-pc-linux-gnu (64-bit)
* using session charset: UTF-8
* using option ‘--no-vignettes’
* checking for file ‘EnrichmentBrowser/DESCRIPTION’ ... OK
* this is package ‘EnrichmentBrowser’ version ‘2.16.1’
* package encoding: UTF-8
* checking package namespace information ... OK
* checking package dependencies ... OK
* checking if this is a source package ... OK
* checking if there is a namespace ... OK
* checking for hidden files and directories ... OK
* checking for portable file names ... OK
* checking for sufficient/correct file permissions ... OK
* checking whether package ‘EnrichmentBrowser’ can be installed ... OK
* checking installed package size ... OK
* checking package directory ... OK
* checking ‘build’ directory ... OK
* checking DESCRIPTION meta-information ... OK
* checking top-level files ... OK
* checking for left-over files ... OK
* checking index information ... OK
* checking package subdirectories ... OK
* checking R files for non-ASCII characters ... OK
* checking R files for syntax errors ... OK
* checking whether the package can be loaded ... OK
* checking whether the package can be loaded with stated dependencies ... OK
* checking whether the package can be unloaded cleanly ... OK
* checking whether the namespace can be loaded with stated dependencies ... OK
* checking whether the namespace can be unloaded cleanly ... OK
* checking dependencies in R code ... NOTE
Unexported object imported by a ':::' call: 'pathview:::parseKGML2Graph2'
See the note in ?`:::` about the use of this operator.
* checking S3 generic/method consistency ... OK
* checking replacement functions ... OK
* checking foreign function calls ... OK
* checking R code for possible problems ... NOTE
.netgsa: no visible global function definition for ‘write.csv’
.netgsa : .fitM: no visible global function definition for
‘bic.netEst.undir’
.netgsa : .fitM: no visible global function definition for
‘netEst.undir’
Undefined global functions or variables:
bic.netEst.undir netEst.undir write.csv
Consider adding
importFrom("utils", "write.csv")
to your NAMESPACE file.
* checking Rd files ... OK
* checking Rd metadata ... OK
* checking Rd cross-references ... OK
* checking for missing documentation entries ... OK
* checking for code/documentation mismatches ... OK
* checking Rd \usage sections ... OK
* checking Rd contents ... OK
* checking for unstated dependencies in examples ... OK
* checking files in ‘vignettes’ ... OK
* checking examples ... OK
Examples with CPU or elapsed time > 5s
user system elapsed
ebrowser 79.784 0.844 83.747
getGenesets 16.520 0.132 23.257
eaBrowse 10.700 0.260 11.830
deAna 6.164 0.072 6.374
compileGRN 5.128 0.060 5.341
* checking for unstated dependencies in vignettes ... OK
* checking package vignettes in ‘inst/doc’ ... OK
* checking running R code from vignettes ... SKIPPED
* checking re-building of vignette outputs ... SKIPPED
* checking PDF version of manual ... OK
* DONE
Status: 2 NOTEs
See
‘/home/biocbuild/bbs-3.10-bioc/meat/EnrichmentBrowser.Rcheck/00check.log’
for details.
EnrichmentBrowser.Rcheck/00install.out
############################################################################## ############################################################################## ### ### Running command: ### ### /home/biocbuild/bbs-3.10-bioc/R/bin/R CMD INSTALL EnrichmentBrowser ### ############################################################################## ############################################################################## * installing to library ‘/home/biocbuild/bbs-3.10-bioc/R/library’ * installing *source* package ‘EnrichmentBrowser’ ... ** using staged installation ** R ** inst ** byte-compile and prepare package for lazy loading ** help *** installing help indices ** building package indices ** installing vignettes ** testing if installed package can be loaded from temporary location ** testing if installed package can be loaded from final location ** testing if installed package keeps a record of temporary installation path * DONE (EnrichmentBrowser)
EnrichmentBrowser.Rcheck/EnrichmentBrowser-Ex.timings
| name | user | system | elapsed | |
| combResults | 0.668 | 0.012 | 0.684 | |
| compileGRN | 5.128 | 0.060 | 5.341 | |
| configEBrowser | 0 | 0 | 0 | |
| deAna | 6.164 | 0.072 | 6.374 | |
| downloadPathways | 0 | 0 | 0 | |
| eaBrowse | 10.70 | 0.26 | 11.83 | |
| ebrowser | 79.784 | 0.844 | 83.747 | |
| getGenesets | 16.520 | 0.132 | 23.257 | |
| ggeaGraph | 4.116 | 0.052 | 4.193 | |
| idMap | 0.420 | 0.008 | 0.486 | |
| isAvailable | 0 | 0 | 0 | |
| makeExampleData | 0.028 | 0.000 | 0.030 | |
| nbea | 0.440 | 0.000 | 0.449 | |
| normalize | 2.068 | 0.068 | 2.566 | |
| plots | 1.516 | 0.008 | 1.879 | |
| probe2gene | 0.092 | 0.000 | 0.106 | |
| readSE | 0.036 | 0.004 | 0.043 | |
| sbea | 0.224 | 0.000 | 0.227 | |