| Back to Multiple platform build/check report for BioC 3.10 |
|
This page was generated on 2020-04-15 12:19:47 -0400 (Wed, 15 Apr 2020).
| Package 527/1823 | Hostname | OS / Arch | INSTALL | BUILD | CHECK | BUILD BIN | ||||||
| ENVISIONQuery 1.34.0 Alex Lisovich
| malbec1 | Linux (Ubuntu 18.04.4 LTS) / x86_64 | OK | OK | OK | |||||||
| tokay1 | Windows Server 2012 R2 Standard / x64 | [ OK ] | OK | OK | OK | |||||||
| merida1 | OS X 10.11.6 El Capitan / x86_64 | OK | OK | OK | OK |
| Package: ENVISIONQuery |
| Version: 1.34.0 |
| Command: C:\cygwin\bin\curl.exe -O https://malbec1.bioconductor.org/BBS/3.10/bioc/src/contrib/ENVISIONQuery_1.34.0.tar.gz && rm -rf ENVISIONQuery.buildbin-libdir && mkdir ENVISIONQuery.buildbin-libdir && C:\Users\biocbuild\bbs-3.10-bioc\R\bin\R.exe CMD INSTALL --merge-multiarch --build --library=ENVISIONQuery.buildbin-libdir ENVISIONQuery_1.34.0.tar.gz && C:\Users\biocbuild\bbs-3.10-bioc\R\bin\R.exe CMD INSTALL ENVISIONQuery_1.34.0.zip && rm ENVISIONQuery_1.34.0.tar.gz ENVISIONQuery_1.34.0.zip |
| StartedAt: 2020-04-14 18:43:08 -0400 (Tue, 14 Apr 2020) |
| EndedAt: 2020-04-14 18:44:26 -0400 (Tue, 14 Apr 2020) |
| EllapsedTime: 77.2 seconds |
| RetCode: 0 |
| Status: OK |
##############################################################################
##############################################################################
###
### Running command:
###
### C:\cygwin\bin\curl.exe -O https://malbec1.bioconductor.org/BBS/3.10/bioc/src/contrib/ENVISIONQuery_1.34.0.tar.gz && rm -rf ENVISIONQuery.buildbin-libdir && mkdir ENVISIONQuery.buildbin-libdir && C:\Users\biocbuild\bbs-3.10-bioc\R\bin\R.exe CMD INSTALL --merge-multiarch --build --library=ENVISIONQuery.buildbin-libdir ENVISIONQuery_1.34.0.tar.gz && C:\Users\biocbuild\bbs-3.10-bioc\R\bin\R.exe CMD INSTALL ENVISIONQuery_1.34.0.zip && rm ENVISIONQuery_1.34.0.tar.gz ENVISIONQuery_1.34.0.zip
###
##############################################################################
##############################################################################
% Total % Received % Xferd Average Speed Time Time Time Current
Dload Upload Total Spent Left Speed
0 0 0 0 0 0 0 0 --:--:-- --:--:-- --:--:-- 0
100 541k 100 541k 0 0 11.6M 0 --:--:-- --:--:-- --:--:-- 12.5M
install for i386
* installing *source* package 'ENVISIONQuery' ...
** using staged installation
** R
** inst
** byte-compile and prepare package for lazy loading
** help
*** installing help indices
converting help for package 'ENVISIONQuery'
finding HTML links ... done
ENVISIONQuery-package html
ENVISIONQuery html
ENVISIONQuery.chunk html
ENVISIONQuery.loop html
ENVISIONServices html
formatIdMap html
formatIntact html
formatPicr html
formatReactome html
getFormatter html
getIdEntries html
getIdMatchInfo html
getInputIdEntries html
getInputTypes html
getIntactMatchInfo html
getMerger html
getPicrMatchInfo html
getPositiveResultSetIDs html
getReactomeMatchInfo html
getService html
getServiceClient html
getServiceNames html
getServiceOptions html
getServices html
getTool html
getToolNames html
jgetOptions html
mergeFrameList html
mergeMatchRows html
progressMsg html
registerServices html
toChunks html
** building package indices
** installing vignettes
** testing if installed package can be loaded from temporary location
This is ENVISIONQuery 1.34.0 2013-08-20
** testing if installed package can be loaded from final location
This is ENVISIONQuery 1.34.0 2013-08-20
** testing if installed package keeps a record of temporary installation path
install for x64
* installing *source* package 'ENVISIONQuery' ...
** testing if installed package can be loaded
This is ENVISIONQuery 1.34.0 2013-08-20
* MD5 sums
packaged installation of 'ENVISIONQuery' as ENVISIONQuery_1.34.0.zip
* DONE (ENVISIONQuery)
* installing to library 'C:/Users/biocbuild/bbs-3.10-bioc/R/library'
package 'ENVISIONQuery' successfully unpacked and MD5 sums checked