| Back to Multiple platform build/check report for BioC 3.10 | 
 | 
This page was generated on 2020-04-15 12:16:55 -0400 (Wed, 15 Apr 2020).
| Package 498/1823 | Hostname | OS / Arch | INSTALL | BUILD | CHECK | BUILD BIN | ||||||
| EBarrays 2.50.0 Ming Yuan 
 | malbec1 | Linux (Ubuntu 18.04.4 LTS) / x86_64 | OK | OK | OK |  | ||||||
| tokay1 | Windows Server 2012 R2 Standard / x64 | [ OK ] | OK | OK | OK |  | ||||||
| merida1 | OS X 10.11.6 El Capitan / x86_64 | OK | OK | OK | OK |  | 
| Package: EBarrays | 
| Version: 2.50.0 | 
| Command: C:\cygwin\bin\curl.exe -O https://malbec1.bioconductor.org/BBS/3.10/bioc/src/contrib/EBarrays_2.50.0.tar.gz && rm -rf EBarrays.buildbin-libdir && mkdir EBarrays.buildbin-libdir && C:\Users\biocbuild\bbs-3.10-bioc\R\bin\R.exe CMD INSTALL --merge-multiarch --build --library=EBarrays.buildbin-libdir EBarrays_2.50.0.tar.gz && C:\Users\biocbuild\bbs-3.10-bioc\R\bin\R.exe CMD INSTALL EBarrays_2.50.0.zip && rm EBarrays_2.50.0.tar.gz EBarrays_2.50.0.zip | 
| StartedAt: 2020-04-14 18:49:37 -0400 (Tue, 14 Apr 2020) | 
| EndedAt: 2020-04-14 18:49:53 -0400 (Tue, 14 Apr 2020) | 
| EllapsedTime: 16.8 seconds | 
| RetCode: 0 | 
| Status: OK | 
##############################################################################
##############################################################################
###
### Running command:
###
###   C:\cygwin\bin\curl.exe -O https://malbec1.bioconductor.org/BBS/3.10/bioc/src/contrib/EBarrays_2.50.0.tar.gz && rm -rf EBarrays.buildbin-libdir && mkdir EBarrays.buildbin-libdir && C:\Users\biocbuild\bbs-3.10-bioc\R\bin\R.exe CMD INSTALL --merge-multiarch --build --library=EBarrays.buildbin-libdir EBarrays_2.50.0.tar.gz && C:\Users\biocbuild\bbs-3.10-bioc\R\bin\R.exe CMD INSTALL EBarrays_2.50.0.zip && rm EBarrays_2.50.0.tar.gz EBarrays_2.50.0.zip
###
##############################################################################
##############################################################################
  % Total    % Received % Xferd  Average Speed   Time    Time     Time  Current
                                 Dload  Upload   Total   Spent    Left  Speed
  0     0    0     0    0     0      0      0 --:--:-- --:--:-- --:--:--     0
100  243k  100  243k    0     0  6232k      0 --:--:-- --:--:-- --:--:-- 6945k
install for i386
* installing *source* package 'EBarrays' ...
** using staged installation
** libs
C:/Rtools/mingw_32/bin/gcc  -I"C:/Users/BIOCBU~1/BBS-3~1.10-/R/include" -DNDEBUG     -I"C:/extsoft/include"     -O3 -Wall  -std=gnu99 -mtune=core2 -c ebarrays.c -o ebarrays.o
C:/Rtools/mingw_32/bin/gcc -shared -s -static-libgcc -o EBarrays.dll tmp.def ebarrays.o -LC:/extsoft/lib/i386 -LC:/extsoft/lib -LC:/Users/BIOCBU~1/BBS-3~1.10-/R/bin/i386 -lR
installing to C:/Users/biocbuild/bbs-3.10-bioc/meat/EBarrays.buildbin-libdir/00LOCK-EBarrays/00new/EBarrays/libs/i386
** R
** data
** demo
** byte-compile and prepare package for lazy loading
** help
*** installing help indices
  converting help for package 'EBarrays'
    finding HTML links ... done
    EBarrays-Internal                       html  
    crit.fun                                html  
    ebarraysFamily-class                    html  
    ebplots                                 html  
    emfit                                   html  
    gould                                   html  
    postprob                                html  
    utilities                               html  
** building package indices
** installing vignettes
** testing if installed package can be loaded from temporary location
** testing if installed package can be loaded from final location
** testing if installed package keeps a record of temporary installation path
install for x64
* installing *source* package 'EBarrays' ...
** libs
C:/Rtools/mingw_64/bin/gcc  -I"C:/Users/BIOCBU~1/BBS-3~1.10-/R/include" -DNDEBUG     -I"C:/extsoft/include"     -O2 -Wall  -std=gnu99 -mtune=core2 -c ebarrays.c -o ebarrays.o
C:/Rtools/mingw_64/bin/gcc -shared -s -static-libgcc -o EBarrays.dll tmp.def ebarrays.o -LC:/extsoft/lib/x64 -LC:/extsoft/lib -LC:/Users/BIOCBU~1/BBS-3~1.10-/R/bin/x64 -lR
installing to C:/Users/biocbuild/bbs-3.10-bioc/meat/EBarrays.buildbin-libdir/EBarrays/libs/x64
** testing if installed package can be loaded
* MD5 sums
packaged installation of 'EBarrays' as EBarrays_2.50.0.zip
* DONE (EBarrays)
* installing to library 'C:/Users/biocbuild/bbs-3.10-bioc/R/library'
package 'EBarrays' successfully unpacked and MD5 sums checked