| Back to Multiple platform build/check report for BioC 3.10 |
|
This page was generated on 2020-04-15 12:20:12 -0400 (Wed, 15 Apr 2020).
| Package 452/1823 | Hostname | OS / Arch | INSTALL | BUILD | CHECK | BUILD BIN | ||||||
| DiffBind 2.14.0 Rory Stark
| malbec1 | Linux (Ubuntu 18.04.4 LTS) / x86_64 | OK | OK | OK | |||||||
| tokay1 | Windows Server 2012 R2 Standard / x64 | [ OK ] | OK | OK | OK | |||||||
| merida1 | OS X 10.11.6 El Capitan / x86_64 | OK | OK | OK | OK |
| Package: DiffBind |
| Version: 2.14.0 |
| Command: C:\cygwin\bin\curl.exe -O https://malbec1.bioconductor.org/BBS/3.10/bioc/src/contrib/DiffBind_2.14.0.tar.gz && rm -rf DiffBind.buildbin-libdir && mkdir DiffBind.buildbin-libdir && C:\Users\biocbuild\bbs-3.10-bioc\R\bin\R.exe CMD INSTALL --merge-multiarch --build --library=DiffBind.buildbin-libdir DiffBind_2.14.0.tar.gz && C:\Users\biocbuild\bbs-3.10-bioc\R\bin\R.exe CMD INSTALL DiffBind_2.14.0.zip && rm DiffBind_2.14.0.tar.gz DiffBind_2.14.0.zip |
| StartedAt: 2020-04-14 20:13:38 -0400 (Tue, 14 Apr 2020) |
| EndedAt: 2020-04-14 20:17:19 -0400 (Tue, 14 Apr 2020) |
| EllapsedTime: 221.1 seconds |
| RetCode: 0 |
| Status: OK |
##############################################################################
##############################################################################
###
### Running command:
###
### C:\cygwin\bin\curl.exe -O https://malbec1.bioconductor.org/BBS/3.10/bioc/src/contrib/DiffBind_2.14.0.tar.gz && rm -rf DiffBind.buildbin-libdir && mkdir DiffBind.buildbin-libdir && C:\Users\biocbuild\bbs-3.10-bioc\R\bin\R.exe CMD INSTALL --merge-multiarch --build --library=DiffBind.buildbin-libdir DiffBind_2.14.0.tar.gz && C:\Users\biocbuild\bbs-3.10-bioc\R\bin\R.exe CMD INSTALL DiffBind_2.14.0.zip && rm DiffBind_2.14.0.tar.gz DiffBind_2.14.0.zip
###
##############################################################################
##############################################################################
% Total % Received % Xferd Average Speed Time Time Time Current
Dload Upload Total Spent Left Speed
0 0 0 0 0 0 0 0 --:--:-- --:--:-- --:--:-- 0
0 1195k 0 0 0 0 0 0 --:--:-- --:--:-- --:--:-- 0
100 1195k 100 1195k 0 0 4050k 0 --:--:-- --:--:-- --:--:-- 4092k
install for i386
* installing *source* package 'DiffBind' ...
** using staged installation
** libs
C:/Rtools/mingw_32/bin/g++ -std=gnu++11 -I"C:/Users/BIOCBU~1/BBS-3~1.10-/R/include" -DNDEBUG -D_FILE_OFFSET_BITS=64 -I"C:/Users/biocbuild/bbs-3.10-bioc/R/library/Rhtslib/include" -I"C:/Users/biocbuild/bbs-3.10-bioc/R/library/Rcpp/include" -I"C:/extsoft/include" -O2 -Wall -mtune=core2 -c RcppExports.cpp -o RcppExports.o
C:/Rtools/mingw_32/bin/g++ -std=gnu++11 -I"C:/Users/BIOCBU~1/BBS-3~1.10-/R/include" -DNDEBUG -D_FILE_OFFSET_BITS=64 -I"C:/Users/biocbuild/bbs-3.10-bioc/R/library/Rhtslib/include" -I"C:/Users/biocbuild/bbs-3.10-bioc/R/library/Rcpp/include" -I"C:/extsoft/include" -O2 -Wall -mtune=core2 -c bamReader.cpp -o bamReader.o
C:/Rtools/mingw_32/bin/gcc -I"C:/Users/BIOCBU~1/BBS-3~1.10-/R/include" -DNDEBUG -D_FILE_OFFSET_BITS=64 -I"C:/Users/biocbuild/bbs-3.10-bioc/R/library/Rhtslib/include" -I"C:/Users/biocbuild/bbs-3.10-bioc/R/library/Rcpp/include" -I"C:/extsoft/include" -O3 -Wall -std=gnu99 -mtune=core2 -c bam_plbuf.c -o bam_plbuf.o
C:/Rtools/mingw_32/bin/g++ -std=gnu++11 -I"C:/Users/BIOCBU~1/BBS-3~1.10-/R/include" -DNDEBUG -D_FILE_OFFSET_BITS=64 -I"C:/Users/biocbuild/bbs-3.10-bioc/R/library/Rhtslib/include" -I"C:/Users/biocbuild/bbs-3.10-bioc/R/library/Rcpp/include" -I"C:/extsoft/include" -O2 -Wall -mtune=core2 -c bedReader.cpp -o bedReader.o
C:/Rtools/mingw_32/bin/g++ -std=gnu++11 -I"C:/Users/BIOCBU~1/BBS-3~1.10-/R/include" -DNDEBUG -D_FILE_OFFSET_BITS=64 -I"C:/Users/biocbuild/bbs-3.10-bioc/R/library/Rhtslib/include" -I"C:/Users/biocbuild/bbs-3.10-bioc/R/library/Rcpp/include" -I"C:/extsoft/include" -O2 -Wall -mtune=core2 -c bitBucket.cpp -o bitBucket.o
C:/Rtools/mingw_32/bin/g++ -std=gnu++11 -I"C:/Users/BIOCBU~1/BBS-3~1.10-/R/include" -DNDEBUG -D_FILE_OFFSET_BITS=64 -I"C:/Users/biocbuild/bbs-3.10-bioc/R/library/Rhtslib/include" -I"C:/Users/biocbuild/bbs-3.10-bioc/R/library/Rcpp/include" -I"C:/extsoft/include" -O2 -Wall -mtune=core2 -c croi_func.cpp -o croi_func.o
C:/Rtools/mingw_32/bin/g++ -std=gnu++11 -I"C:/Users/BIOCBU~1/BBS-3~1.10-/R/include" -DNDEBUG -D_FILE_OFFSET_BITS=64 -I"C:/Users/biocbuild/bbs-3.10-bioc/R/library/Rhtslib/include" -I"C:/Users/biocbuild/bbs-3.10-bioc/R/library/Rcpp/include" -I"C:/extsoft/include" -O2 -Wall -mtune=core2 -c croi_main.cpp -o croi_main.o
C:/Rtools/mingw_32/bin/g++ -std=gnu++11 -I"C:/Users/BIOCBU~1/BBS-3~1.10-/R/include" -DNDEBUG -D_FILE_OFFSET_BITS=64 -I"C:/Users/biocbuild/bbs-3.10-bioc/R/library/Rhtslib/include" -I"C:/Users/biocbuild/bbs-3.10-bioc/R/library/Rcpp/include" -I"C:/extsoft/include" -O2 -Wall -mtune=core2 -c densitySet.cpp -o densitySet.o
C:/Rtools/mingw_32/bin/g++ -std=gnu++11 -I"C:/Users/BIOCBU~1/BBS-3~1.10-/R/include" -DNDEBUG -D_FILE_OFFSET_BITS=64 -I"C:/Users/biocbuild/bbs-3.10-bioc/R/library/Rhtslib/include" -I"C:/Users/biocbuild/bbs-3.10-bioc/R/library/Rcpp/include" -I"C:/extsoft/include" -O2 -Wall -mtune=core2 -c iBucket.cpp -o iBucket.o
C:/Rtools/mingw_32/bin/g++ -std=gnu++11 -I"C:/Users/BIOCBU~1/BBS-3~1.10-/R/include" -DNDEBUG -D_FILE_OFFSET_BITS=64 -I"C:/Users/biocbuild/bbs-3.10-bioc/R/library/Rhtslib/include" -I"C:/Users/biocbuild/bbs-3.10-bioc/R/library/Rcpp/include" -I"C:/extsoft/include" -O2 -Wall -mtune=core2 -c interval.cpp -o interval.o
C:/Rtools/mingw_32/bin/g++ -std=gnu++11 -I"C:/Users/BIOCBU~1/BBS-3~1.10-/R/include" -DNDEBUG -D_FILE_OFFSET_BITS=64 -I"C:/Users/biocbuild/bbs-3.10-bioc/R/library/Rhtslib/include" -I"C:/Users/biocbuild/bbs-3.10-bioc/R/library/Rcpp/include" -I"C:/extsoft/include" -O2 -Wall -mtune=core2 -c intervalDensity.cpp -o intervalDensity.o
C:/Rtools/mingw_32/bin/g++ -std=gnu++11 -I"C:/Users/BIOCBU~1/BBS-3~1.10-/R/include" -DNDEBUG -D_FILE_OFFSET_BITS=64 -I"C:/Users/biocbuild/bbs-3.10-bioc/R/library/Rhtslib/include" -I"C:/Users/biocbuild/bbs-3.10-bioc/R/library/Rcpp/include" -I"C:/extsoft/include" -O2 -Wall -mtune=core2 -c intervalNode.cpp -o intervalNode.o
C:/Rtools/mingw_32/bin/g++ -std=gnu++11 -I"C:/Users/BIOCBU~1/BBS-3~1.10-/R/include" -DNDEBUG -D_FILE_OFFSET_BITS=64 -I"C:/Users/biocbuild/bbs-3.10-bioc/R/library/Rhtslib/include" -I"C:/Users/biocbuild/bbs-3.10-bioc/R/library/Rcpp/include" -I"C:/extsoft/include" -O2 -Wall -mtune=core2 -c intervalSet.cpp -o intervalSet.o
C:/Rtools/mingw_32/bin/g++ -std=gnu++11 -I"C:/Users/BIOCBU~1/BBS-3~1.10-/R/include" -DNDEBUG -D_FILE_OFFSET_BITS=64 -I"C:/Users/biocbuild/bbs-3.10-bioc/R/library/Rhtslib/include" -I"C:/Users/biocbuild/bbs-3.10-bioc/R/library/Rcpp/include" -I"C:/extsoft/include" -O2 -Wall -mtune=core2 -c intervalTree.cpp -o intervalTree.o
C:/Rtools/mingw_32/bin/g++ -std=gnu++11 -I"C:/Users/BIOCBU~1/BBS-3~1.10-/R/include" -DNDEBUG -D_FILE_OFFSET_BITS=64 -I"C:/Users/biocbuild/bbs-3.10-bioc/R/library/Rhtslib/include" -I"C:/Users/biocbuild/bbs-3.10-bioc/R/library/Rcpp/include" -I"C:/extsoft/include" -O2 -Wall -mtune=core2 -c merge.cpp -o merge.o
C:/Rtools/mingw_32/bin/gcc -I"C:/Users/BIOCBU~1/BBS-3~1.10-/R/include" -DNDEBUG -D_FILE_OFFSET_BITS=64 -I"C:/Users/biocbuild/bbs-3.10-bioc/R/library/Rhtslib/include" -I"C:/Users/biocbuild/bbs-3.10-bioc/R/library/Rcpp/include" -I"C:/extsoft/include" -O3 -Wall -std=gnu99 -mtune=core2 -c mergeOne.c -o mergeOne.o
C:/Rtools/mingw_32/bin/g++ -std=gnu++11 -I"C:/Users/BIOCBU~1/BBS-3~1.10-/R/include" -DNDEBUG -D_FILE_OFFSET_BITS=64 -I"C:/Users/biocbuild/bbs-3.10-bioc/R/library/Rhtslib/include" -I"C:/Users/biocbuild/bbs-3.10-bioc/R/library/Rcpp/include" -I"C:/extsoft/include" -O2 -Wall -mtune=core2 -c nodeGroup.cpp -o nodeGroup.o
C:/Rtools/mingw_32/bin/g++ -std=gnu++11 -I"C:/Users/BIOCBU~1/BBS-3~1.10-/R/include" -DNDEBUG -D_FILE_OFFSET_BITS=64 -I"C:/Users/biocbuild/bbs-3.10-bioc/R/library/Rhtslib/include" -I"C:/Users/biocbuild/bbs-3.10-bioc/R/library/Rcpp/include" -I"C:/extsoft/include" -O2 -Wall -mtune=core2 -c peakOrder.cpp -o peakOrder.o
C:/Rtools/mingw_32/bin/g++ -std=gnu++11 -I"C:/Users/BIOCBU~1/BBS-3~1.10-/R/include" -DNDEBUG -D_FILE_OFFSET_BITS=64 -I"C:/Users/biocbuild/bbs-3.10-bioc/R/library/Rhtslib/include" -I"C:/Users/biocbuild/bbs-3.10-bioc/R/library/Rcpp/include" -I"C:/extsoft/include" -O2 -Wall -mtune=core2 -c reader.cpp -o reader.o
C:/Rtools/mingw_32/bin/gcc -I"C:/Users/BIOCBU~1/BBS-3~1.10-/R/include" -DNDEBUG -D_FILE_OFFSET_BITS=64 -I"C:/Users/biocbuild/bbs-3.10-bioc/R/library/Rhtslib/include" -I"C:/Users/biocbuild/bbs-3.10-bioc/R/library/Rcpp/include" -I"C:/extsoft/include" -O3 -Wall -std=gnu99 -mtune=core2 -c sam.c -o sam.o
C:/Rtools/mingw_32/bin/g++ -std=gnu++11 -I"C:/Users/BIOCBU~1/BBS-3~1.10-/R/include" -DNDEBUG -D_FILE_OFFSET_BITS=64 -I"C:/Users/biocbuild/bbs-3.10-bioc/R/library/Rhtslib/include" -I"C:/Users/biocbuild/bbs-3.10-bioc/R/library/Rcpp/include" -I"C:/extsoft/include" -O2 -Wall -mtune=core2 -c sequence.cpp -o sequence.o
C:/Rtools/mingw_32/bin/g++ -std=gnu++11 -I"C:/Users/BIOCBU~1/BBS-3~1.10-/R/include" -DNDEBUG -D_FILE_OFFSET_BITS=64 -I"C:/Users/biocbuild/bbs-3.10-bioc/R/library/Rhtslib/include" -I"C:/Users/biocbuild/bbs-3.10-bioc/R/library/Rcpp/include" -I"C:/extsoft/include" -O2 -Wall -mtune=core2 -c util.cpp -o util.o
C:/Rtools/mingw_32/bin/g++ -std=gnu++11 -shared -s -static-libgcc -o DiffBind.dll tmp.def RcppExports.o bamReader.o bam_plbuf.o bedReader.o bitBucket.o croi_func.o croi_main.o densitySet.o iBucket.o interval.o intervalDensity.o intervalNode.o intervalSet.o intervalTree.o merge.o mergeOne.o nodeGroup.o peakOrder.o reader.o sam.o sequence.o util.o C:/Users/biocbuild/bbs-3.10-bioc/R/library/Rhtslib/usrlib/i386/libhts.a -LC:/extsoft/lib/i386 -lcurl -lrtmp -lssl -lssh2 -lcrypto -lgdi32 -lz -lws2_32 -lwldap32 -lwinmm -lidn -LC:/extsoft/lib/i386 -LC:/extsoft/lib -LC:/Users/BIOCBU~1/BBS-3~1.10-/R/bin/i386 -lR
installing to C:/Users/biocbuild/bbs-3.10-bioc/meat/DiffBind.buildbin-libdir/00LOCK-DiffBind/00new/DiffBind/libs/i386
** R
** data
** inst
** byte-compile and prepare package for lazy loading
** help
*** installing help indices
converting help for package 'DiffBind'
finding HTML links ... done
DiffBind-globals html
finding level-2 HTML links ... done
DiffBind-package html
dba html
dba.analyze html
dba.contrast html
dba.count html
dba.load html
dba.mask html
dba.overlap html
dba.peakset html
dba.plotBox html
dba.plotHeatmap html
dba.plotMA html
dba.plotPCA html
dba.plotVenn html
dba.plotVolcano html
dba.report html
dba.save html
dba.show html
print.DBA html
tamoxifen html
** building package indices
** installing vignettes
** testing if installed package can be loaded from temporary location
** testing if installed package can be loaded from final location
** testing if installed package keeps a record of temporary installation path
install for x64
* installing *source* package 'DiffBind' ...
** libs
C:/Rtools/mingw_64/bin/g++ -std=gnu++11 -I"C:/Users/BIOCBU~1/BBS-3~1.10-/R/include" -DNDEBUG -D_FILE_OFFSET_BITS=64 -I"C:/Users/biocbuild/bbs-3.10-bioc/R/library/Rhtslib/include" -I"C:/Users/biocbuild/bbs-3.10-bioc/R/library/Rcpp/include" -I"C:/extsoft/include" -O2 -Wall -mtune=core2 -c RcppExports.cpp -o RcppExports.o
C:/Rtools/mingw_64/bin/g++ -std=gnu++11 -I"C:/Users/BIOCBU~1/BBS-3~1.10-/R/include" -DNDEBUG -D_FILE_OFFSET_BITS=64 -I"C:/Users/biocbuild/bbs-3.10-bioc/R/library/Rhtslib/include" -I"C:/Users/biocbuild/bbs-3.10-bioc/R/library/Rcpp/include" -I"C:/extsoft/include" -O2 -Wall -mtune=core2 -c bamReader.cpp -o bamReader.o
C:/Rtools/mingw_64/bin/gcc -I"C:/Users/BIOCBU~1/BBS-3~1.10-/R/include" -DNDEBUG -D_FILE_OFFSET_BITS=64 -I"C:/Users/biocbuild/bbs-3.10-bioc/R/library/Rhtslib/include" -I"C:/Users/biocbuild/bbs-3.10-bioc/R/library/Rcpp/include" -I"C:/extsoft/include" -O2 -Wall -std=gnu99 -mtune=core2 -c bam_plbuf.c -o bam_plbuf.o
C:/Rtools/mingw_64/bin/g++ -std=gnu++11 -I"C:/Users/BIOCBU~1/BBS-3~1.10-/R/include" -DNDEBUG -D_FILE_OFFSET_BITS=64 -I"C:/Users/biocbuild/bbs-3.10-bioc/R/library/Rhtslib/include" -I"C:/Users/biocbuild/bbs-3.10-bioc/R/library/Rcpp/include" -I"C:/extsoft/include" -O2 -Wall -mtune=core2 -c bedReader.cpp -o bedReader.o
C:/Rtools/mingw_64/bin/g++ -std=gnu++11 -I"C:/Users/BIOCBU~1/BBS-3~1.10-/R/include" -DNDEBUG -D_FILE_OFFSET_BITS=64 -I"C:/Users/biocbuild/bbs-3.10-bioc/R/library/Rhtslib/include" -I"C:/Users/biocbuild/bbs-3.10-bioc/R/library/Rcpp/include" -I"C:/extsoft/include" -O2 -Wall -mtune=core2 -c bitBucket.cpp -o bitBucket.o
C:/Rtools/mingw_64/bin/g++ -std=gnu++11 -I"C:/Users/BIOCBU~1/BBS-3~1.10-/R/include" -DNDEBUG -D_FILE_OFFSET_BITS=64 -I"C:/Users/biocbuild/bbs-3.10-bioc/R/library/Rhtslib/include" -I"C:/Users/biocbuild/bbs-3.10-bioc/R/library/Rcpp/include" -I"C:/extsoft/include" -O2 -Wall -mtune=core2 -c croi_func.cpp -o croi_func.o
C:/Rtools/mingw_64/bin/g++ -std=gnu++11 -I"C:/Users/BIOCBU~1/BBS-3~1.10-/R/include" -DNDEBUG -D_FILE_OFFSET_BITS=64 -I"C:/Users/biocbuild/bbs-3.10-bioc/R/library/Rhtslib/include" -I"C:/Users/biocbuild/bbs-3.10-bioc/R/library/Rcpp/include" -I"C:/extsoft/include" -O2 -Wall -mtune=core2 -c croi_main.cpp -o croi_main.o
C:/Rtools/mingw_64/bin/g++ -std=gnu++11 -I"C:/Users/BIOCBU~1/BBS-3~1.10-/R/include" -DNDEBUG -D_FILE_OFFSET_BITS=64 -I"C:/Users/biocbuild/bbs-3.10-bioc/R/library/Rhtslib/include" -I"C:/Users/biocbuild/bbs-3.10-bioc/R/library/Rcpp/include" -I"C:/extsoft/include" -O2 -Wall -mtune=core2 -c densitySet.cpp -o densitySet.o
C:/Rtools/mingw_64/bin/g++ -std=gnu++11 -I"C:/Users/BIOCBU~1/BBS-3~1.10-/R/include" -DNDEBUG -D_FILE_OFFSET_BITS=64 -I"C:/Users/biocbuild/bbs-3.10-bioc/R/library/Rhtslib/include" -I"C:/Users/biocbuild/bbs-3.10-bioc/R/library/Rcpp/include" -I"C:/extsoft/include" -O2 -Wall -mtune=core2 -c iBucket.cpp -o iBucket.o
C:/Rtools/mingw_64/bin/g++ -std=gnu++11 -I"C:/Users/BIOCBU~1/BBS-3~1.10-/R/include" -DNDEBUG -D_FILE_OFFSET_BITS=64 -I"C:/Users/biocbuild/bbs-3.10-bioc/R/library/Rhtslib/include" -I"C:/Users/biocbuild/bbs-3.10-bioc/R/library/Rcpp/include" -I"C:/extsoft/include" -O2 -Wall -mtune=core2 -c interval.cpp -o interval.o
C:/Rtools/mingw_64/bin/g++ -std=gnu++11 -I"C:/Users/BIOCBU~1/BBS-3~1.10-/R/include" -DNDEBUG -D_FILE_OFFSET_BITS=64 -I"C:/Users/biocbuild/bbs-3.10-bioc/R/library/Rhtslib/include" -I"C:/Users/biocbuild/bbs-3.10-bioc/R/library/Rcpp/include" -I"C:/extsoft/include" -O2 -Wall -mtune=core2 -c intervalDensity.cpp -o intervalDensity.o
C:/Rtools/mingw_64/bin/g++ -std=gnu++11 -I"C:/Users/BIOCBU~1/BBS-3~1.10-/R/include" -DNDEBUG -D_FILE_OFFSET_BITS=64 -I"C:/Users/biocbuild/bbs-3.10-bioc/R/library/Rhtslib/include" -I"C:/Users/biocbuild/bbs-3.10-bioc/R/library/Rcpp/include" -I"C:/extsoft/include" -O2 -Wall -mtune=core2 -c intervalNode.cpp -o intervalNode.o
C:/Rtools/mingw_64/bin/g++ -std=gnu++11 -I"C:/Users/BIOCBU~1/BBS-3~1.10-/R/include" -DNDEBUG -D_FILE_OFFSET_BITS=64 -I"C:/Users/biocbuild/bbs-3.10-bioc/R/library/Rhtslib/include" -I"C:/Users/biocbuild/bbs-3.10-bioc/R/library/Rcpp/include" -I"C:/extsoft/include" -O2 -Wall -mtune=core2 -c intervalSet.cpp -o intervalSet.o
C:/Rtools/mingw_64/bin/g++ -std=gnu++11 -I"C:/Users/BIOCBU~1/BBS-3~1.10-/R/include" -DNDEBUG -D_FILE_OFFSET_BITS=64 -I"C:/Users/biocbuild/bbs-3.10-bioc/R/library/Rhtslib/include" -I"C:/Users/biocbuild/bbs-3.10-bioc/R/library/Rcpp/include" -I"C:/extsoft/include" -O2 -Wall -mtune=core2 -c intervalTree.cpp -o intervalTree.o
C:/Rtools/mingw_64/bin/g++ -std=gnu++11 -I"C:/Users/BIOCBU~1/BBS-3~1.10-/R/include" -DNDEBUG -D_FILE_OFFSET_BITS=64 -I"C:/Users/biocbuild/bbs-3.10-bioc/R/library/Rhtslib/include" -I"C:/Users/biocbuild/bbs-3.10-bioc/R/library/Rcpp/include" -I"C:/extsoft/include" -O2 -Wall -mtune=core2 -c merge.cpp -o merge.o
C:/Rtools/mingw_64/bin/gcc -I"C:/Users/BIOCBU~1/BBS-3~1.10-/R/include" -DNDEBUG -D_FILE_OFFSET_BITS=64 -I"C:/Users/biocbuild/bbs-3.10-bioc/R/library/Rhtslib/include" -I"C:/Users/biocbuild/bbs-3.10-bioc/R/library/Rcpp/include" -I"C:/extsoft/include" -O2 -Wall -std=gnu99 -mtune=core2 -c mergeOne.c -o mergeOne.o
C:/Rtools/mingw_64/bin/g++ -std=gnu++11 -I"C:/Users/BIOCBU~1/BBS-3~1.10-/R/include" -DNDEBUG -D_FILE_OFFSET_BITS=64 -I"C:/Users/biocbuild/bbs-3.10-bioc/R/library/Rhtslib/include" -I"C:/Users/biocbuild/bbs-3.10-bioc/R/library/Rcpp/include" -I"C:/extsoft/include" -O2 -Wall -mtune=core2 -c nodeGroup.cpp -o nodeGroup.o
C:/Rtools/mingw_64/bin/g++ -std=gnu++11 -I"C:/Users/BIOCBU~1/BBS-3~1.10-/R/include" -DNDEBUG -D_FILE_OFFSET_BITS=64 -I"C:/Users/biocbuild/bbs-3.10-bioc/R/library/Rhtslib/include" -I"C:/Users/biocbuild/bbs-3.10-bioc/R/library/Rcpp/include" -I"C:/extsoft/include" -O2 -Wall -mtune=core2 -c peakOrder.cpp -o peakOrder.o
C:/Rtools/mingw_64/bin/g++ -std=gnu++11 -I"C:/Users/BIOCBU~1/BBS-3~1.10-/R/include" -DNDEBUG -D_FILE_OFFSET_BITS=64 -I"C:/Users/biocbuild/bbs-3.10-bioc/R/library/Rhtslib/include" -I"C:/Users/biocbuild/bbs-3.10-bioc/R/library/Rcpp/include" -I"C:/extsoft/include" -O2 -Wall -mtune=core2 -c reader.cpp -o reader.o
C:/Rtools/mingw_64/bin/gcc -I"C:/Users/BIOCBU~1/BBS-3~1.10-/R/include" -DNDEBUG -D_FILE_OFFSET_BITS=64 -I"C:/Users/biocbuild/bbs-3.10-bioc/R/library/Rhtslib/include" -I"C:/Users/biocbuild/bbs-3.10-bioc/R/library/Rcpp/include" -I"C:/extsoft/include" -O2 -Wall -std=gnu99 -mtune=core2 -c sam.c -o sam.o
C:/Rtools/mingw_64/bin/g++ -std=gnu++11 -I"C:/Users/BIOCBU~1/BBS-3~1.10-/R/include" -DNDEBUG -D_FILE_OFFSET_BITS=64 -I"C:/Users/biocbuild/bbs-3.10-bioc/R/library/Rhtslib/include" -I"C:/Users/biocbuild/bbs-3.10-bioc/R/library/Rcpp/include" -I"C:/extsoft/include" -O2 -Wall -mtune=core2 -c sequence.cpp -o sequence.o
C:/Rtools/mingw_64/bin/g++ -std=gnu++11 -I"C:/Users/BIOCBU~1/BBS-3~1.10-/R/include" -DNDEBUG -D_FILE_OFFSET_BITS=64 -I"C:/Users/biocbuild/bbs-3.10-bioc/R/library/Rhtslib/include" -I"C:/Users/biocbuild/bbs-3.10-bioc/R/library/Rcpp/include" -I"C:/extsoft/include" -O2 -Wall -mtune=core2 -c util.cpp -o util.o
C:/Rtools/mingw_64/bin/g++ -std=gnu++11 -shared -s -static-libgcc -o DiffBind.dll tmp.def RcppExports.o bamReader.o bam_plbuf.o bedReader.o bitBucket.o croi_func.o croi_main.o densitySet.o iBucket.o interval.o intervalDensity.o intervalNode.o intervalSet.o intervalTree.o merge.o mergeOne.o nodeGroup.o peakOrder.o reader.o sam.o sequence.o util.o C:/Users/biocbuild/bbs-3.10-bioc/R/library/Rhtslib/usrlib/x64/libhts.a -LC:/extsoft/lib/x64 -lcurl -lrtmp -lssl -lssh2 -lcrypto -lgdi32 -lz -lws2_32 -lwldap32 -lwinmm -LC:/extsoft/lib/x64 -LC:/extsoft/lib -LC:/Users/BIOCBU~1/BBS-3~1.10-/R/bin/x64 -lR
installing to C:/Users/biocbuild/bbs-3.10-bioc/meat/DiffBind.buildbin-libdir/DiffBind/libs/x64
** testing if installed package can be loaded
* MD5 sums
packaged installation of 'DiffBind' as DiffBind_2.14.0.zip
* DONE (DiffBind)
* installing to library 'C:/Users/biocbuild/bbs-3.10-bioc/R/library'
package 'DiffBind' successfully unpacked and MD5 sums checked